Workbook

Sheet Suvestinė
B1: 2022
B2: Rodiklis | C2: Reikšmė
B3: Premjerų skaičius | C3: 234
B4: Lietuviškų filmų premjerų skaičius | C4: 26
B5: Bendras filmų skaičius | C5: 341
B6: Bendros pajamos | C6: 18099895
B7: Bendras žiūrovų skaičius | C7: 2993612
B9: Filmų dalis rinkoje, %
B10: Kategorija | C10: Pajamos | D10: Žiūrovų skaičius | E10: Pajamos % | F10: Žiūrovų skaičius % | G10: Filmų skaičius
B11: Lietuva | C11: 3680847.2 | D11: 576666 | E11: 20.336 | F11: 19.263 | G11: 35
B12: Europa | C12: 1843392.5 | D12: 353908 | E12: 10.185 | F12: 11.822 | G12: 183
B13: JAV | C13: 12373399 | D13: 2024697 | E13: 68.362 | F13: 67.634 | G13: 110
B14: Kita | C14: 202256.31 | D14: 38341 | E14: 1.117 | F14: 1.281 | G14: 13
B15: Total | C15: =SUBTOTAL(109,Table1[Pajamos]) -> 18099895 | D15: =SUBTOTAL(109,Table1[Žiūrovų skaičius]) -> 2993612 | E15: =SUBTOTAL(109,Table1[Pajamos %]) -> 100 | F15: =SUBTOTAL(109,Table1[Žiūrovų skaičius %]) -> 100 | G15: =SUBTOTAL(109,Table1[Filmų skaičius]) -> 341
B46: Pasiskirstymas pagal platintojus
A47: Eil. nr | B47: Platintojas | C47: Pajamos | D47: Žiūrovų skaičius | E47: Filmų skaičius | F47: Pajamos % | G47: Žiūrovų skaičius %
A48: =IF(B48<>"",ROWS($B$48:B48),"") -> 1 | B48: Theatrical Film Distribution / WDSMPI | C48: 3292731.2 | D48: 500395 | E48: 18 | F48: 18.192 | G48: 16.715
A49: =IF(B49<>"",ROWS($B$48:B49),"") -> 2 | B49: Dukine Film Distribution / Universal Pictures International | C49: 2949286 | D49: 527731 | E49: 22 | F49: 16.294 | G49: 17.629
A50: =IF(B50<>"",ROWS($B$48:B50),"") -> 3 | B50: ACME Film / SONY | C50: 1826829.2 | D50: 283431 | E50: 10 | F50: 10.093 | G50: 9.468
A51: =IF(B51<>"",ROWS($B$48:B51),"") -> 4 | B51: ACME Film / WB | C51: 1753814.5 | D51: 280831 | E51: 15 | F51: 9.69 | G51: 9.381
A52: =IF(B52<>"",ROWS($B$48:B52),"") -> 5 | B52: ACME Film | C52: 1645119.1 | D52: 285462 | E52: 31 | F52: 9.089 | G52: 9.536
A53: =IF(B53<>"",ROWS($B$48:B53),"") -> 6 | B53: Dukine Film Distribution / Paramount Pictures | C53: 1477232.9 | D53: 249514 | E53: 8 | F53: 8.162 | G53: 8.335
A54: =IF(B54<>"",ROWS($B$48:B54),"") -> 7 | B54: Garsų pasaulio įrašai | C54: 1118490 | D54: 204064 | E54: 30 | F54: 6.18 | G54: 6.817
A55: =IF(B55<>"",ROWS($B$48:B55),"") -> 8 | B55: Kino kultas | C55: 988254.99 | D55: 141651 | E55: 1 | F55: 5.46 | G55: 4.732
A56: =IF(B56<>"",ROWS($B$48:B56),"") -> 9 | B56: Dublis LT | C56: 584644 | D56: 82080 | E56: 1 | F56: 3.23 | G56: 2.742
A57: =IF(B57<>"",ROWS($B$48:B57),"") -> 10 | B57: Europos kinas | C57: 315961.02 | D57: 54220 | E57: 37 | F57: 1.746 | G57: 1.811
A58: =IF(B58<>"",ROWS($B$48:B58),"") -> 11 | B58: Munis | C58: 313120.62 | D58: 48658 | E58: 1 | F58: 1.73 | G58: 1.625
A59: =IF(B59<>"",ROWS($B$48:B59),"") -> 12 | B59: A-One Films | C59: 297467.64 | D59: 51660 | E59: 29 | F59: 1.643 | G59: 1.726
... A88: =IF(B88<>"",ROWS($B$48:B88),"") -> 41 | B88: Greta Garbo Films | C88: 250 | D88: 56 | E88: 2 | F88: 0.001 | G88: 0.002
A89: Total | C89: =SUBTOTAL(109,Table18[Pajamos]) -> 18099895 | D89: =SUBTOTAL(109,Table18[Žiūrovų skaičius]) -> 2993612 | E89: =SUBTOTAL(109,Table18[Filmų skaičius]) -> 341 | F89: =SUBTOTAL(109,Table18[Pajamos %]) -> 99.998 | G89: =SUBTOTAL(109,Table18[Žiūrovų skaičius %]) -> 100
A92: LT TOP
A93: Eil. Nr. | B93: Filmo pavadinimas | C93: Pajamos | D93: Žiūrovų skaičius | E93: Premjeros data | F93: Platintojas
A94: 1 | B94: Piktųjų karta | C94: 988254.99 | D94: 141651 | E94: 44848 | F94: Kino kultas
A95: 2 | B95: Vyras už pinigus | C95: 584644 | D95: 82080 | E95: 44561 | F95: Dublis LT
A96: 3 | B96: Ko nežino vyrai | C96: 518312.4 | D96: 75224 | E96: 44820 | F96: ACME Film
A97: 4 | B97: Kartą kaime | C97: 313120.62 | D97: 48658 | E97: 44736 | F97: Munis
A98: 5 | B98: Skyrybos | C98: 204404.83 | D98: 31926 | E98: 44883 | F98: „Lumo“ studija
A99: 6 | B99: Drugelio Širdis | C99: 183119.48 | D99: 45461 | E99: 44659 | F99: ACME Film
A100: 7 | B100: Vesper | C100: 176631.85 | D100: 30082 | E100: 44834 | F100: Europos kinas
A101: 8 | B101: Kernagis | C101: 144814.95 | D101: 24578 | E101: 44610 | F101: Kino pasaka
A102: 9 | B102: ReEmigrantai | C102: 120691.34 | D102: 17698 | E102: 44925 | F102: Stambus planas
A103: 10 | B103: Rūpintojėlis | C103: 103895.06 | D103: 16125 | E103: 44869 | F103: ACME Film

Sheet Platintojų pasiskirstymas
A1: Platintojas | B1: Filmo pavadinimas | C1: Pajamos | D1: Žiūrovų skaičius | E1: Premjeros data
A2: Theatrical Film Distribution / WDSMPI | B2: Įsikūnijimas. Vandens kelias (Avatar: The Way of Water) | C2: 1193119.7 | D2: 161952 | E2: 44911
B3: Daktaras Streindžas beprotybės multivisatoje (Doctor Strange in the Multiverse of Madness) | C3: 424703.92 | D3: 60063 | E3: 44687
B4: Toras. Meilė ir griaustinis (Thor: Love and Thunder) | C4: 371927.39 | D4: 52747 | E4: 44750
B5: Raudonoji panda (Turning Red) | C5: 286967.92 | D5: 57790 | E5: 44631
B6: Juodoji pantera. Wakanda amžiams (Black Panther: Wakanda Forever) | C6: 262403.53 | D6: 36255 | E6: 44876
B7: Keistas pasaulis (Strange World) | C7: 130112.97 | D7: 25110 | E7: 44890
B8: Įsikūnijimas (kartojimas) (Avatar (Re-release)) | C8: 101678.21 | D8: 15571 | E8: 44827
B9: Meniu (Menu) | C9: 98205.43 | D9: 15756 | E9: 44883
B10: Mirtis ant Nilo (Death On The Nile) | C10: 96261 | D10: 15103 | E10: 44603
B11: Šviesmetis (Lightyear) | C11: 80594.55 | D11: 18200 | E11: 44729
B12: Enkanto (Encanto) | C12: 70752.61 | D12: 14122 | E12: 44526
B13: Košmarų skersgatvis (Nightmare Alley) | C13: 67235.61 | D13: 10331 | E13: 44582
B14: King's Man. Pradžia (The King's Man) | C14: 59808.29 | D14: 9010 | E14: 44561
... B19: Paskutinė dvikova (The Last Duel) | C19: 145 | D19: 29 | E19: 44484
A20: Theatrical Film Distribution / WDSMPI Total | B20: =COUNTA(B2:B19) -> 18 | C20: 3292731.2 | D20: 500395
A21: Dukine Film Distribution / Universal Pictures International | B21: Pakalikai 2 (Minions: The Rise of Gru) | C21: 1340481.4 | D21: 248873 | E21: 44743
B22: Batuotas katinas Pūkis: paskutinis noras (Puss in Boots: The Last Wish) | C22: 311123.28 | D22: 59594 | E22: 44916
B23: Blogiukai (Bad Guys) | C23: 207212.15 | D23: 42102 | E23: 44638
B24: Dainuok 2 (Sing 2) | C24: 198792.05 | D24: 39466 | E24: 44552
B25: Jūros periodo pasaulis. Viešpatavimas (Jurassic World: Dominion) | C25: 194741.09 | D25: 30379 | E25: 44722
B26: Bilietas į rojų (Ticket To Paradise) | C26: 119805.53 | D26: 18919 | E26: 44820
B27: Gucci mados namai (House of Gucci) | C27: 115166.4 | D27: 17294 | E27: 44526
B28: Atsitiktinis jaunikis (Marry Me) | C28: 112034 | D28: 15745 | E28: 44603
B29: Juodas telefonas (The Black Phone) | C29: 90039.98 | D29: 13670 | E29: 44736
B30: Vikingas (The Northman) | C30: 69600.17 | D30: 10706 | E30: 44666
B31: Ne (Nope) | C31: 46524.38 | D31: 7263 | E31: 44785
B32: Helovinas baigiasi (Halloween Ends) | C32: 35538.55 | D32: 5976 | E32: 44848
B33: Greitoji pagalba (Ambulance) | C33: 22738 | D33: 3537 | E33: 44638
... B42: Pradink (Get Out) | C42: 467 | D42: 94 | E42: 42832
A43: Dukine Film Distribution / Universal Pictures International Total | B43: =COUNTA(B21:B42) -> 22 | C43: 2949286 | D43: 527731
A44: ACME Film / SONY | B44: Ten, kur gieda vėžiai (Where the Crawdads Sing) | C44: 645373.32 | D44: 99270 | E44: 44792
B45: Žmogus voras: nėra kelio atgal (Spiderman No Way Home) | C45: 298115.59 | D45: 43896 | E45: 44547
B46: Neatrastas (Uncharted) | C46: 250092.83 | D46: 36559 | E46: 44610
B47: Lilas, Lilas, Krokodilas (Lyle Lyle Crocodile) | C47: 184243.05 | D47: 36237 | E47: 44869
B48: Kulkų ekspresas (Bullet Train) | C48: 177262.4 | D48: 26406 | E48: 44778
B49: Morbijus (Morbius) | C49: 99477.75 | D49: 13963 | E49: 44652
B50: Aš noriu šokti. Whitney Houston filmas (I wanna dance with somebody) | C50: 90730.6 | D50: 14247 | E50: 44916
B51: Kraujo kvietimas (Invitation) | C51: 46452.04 | D51: 7392 | E51: 44799
B52: Dragon Ball Super: Super Hero (Dragon Ball Super: Super Hero) | C52: 34441.66 | D52: 5201 | E52: 44799
B53: Triušis Piteris2: Pabėgimas (Peter Rabbit 2) | C53: 639.92 | D53: 260 | E53: 44358
A54: ACME Film / SONY Total | B54: =COUNTA(B44:B53) -> 10 | C54: 1826829.2 | D54: 283431
A55: ACME Film / WB | B55: Betmenas (The Batman) | C55: 369596.98 | D55: 52890 | E55: 44624
B56: DC Superaugintinių lyga (DC League of Super-Pets) | C56: 320809.1 | D56: 68352 | E56: 44771
B57: Fantastiniai gyvūnai: Dumbldoro paslaptys (Fantastic Beasts: The Secrets of Dumbledore) | C57: 314073.93 | D57: 44326 | E57: 44666
B58: Elvis (Elvis) | C58: 250831.02 | D58: 38976 | E58: 44736
B59: Juodasis Adamas (Black Adam) | C59: 221096.56 | D59: 32324 | E59: 44855
B60: Nesijaudink, brangioji (Don't Worry Darling) | C60: 167648.7 | D60: 26727 | E60: 44827
B61: Matrica. Prisikėlimas (Matrix Resurrecations) | C61: 59899.69 | D61: 9046 | E61: 44554
B62: Williams metodas (King Richard) | C62: 30378.12 | D62: 4802 | E62: 44617
B63: Kaulai ir visa kita (Bones and All) | C63: 12207.22 | D63: 2288 | E63: 44890
B64: Fantastiniai gyvūnai: Grindelvaldo piktadarystės (Fantastic Beasts: Crimes of Grindelwald) | C64: 2314.5 | D64: 412 | E64: 43420
B65: Fantastiniai gyvūnai ir kur juos rasti (Fantastic Beasts And Where To Find Them) | C65: 2314.5 | D65: 412 | E65: 42692
B66: Tamsos riteris (Dark Knight) | C66: 668.67 | D66: 39 | E66: 39654
B67: Tamsos riterio sugrįžimas (Dark Knight Rise) | C67: 668.67 | D67: 40 | E67: 41117
... B69: Kopa (Dune) | C69: 638.2 | D69: 158 | E69: 44456
A70: ACME Film / WB Total | B70: =COUNTA(B55:B69) -> 15 | C70: 1753814.5 | D70: 280831
A71: ACME Film | B71: Ko nežino vyrai (Ko nežino vyrai) | C71: 518312.4 | D71: 75224 | E71: 44820
B72: Drugelio Širdis (Drugelio Širdis) | C72: 183119.48 | D72: 45461 | E72: 44659
B73: Moonfall: Mėnulio kritimas (Moonfall) | C73: 154444.9 | D73: 21578 | E73: 44596
B74: Rūpintojėlis (Rūpintojėlis) | C74: 103895.06 | D74: 16125 | E74: 44869
B75: Liepsnojanti širdis (Fireheart) | C75: 100581.27 | D75: 21021 | E75: 44603
B76: Našlaitė: Pirmoji auka (Orphan First Kill) | C76: 99630.67 | D76: 14892 | E76: 44771
B77: Tigro kelionė Himalajuose (Tigers Nest) | C77: 84032.41 | D77: 16946 | E77: 44855
B78: Marmadukas (Marmaduke) | C78: 74073.18 | D78: 17228 | E78: 44715
B79: Velnio šviesa (Devil's Light ) | C79: 58288.34 | D79: 8296 | E79: 44897
B80: Šuo (Dog) | C80: 49656.78 | D80: 7916 | E80: 44638
B81: Guliveris grįžta (Gulliver Returns) | C81: 32877.57 | D81: 7593 | E81: 44792
B82: Nepakeliamas milžiniško talento svoris (Unbearable Weight of Massive Talent) | C82: 30855.07 | D82: 4756 | E82: 44673
B83: Spencer (Spencer) | C83: 30622.25 | D83: 5036 | E83: 44631
... B101: Mano mielas monstras (My Sweet Monster) | C101: 11.1 | D101: 2 | E101: 44505
A102: ACME Film Total | B102: =COUNTA(B71:B101) -> 31 | C102: 1645119.1 | D102: 285462
A103: Dukine Film Distribution / Paramount Pictures | B103: Ežiukas Sonic 2 (Sonic The Hedgehog 2) | C103: 423160.67 | D103: 83186 | E103: 44652
B104: Asas Maverikas (Top Gun Maverick) | C104: 363003.32 | D104: 54439 | E104: 44708
B105: Šypsena (Smile) | C105: 227664.45 | D105: 34537 | E105: 44834
B106: Prarastas miestas (The Lost City) | C106: 189029.38 | D106: 27960 | E106: 44659
B107: Dičkis šuo Klifordas (Clifford The Big Red Dog) | C107: 183761.71 | D107: 36516 | E107: 44568
B108: Klyksmas 5 (Scream 5) | C108: 72931.33 | D108: 10372 | E108: 44575
B109: Jackass amžinai (Jackass Forever) | C109: 15623 | D109: 2382 | E109: 44610
B110: Krikštatėvis (Trilogijos maratonas) (The Godfather (Trilogy Marathon)) | C110: 2059 | D110: 122 | E110: 44633
A111: Dukine Film Distribution / Paramount Pictures Total | B111: =COUNTA(B103:B110) -> 8 | C111: 1477232.9 | D111: 249514
A112: Garsų pasaulio įrašai | B112: Pasiutusios letenos. Henko legenda (Paws of fury) | C112: 206914 | D112: 41636 | E112: 44820
B113: Eskortės (Girls To Buy) | C113: 118926 | D113: 17638 | E113: 44673
B114: Fėja išdykėlė (My Fairy Troublemaker) | C114: 116315 | D114: 23788 | E114: 44848
B115: AFTER. Kai tapome laimingi (After Ever Happy) | C115: 87519 | D115: 12818 | E115: 44806
B116: Mr. Landsbergis. Sugriauti blogio imperiją (Mr. Landsbergis. Sugriauti blogio imperiją) | C116: 52322 | D116: 9285 | E116: 44574
B117: Monstrų šeimynėlė 2 (Happy Family 2) | C117: 49598 | D117: 9989 | E117: 44617
B118: Bunkerio žaidimas (The Bunker game) | C118: 49145 | D118: 7312 | E118: 44666
B119: Lobis (Lobis) | C119: 47374 | D119: 9715 | E119: 44596
B120: Kambarys 203 (Room 203) | C120: 45239 | D120: 7588 | E120: 44701
B121: Bitė Maja. Auksinis kiaušinis (Maya the Bee 3: The Golden Orb) | C121: 43471 | D121: 9318 | E121: 44694
B122: Meškio Tedžio Kalėdos (Teddy’s Christmas) | C122: 40880 | D122: 8795 | E122: 44911
B123: Ups! Nuotykiai tęsiasi (Ooops! The adventure continues) | C123: 40831 | D123: 8585 | E123: 44680
B124: Kaip patenkinti moterį (How To Please A Woman) | C124: 35665 | D124: 5483 | E124: 44750
... B141: Metai prieš karą (Gads pirms kara) | C141: 4 | D141: 1 | E141: 44547
A142: Garsų pasaulio įrašai Total | B142: =COUNTA(B112:B141) -> 30 | C142: 1118490 | D142: 204064
A143: Kino kultas | B143: Piktųjų karta (Piktųjų karta) | C143: 988254.99 | D143: 141651 | E143: 44848
A144: Kino kultas Total | B144: =COUNTA(B143) -> 1 | C144: 988254.99 | D144: 141651
A145: Dublis LT | B145: Vyras už pinigus (Vyras už pinigus) | C145: 584644 | D145: 82080 | E145: 44561
A146: Dublis LT Total | B146: =COUNTA(B145) -> 1 | C146: 584644 | D146: 82080
...

Sheet 2022
A1: 2022
A2: Lietuvos kino teatruose rodytų filmų TOP
A5: Eil. Nr. | B5: Filmo pavadinimas | C5: Filmo pavadinimas originalo kalba | D5: Kilmės šalis | E5: Pajamos | F5: Žiūrovų skaičius | G5: Kopijų skaičius | H5: Premjeros data | I5: Platintojas
A6: =IF(B6<>"",ROWS($B$6:B6),"") -> 1 | B6: Pakalikai 2 | C6: Minions: The Rise of Gru | D6: US | E6: 1340481.4 | F6: 248873 | G6: 32 | H6: 44743 | I6: Dukine Film Distribution / Universal Pictures
A7: =IF(B7<>"",ROWS($B$6:B7),"") -> 2 | B7: Įsikūnijimas. Vandens kelias | C7: Avatar: The Way of Water | D7: US | E7: 1193119.7 | F7: 161952 | G7: 33 | H7: 44911 | I7: Theatrical Film Distribution / WDSMPI
A8: =IF(B8<>"",ROWS($B$6:B8),"") -> 3 | B8: Piktųjų karta | C8: Piktųjų karta | D8: LT | E8: 988254.99 | F8: 141651 | G8: 16 | H8: 44848 | I8: Kino kultas
A9: =IF(B9<>"",ROWS($B$6:B9),"") -> 4 | B9: Ten, kur gieda vėžiai | C9: Where the Crawdads Sing | D9: US | E9: 645373.32 | F9: 99270 | G9: 19 | H9: 44792 | I9: ACME Film / SONY
A10: =IF(B10<>"",ROWS($B$6:B10),"") -> 5 | B10: Vyras už pinigus | C10: Vyras už pinigus | D10: LT | E10: 584644 | F10: 82080 | G10: 19 | H10: 44561 | I10: Dublis LT
A11: =IF(B11<>"",ROWS($B$6:B11),"") -> 6 | B11: Ko nežino vyrai | C11: Ko nežino vyrai | D11: LT | E11: 518312.4 | F11: 75224 | G11: 19 | H11: 44820 | I11: ACME Film
A12: =IF(B12<>"",ROWS($B$6:B12),"") -> 7 | B12: Daktaras Streindžas beprotybės multivisatoje | C12: Doctor Strange in the Multiverse of Madness | D12: US | E12: 424703.92 | F12: 60063 | G12: 29 | H12: 44687 | I12: Theatrical Film Distribution / WDSMPI
A13: =IF(B13<>"",ROWS($B$6:B13),"") -> 8 | B13: Ežiukas Sonic 2 | C13: Sonic The Hedgehog 2 | D13: US, CA, JP | E13: 423160.67 | F13: 83186 | G13: 19 | H13: 44652 | I13: Dukine Film Distribution / Paramount Pictures
A14: =IF(B14<>"",ROWS($B$6:B14),"") -> 9 | B14: Toras. Meilė ir griaustinis | C14: Thor: Love and Thunder | D14: US | E14: 371927.39 | F14: 52747 | G14: 29 | H14: 44750 | I14: Theatrical Film Distribution / WDSMPI
A15: =IF(B15<>"",ROWS($B$6:B15),"") -> 10 | B15: Betmenas | C15: The Batman | D15: US | E15: 369596.98 | F15: 52890 | G15: 19 | H15: 44624 | I15: ACME Film / WB
A16: =IF(B16<>"",ROWS($B$6:B16),"") -> 11 | B16: Asas Maverikas | C16: Top Gun Maverick | D16: US | E16: 363003.32 | F16: 54439 | G16: 19 | H16: 44708 | I16: Dukine Film Distribution / Paramount Pictures
A17: =IF(B17<>"",ROWS($B$6:B17),"") -> 12 | B17: DC Superaugintinių lyga | C17: DC League of Super-Pets | D17: US | E17: 320809.1 | F17: 68352 | G17: 17 | H17: 44771 | I17: ACME Film / WB
... A346: =IF(B346<>"",ROWS($B$6:B346),"") -> 341 | B346: Metai prieš karą | C346: Gads pirms kara | D346: LV, CZ, LT | E346: 4 | F346: 1 | G346: 1 | H346: 44547 | I346: Garsų pasaulio įrašai
A347: Total | B347: =SUBTOTAL(103,_2022[Filmo pavadinimas]) -> 341 | E347: =SUBTOTAL(109,_2022[Pajamos]) -> 18099895 | F347: =SUBTOTAL(109,_2022[Žiūrovų skaičius]) -> 2993612
D349: Mėnuo | E349: Pajamos | F349: Žiūrovų skaičius
D350: Sausis | E350: =Sausis[[#Totals],[Pajamos]] -> 1738351.6 | F350: =Sausis[[#Totals],[Žiūrovų skaičius]] -> 278719
D351: Vasaris | E351: =Table3_Vasaris[[#Totals],[Pajamos]] -> 1207375.2 | F351: =Table3_Vasaris[[#Totals],[Žiūrovų skaičius]] -> 199273
D352: Kovas | E352: =Kovas[[#Totals],[Pajamos]] -> 1047727.1 | F352: =Kovas[[#Totals],[Žiūrovų skaičius]] -> 177135
D353: Balandis | E353: =Table3_Balandis[[#Totals],[Pajamos]] -> 1511852.6 | F353: =Table3_Balandis[[#Totals],[Žiūrovų skaičius]] -> 257001
D354: Gegužė | E354: =Table3_Gegužė[[#Totals],[Pajamos]] -> 1064324.8 | F354: =Table3_Gegužė[[#Totals],[Žiūrovų skaičius]] -> 179418
D355: Birželis | E355: =Table3_Birželis[[#Totals],[Pajamos]] -> 911897.59 | F355: =Table3_Birželis[[#Totals],[Žiūrovų skaičius]] -> 169747
D356: Liepa | E356: =Table3_Liepa[[#Totals],[Pajamos]] -> 2086899.8 | F356: =Table3_Liepa[[#Totals],[Žiūrovų skaičius]] -> 352813
D357: Rugpjūtis | E357: =Table3_Rugpjūtis[[#Totals],[Pajamos]] -> 1220663.3 | F357: =Table3_Rugpjūtis[[#Totals],[Žiūrovų skaičius]] -> 213097
D358: Rugsėjis | E358: =Table3_Rugsėjis[[#Totals],[Pajamos]] -> 1369162.8 | F358: =Table3_Rugsėjis[[#Totals],[Žiūrovų skaičius]] -> 225311
D359: Spalis | E359: =Table3_Spalis[[#Totals],[Pajamos]] -> 1827775.9 | F359: =Table3_Spalis[[#Totals],[Žiūrovų skaičius]] -> 293682
D360: Lapkritis | E360: =Table3_Lapkritis[[#Totals],[Pajamos]] -> 1739297.4 | F360: =Table3_Lapkritis[[#Totals],[Žiūrovų skaičius]] -> 276613
D361: Gruodis | E361: =Table3_Gruodis[[#Totals],[Pajamos]] -> 2374567.3 | F361: =Table3_Gruodis[[#Totals],[Žiūrovų skaičius]] -> 370803
D362: Iš viso | E362: =SUM(E350:E361) -> 18099895 | F362: =SUM(F350:F361) -> 2993612

Sheet Sausis
A1: ='2022'!A1 -> 2022
A2: ='2022'!A2 -> Lietuvos kino teatruose rodytų filmų TOP
A3: Sausis
A5: Eil. Nr. | B5: Filmo pavadinimas | C5: Filmo pavadinimas originalo kalba | D5: Kilmės šalis | E5: Pajamos | F5: Žiūrovų skaičius | G5: Kopijų skaičius | H5: Premjeros data | I5: Platintojas
A6: =IF(B6<>"",ROWS($B$6:B6),"") -> 1 | B6: Vyras už pinigus | C6: Vyras už pinigus | D6: LT | E6: 511393.79 | F6: 71219 | G6: 19 | H6: 44561 | I6: Dublis LT
A7: =IF(B7<>"",ROWS($B$6:B7),"") -> 2 | B7: Žmogus voras: nėra kelio atgal | C7: Spiderman No Way Home | D7: US | E7: 259787.38 | F7: 37871 | G7: 13 | H7: 44547 | I7: ACME Film / SONY
A8: =IF(B8<>"",ROWS($B$6:B8),"") -> 3 | B8: Dainuok 2 | C8: Sing 2 | D8: US | E8: 169278.26 | F8: 33359 | G8: 19 | H8: 44552 | I8: Dukine Film Distribution / Universal Pictures
A9: =IF(B9<>"",ROWS($B$6:B9),"") -> 4 | B9: Dičkis šuo Klifordas | C9: Clifford The Big Red Dog | D9: US, UK, CA | E9: 140631.2 | F9: 27474 | G9: 18 | H9: 44568 | I9: Dukine Film Distribution / Paramount Pictures
A10: =IF(B10<>"",ROWS($B$6:B10),"") -> 5 | B10: Gucci mados namai | C10: House of Gucci | D10: US | E10: 98246.64 | F10: 14716 | G10: 12 | H10: 44526 | I10: Dukine Film Distribution / Universal Pictures
A11: =IF(B11<>"",ROWS($B$6:B11),"") -> 6 | B11: Klyksmas 5 | C11: Scream 5 | D11: US | E11: 62804.88 | F11: 8888 | G11: 15 | H11: 44575 | I11: Dukine Film Distribution / Paramount Pictures
A12: =IF(B12<>"",ROWS($B$6:B12),"") -> 7 | B12: Matrica. Prisikėlimas | C12: Matrix Resurrecations | D12: US | E12: 58296.94 | F12: 8815 | G12: 14 | H12: 44554 | I12: ACME Film / WB
A13: =IF(B13<>"",ROWS($B$6:B13),"") -> 8 | B13: AINBO | C13: AINBO: Spirit of the Amazon | D13: PE, NL | E13: 57620 | F13: 11860 | G13: 15 | H13: 44561 | I13: Best Film
A14: =IF(B14<>"",ROWS($B$6:B14),"") -> 9 | B14: King's Man. Pradžia | C14: The King's Man | D14: US, UK | E14: 57243.04 | F14: 8650 | G14: 16 | H14: 44561 | I14: Theatrical Film Distribution / WDSMPI
A15: =IF(B15<>"",ROWS($B$6:B15),"") -> 10 | B15: Rusiški svingeriai | C15: Swingers | D15: RU | E15: 41116.81 | F15: 5931 | G15: 9 | H15: 44568 | I15: Theatrical Film Distribution
A16: =IF(B16<>"",ROWS($B$6:B16),"") -> 11 | B16: Mr. Landsbergis. Sugriauti blogio imperiją | C16: Mr. Landsbergis. Sugriauti blogio imperiją | D16: LT, UA | E16: 37890 | F16: 6366 | G16: 17 | H16: 44574 | I16: Garsų pasaulio įrašai
A17: =IF(B17<>"",ROWS($B$6:B17),"") -> 12 | B17: Košmarų skersgatvis | C17: Nightmare Alley | D17: US | E17: 33988.14 | F17: 5280 | G17: 18 | H17: 44582 | I17: Theatrical Film Distribution / WDSMPI
A18: =IF(B18<>"",ROWS($B$6:B18),"") -> 13 | B18: Trys riešutėliai pelenei | C18: Three Wishes for Cinderella | D18: NO | E18: 27718 | F18: 5084 | G18: 15 | H18: 44582 | I18: Travolta
A19: =IF(B19<>"",ROWS($B$6:B19),"") -> 14 | B19: Enkanto | C19: Encanto | D19: US | E19: 24014.71 | F19: 4835 | G19: 10 | H19: 44526 | I19: Theatrical Film Distribution / WDSMPI
A20: =IF(B20<>"",ROWS($B$6:B20),"") -> 15 | B20: Užburta arka | C20: Magic Arch | D20: DE | E20: 22733 | F20: 4809 | G20: 17 | H20: 44575 | I20: Garsų pasaulio įrašai
A21: =IF(B21<>"",ROWS($B$6:B21),"") -> 16 | B21: Eglutės 8 | C21: Ёлки 8 | D21: RU | E21: 14146 | F21: 2148 | G21: 6 | H21: 44547 | I21: Garsų pasaulio įrašai
A22: =IF(B22<>"",ROWS($B$6:B22),"") -> 17 | B22: Agentės 355 | C22: The 355 | D22: US | E22: 13562.6 | F22: 2100 | G22: 13 | H22: 44575 | I22: ACME Film
A23: =IF(B23<>"",ROWS($B$6:B23),"") -> 18 | B23: Mano vilkas | C23: Mystere | D23: FR | E23: 13531.49 | F23: 2506 | G23: 19 | H23: 44589 | I23: Theatrical Film Distribution
A24: =IF(B24<>"",ROWS($B$6:B24),"") -> 19 | B24: Misija "Meškučiai" | C24: Teddy Boom | D24: RU | E24: 12229.43 | F24: 2498 | G24: 16 | H24: 44582 | I24: ACME Film
A25: =IF(B25<>"",ROWS($B$6:B25),"") -> 20 | B25: Auksas | C25: Gold | D25: AU | E25: 9596.4 | F25: 1217 | G25: 16 | H25: 44589 | I25: Theatrical Film Distribution
A26: =IF(B26<>"",ROWS($B$6:B26),"") -> 21 | B26: Šuolis | C26: Šuolis | D26: LT | E26: 9139.4 | F26: 1635 | G26: 4 | H26: 44456 | I26: Moonmakers
A27: =IF(B27<>"",ROWS($B$6:B27),"") -> 22 | B27: Planeta Dvynė | C27: Project 'Gemini' | D27: RU | E27: 8492 | F27: 1464 | G27: 5 | H27: 44568 | I27: Top Film Baltic
A28: =IF(B28<>"",ROWS($B$6:B28),"") -> 23 | B28: Meilė kaip bestseleris | C28: Book of Love | D28: UK, US, MX | E28: 8081 | F28: 1236 | G28: 17 | H28: 44583 | I28: VLG film
A29: =IF(B29<>"",ROWS($B$6:B29),"") -> 24 | B29: Drąsiau drąsiau | C29: C'mon C'mon | D29: US | E29: 8006 | F29: 1270 | G29: 14 | H29: 44589 | I29: A-One Films
A30: =IF(B30<>"",ROWS($B$6:B30),"") -> 25 | B30: Pasaulio čempionas | C30: Чемпион мира | D30: RU | E30: 7492 | F30: 1168 | G30: 5 | H30: 44582 | I30: Garsų pasaulio įrašai
A31: =IF(B31<>"",ROWS($B$6:B31),"") -> 26 | B31: Prancūzijos kronikos iš Liberčio, Kanzaso vakaro saulės | C31: The French Dispatch of the Liberty, Kansas Evening Sun | D31: US, DE | E31: 5941 | F31: 1183 | G31: 5 | H31: 44512 | I31: Theatrical Film Distribution
A32: =IF(B32<>"",ROWS($B$6:B32),"") -> 27 | B32: Paryžius. 13-as rajonas | C32: Les Olympiades, Paris 13e | D32: FR | E32: 4115 | F32: 760 | G32: 5 | H32: 44561 | I32: A-One Films
A33: =IF(B33<>"",ROWS($B$6:B33),"") -> 28 | B33: Margarita - Šiaurės karalienė | C33: Margrete – Queen of the North | D33: DK, NO, SE, PL, CZ | E33: 3369 | F33: 682 | G33: 6 | H33: 44568 | I33: Estinfilm
A34: =IF(B34<>"",ROWS($B$6:B34),"") -> 29 | B34: Didžioji laisvė | C34: Great freedom | D34: DE | E34: 2772 | F34: 558 | G34: 5 | H34: 44568 | I34: A-One Films
A35: =IF(B35<>"",ROWS($B$6:B35),"") -> 30 | B35: Drive My Car | C35: Drive My Car | D35: JP | E35: 2599.92 | F35: 546 | G35: 4 | H35: 44533 | I35: A-One Films
A36: =IF(B36<>"",ROWS($B$6:B36),"") -> 31 | B36: Aplink pasaulį per 80 dienų | C36: Around The World in 80 days | D36: FR, BE | E36: 1749 | F36: 431 | G36: 4 | H36: 44540 | I36: VLG film
A37: =IF(B37<>"",ROWS($B$6:B37),"") -> 32 | B37: Eifelis | C37: Eiffel | D37: FR | E37: 1670.68 | F37: 293 | G37: 4 | H37: 44533 | I37: VLG film
A38: =IF(B38<>"",ROWS($B$6:B38),"") -> 33 | B38: Bėgikė | C38: Bėgikė | D38: LT | E38: 1294.38 | F38: 225 | G38: 3 | H38: 44519 | I38: M-Films
A39: =IF(B39<>"",ROWS($B$6:B39),"") -> 34 | B39: Meilužiai | C39: Lovers | D39: FR | E39: 1177 | F39: 202 | G39: 3 | H39: 44568 | I39: Best Film
A40: =IF(B40<>"",ROWS($B$6:B40),"") -> 35 | B40: Švelnūs kariai | C40: Švelnūs kariai | D40: LT | E40: 1101 | F40: 227 | G40: 1 | H40: 44526 | I40: Moonmakers
A41: =IF(B41<>"",ROWS($B$6:B41),"") -> 36 | B41: Mirtis palauks | C41: No Time To Die | D41: UK, US | E41: 1011.81 | F41: 191 | G41: 2 | H41: 44470 | I41: Dukine Film Distribution / Universal Pictures
A42: =IF(B42<>"",ROWS($B$6:B42),"") -> 37 | B42: Lobis | C42: Lobis | D42: LT | E42: 722 | F42: 180 | G42: 4 | H42: 44596 | I42: Garsų pasaulio įrašai
A43: =IF(B43<>"",ROWS($B$6:B43),"") -> 38 | B43: Įsimylėjusi Figaro | C43: Falling for Figaro | D43: US, UK | E43: 633 | F43: 113 | G43: 2 | H43: 44554 | I43: Kino pasaka
A44: =IF(B44<>"",ROWS($B$6:B44),"") -> 39 | B44: Vestsaido istorija | C44: West Side Story | D44: US | E44: 387.5 | F44: 93 | G44: 3 | H44: 44540 | I44: Theatrical Film Distribution / WDSMPI
A45: =IF(B45<>"",ROWS($B$6:B45),"") -> 40 | B45: Paralelinės mamos | C45: Parallel Mothers | D45: ES | E45: 374.83 | F45: 70 | G45: 2 | H45: 44477 | I45: VLG film
A46: =IF(B46<>"",ROWS($B$6:B46),"") -> 41 | B46: Alkio skonis | C46: A Taste of Hunger | D46: DK | E46: 369 | F46: 77 | G46: 2 | H46: 44554 | I46: Best Film
A47: =IF(B47<>"",ROWS($B$6:B47),"") -> 42 | B47: Kalėdos džiunglėse | C47: Christmas in the Jungle | D47: LV | E47: 321.26 | F47: 74 | G47: 1 | H47: 44547 | I47: ACME Film
A48: =IF(B48<>"",ROWS($B$6:B48),"") -> 43 | B48: Sinefilija | C48: Sinefilija | D48: LT | E48: 258 | F48: 76 | G48: 2 | H48: 44533 | I48: Garsų pasaulio įrašai
A49: =IF(B49<>"",ROWS($B$6:B49),"") -> 44 | B49: Kaip „Titanikas“ mane išgelbėjo | C49: How the Titanic Became My Lifeboat | D49: IS | E49: 225 | F49: 49 | G49: 2 | H49: 44512 | I49: Theatrical Film Distribution
A50: =IF(B50<>"",ROWS($B$6:B50),"") -> 45 | B50: Gauja | C50: Smecka | D50: CZ, SK, LV | E50: 200 | F50: 50 | G50: 1 | H50: 44330 | I50: Skalvijos kino centras
A51: =IF(B51<>"",ROWS($B$6:B51),"") -> 46 | B51: Teisingumo riteriai | C51: Retfærdighedens ryttere | D51: SE, DK, FI | E51: 179 | F51: 39 | G51: 2 | H51: 44519 | I51: Estinfilm
A52: =IF(B52<>"",ROWS($B$6:B52),"") -> 47 | B52: Kopa | C52: Dune | D52: US | E52: 175 | F52: 47 | G52: 1 | H52: 44456 | I52: ACME Film / WB
A53: =IF(B53<>"",ROWS($B$6:B53),"") -> 48 | B53: Paskutinė dvikova | C53: The Last Duel | D53: US | E53: 145 | F53: 29 | G53: 1 | H53: 44484 | I53: Theatrical Film Distribution / WDSMPI
A54: =IF(B54<>"",ROWS($B$6:B54),"") -> 49 | B54: (Ne)Tobulas vyras | C54: I'm Your Man | D54: DE | E54: 123 | F54: 25 | G54: 1 | H54: 44421 | I54: VLG film
A55: =IF(B55<>"",ROWS($B$6:B55),"") -> 50 | B55: Kalėdos Islandijoje | C55: Bergmál | D55: IS | E55: 120 | F55: 30 | G55: 2 | H55: 44547 | I55: Greta Garbo
A56: =IF(B56<>"",ROWS($B$6:B56),"") -> 51 | B56: Klajoklių žemė | C56: Nomadland | D56: US | E56: 96 | F56: 25 | G56: 1 | H56: 44323 | I56: Theatrical Film Distribution / 20th Century Fox
A57: =IF(B57<>"",ROWS($B$6:B57),"") -> 52 | B57: Mano mama gorila | C57: Apstjärnan | D57: SE, DK, FI | E57: 88 | F57: 22 | G57: 1 | H57: 44493 | I57: Skalvijos kino centras
A58: =IF(B58<>"",ROWS($B$6:B58),"") -> 53 | B58: Bintė | C58: Binti | D58: BE | E58: 80 | F58: 20 | G58: 1 | H58: 44080 | I58: Skalvijos kino centras
A59: =IF(B59<>"",ROWS($B$6:B59),"") -> 54 | B59: Mano mielas monstras | C59: My Sweet Monster | D59: RU | E59: 11.1 | F59: 2 | G59: 1 | H59: 44505 | I59: ACME Film
A60: =IF(B60<>"",ROWS($B$6:B60),"") -> 55 | B60: Metai prieš karą | C60: Gads pirms kara | D60: LV, CZ, LT | E60: 4 | F60: 1 | G60: 1 | H60: 44547 | I60: Garsų pasaulio įrašai
E61: =SUBTOTAL(109,Sausis[Pajamos]) -> 1738351.6 | F61: =SUBTOTAL(109,Sausis[Žiūrovų skaičius]) -> 278719

Sheet Vasaris
A1: ='2022'!A1 -> 2022
A2: ='2022'!A2 -> Lietuvos kino teatruose rodytų filmų TOP
A3: Vasaris
A5: Eil. Nr. | B5: Filmo pavadinimas | C5: Filmo pavadinimas originalo kalba | D5: Kilmės šalis | E5: Pajamos | F5: Žiūrovų skaičius | G5: Kopijų skaičius | H5: Premjeros data | I5: Platintojas
A6: =IF(B6<>"",ROWS($B$6:B6),"") -> 1 | B6: Moonfall: Mėnulio kritimas | C6: Moonfall | D6: US, CN, UK | E6: 141898.29 | F6: 19742 | G6: 15 | H6: 44596 | I6: ACME Film
A7: =IF(B7<>"",ROWS($B$6:B7),"") -> 2 | B7: Neatrastas | C7: Uncharted | D7: US | E7: 138542.86 | F7: 18876 | G7: 15 | H7: 44610 | I7: ACME Film / SONY
A8: =IF(B8<>"",ROWS($B$6:B8),"") -> 3 | B8: Atsitiktinis jaunikis | C8: Marry Me | D8: US | E8: 105808.36 | F8: 14720 | G8: 18 | H8: 44603 | I8: Dukine Film Distribution / Universal Pictures
A9: =IF(B9<>"",ROWS($B$6:B9),"") -> 4 | B9: Liepsnojanti širdis | C9: Fireheart | D9: FR, CA | E9: 91195.06 | F9: 18710 | G9: 18 | H9: 44603 | I9: ACME Film
A10: =IF(B10<>"",ROWS($B$6:B10),"") -> 5 | B10: Mirtis ant Nilo | C10: Death On The Nile | D10: US | E10: 81998.85 | F10: 12723 | G10: 18 | H10: 44603 | I10: Theatrical Film Distribution / WDSMPI
A11: =IF(B11<>"",ROWS($B$6:B11),"") -> 6 | B11: Kernagis | C11: Kernagis | D11: LT | E11: 77882.01 | F11: 13144 | G11: 21 | H11: 44610 | I11: Kino pasaka
A12: =IF(B12<>"",ROWS($B$6:B12),"") -> 7 | B12: Vyras už pinigus | C12: Vyras už pinigus | D12: LT | E12: 65291.75 | F12: 9591 | G12: 12 | H12: 44561 | I12: Dublis LT
A13: =IF(B13<>"",ROWS($B$6:B13),"") -> 8 | B13: Lobis | C13: Lobis | D13: LT | E13: 43402 | F13: 8743 | G13: 20 | H13: 44596 | I13: Garsų pasaulio įrašai
A14: =IF(B14<>"",ROWS($B$6:B14),"") -> 9 | B14: Viškis piškis ir tamsos žiurkėnas | C14: Chickenhare and The Hamster of Darkness | D14: BE, FR | E14: 43032.2 | F14: 8871 | G14: 23 | H14: 44610 | I14: VLG film
A15: =IF(B15<>"",ROWS($B$6:B15),"") -> 10 | B15: Žmogus voras: nėra kelio atgal | C15: Spiderman No Way Home | D15: US | E15: 37045.86 | F15: 5807 | G15: 9 | H15: 44547 | I15: ACME Film / SONY
A16: =IF(B16<>"",ROWS($B$6:B16),"") -> 11 | B16: Dičkis šuo Klifordas | C16: Clifford The Big Red Dog | D16: US, UK, CA | E16: 36603.5 | F16: 7231 | G16: 14 | H16: 44568 | I16: Dukine Film Distribution / Paramount Pictures
A17: =IF(B17<>"",ROWS($B$6:B17),"") -> 12 | B17: Košmarų skersgatvis | C17: Nightmare Alley | D17: US | E17: 32645.57 | F17: 4952 | G17: 16 | H17: 44582 | I17: Theatrical Film Distribution / WDSMPI
A18: =IF(B18<>"",ROWS($B$6:B18),"") -> 13 | B18: Dainuok 2 | C18: Sing 2 | D18: US | E18: 27998.73 | F18: 5603 | G18: 12 | H18: 44552 | I18: Dukine Film Distribution / Universal Pictures
A19: =IF(B19<>"",ROWS($B$6:B19),"") -> 14 | B19: Ogliai | C19: The Ogglies | D19: DE, BE | E19: 25885.75 | F19: 5032 | G19: 9 | H19: 44596 | I19: Unlimited Media
A20: =IF(B20<>"",ROWS($B$6:B20),"") -> 15 | B20: Enkanto | C20: Encanto | D20: US | E20: 25547.57 | F20: 4908 | G20: 6 | H20: 44526 | I20: Theatrical Film Distribution / WDSMPI
A21: =IF(B21<>"",ROWS($B$6:B21),"") -> 16 | B21: Mano vilkas | C21: Mystere | D21: FR | E21: 22034.74 | F21: 4344 | G21: 19 | H21: 44589 | I21: Theatrical Film Distribution
A22: =IF(B22<>"",ROWS($B$6:B22),"") -> 17 | B22: Trys riešutėliai pelenei | C22: Three Wishes for Cinderella | D22: NO | E22: 19660.28 | F22: 3843 | G22: 11 | H22: 44582 | I22: Travolta
A23: =IF(B23<>"",ROWS($B$6:B23),"") -> 18 | B23: Monstrų šeimynėlė 2 | C23: Happy Family 2 | D23: DE, UK | E23: 19264 | F23: 3885 | G23: 19 | H23: 44617 | I23: Garsų pasaulio įrašai
A24: =IF(B24<>"",ROWS($B$6:B24),"") -> 19 | B24: Drąsiau drąsiau | C24: C'mon C'mon | D24: US | E24: 16670.78 | F24: 2835 | G24: 6 | H24: 44589 | I24: A-One Films
A25: =IF(B25<>"",ROWS($B$6:B25),"") -> 20 | B25: Gucci mados namai | C25: House of Gucci | D25: US | E25: 16434.66 | F25: 2475 | G25: 8 | H25: 44526 | I25: Dukine Film Distribution / Universal Pictures
A26: =IF(B26<>"",ROWS($B$6:B26),"") -> 21 | B26: Fantazijos tik suaugusiems | C26: Fantasies | D26: FR | E26: 15595 | F26: 2523 | G26: 17 | H26: 44603 | I26: Garsų pasaulio įrašai
A27: =IF(B27<>"",ROWS($B$6:B27),"") -> 22 | B27: Nepaklusnusis | C27: Непослушник | D27: RU | E27: 15277.2 | F27: 2229 | G27: 7 | H27: 44603 | I27: Theatrical Film Distribution
A28: =IF(B28<>"",ROWS($B$6:B28),"") -> 23 | B28: Mr. Landsbergis. Sugriauti blogio imperiją | C28: Mr. Landsbergis. Sugriauti blogio imperiją | D28: LT, UA | E28: 12230 | F28: 2491 | G28: 10 | H28: 44574 | I28: Garsų pasaulio įrašai
A29: =IF(B29<>"",ROWS($B$6:B29),"") -> 24 | B29: Jackass amžinai | C29: Jackass Forever | D29: US | E29: 12159.6 | F29: 1792 | G29: 11 | H29: 44610 | I29: Dukine Film Distribution / Paramount Pictures
A30: =IF(B30<>"",ROWS($B$6:B30),"") -> 25 | B30: Klyksmas 5 | C30: Scream 5 | D30: US | E30: 9878.45 | F30: 1434 | G30: 9 | H30: 44575 | I30: Dukine Film Distribution / Paramount Pictures
A31: =IF(B31<>"",ROWS($B$6:B31),"") -> 26 | B31: Williams metodas | C31: King Richard | D31: US | E31: 9211.72 | F31: 1437 | G31: 18 | H31: 44617 | I31: ACME Film / WB
A32: =IF(B32<>"",ROWS($B$6:B32),"") -> 27 | B32: Auksas | C32: Gold | D32: AU | E32: 6682.27 | F32: 1006 | G32: 17 | H32: 44589 | I32: Theatrical Film Distribution
A33: =IF(B33<>"",ROWS($B$6:B33),"") -> 28 | B33: Šuolis | C33: Šuolis | D33: LT | E33: 6270.86 | F33: 1160 | G33: 4 | H33: 44456 | I33: Moonmakers
A34: =IF(B34<>"",ROWS($B$6:B34),"") -> 29 | B34: Šešėlių žaidimas | C34: Blacklight | D34: US, AU, CN | E34: 5727.1 | F34: 867 | G34: 15 | H34: 44617 | I34: Theatrical Film Distribution
A35: =IF(B35<>"",ROWS($B$6:B35),"") -> 30 | B35: Saldymedžio pica | C35: Licorice Pizza | D35: US | E35: 4083.35 | F35: 719 | G35: 17 | H35: 44617 | I35: Dukine Film Distribution / Universal Pictures
A36: =IF(B36<>"",ROWS($B$6:B36),"") -> 31 | B36: Esminis instinktas (1992) | C36: Basic Instinct (1992) | D36: UK, FR, US | E36: 3784.8 | F36: 554 | G36: 5 | H36: 44603 | I36: A-One Films
A37: =IF(B37<>"",ROWS($B$6:B37),"") -> 32 | B37: Rusiški svingeriai | C37: Swingers | D37: RU | E37: 3745.45 | F37: 551 | G37: 7 | H37: 44568 | I37: Theatrical Film Distribution
A38: =IF(B38<>"",ROWS($B$6:B38),"") -> 33 | B38: Užburta arka | C38: Magic Arch | D38: DE | E38: 3303 | F38: 764 | G38: 5 | H38: 44575 | I38: Garsų pasaulio įrašai
A39: =IF(B39<>"",ROWS($B$6:B39),"") -> 34 | B39: Misija "Meškučiai" | C39: Teddy Boom | D39: RU | E39: 3047.63 | F39: 628 | G39: 14 | H39: 44582 | I39: ACME Film
A40: =IF(B40<>"",ROWS($B$6:B40),"") -> 35 | B40: King's Man. Pradžia | C40: The King's Man | D40: US, UK | E40: 2565.25 | F40: 360 | G40: 3 | H40: 44561 | I40: Theatrical Film Distribution / WDSMPI
A41: =IF(B41<>"",ROWS($B$6:B41),"") -> 36 | B41: Meilė. seksas ir pandemija | C41: Love. Sex and Pandemic | D41: PL | E41: 2295.2 | F41: 324 | G41: 6 | H41: 44603 | I41: Kinostar Filmverleih
A42: =IF(B42<>"",ROWS($B$6:B42),"") -> 37 | B42: Siuzana Andler | C42: Suzanna Andler | D42: FR | E42: 2119.02 | F42: 380 | G42: 12 | H42: 44596 | I42: Best Film
A43: =IF(B43<>"",ROWS($B$6:B43),"") -> 38 | B43: Drive My Car | C43: Drive My Car | D43: JP | E43: 1682.5 | F43: 318 | G43: 4 | H43: 44533 | I43: A-One Films
A44: =IF(B44<>"",ROWS($B$6:B44),"") -> 39 | B44: Matrica. Prisikėlimas | C44: Matrix Resurrecations | D44: US | E44: 1602.75 | F44: 231 | G44: 3 | H44: 44554 | I44: ACME Film / WB
A45: =IF(B45<>"",ROWS($B$6:B45),"") -> 40 | B45: Pasaulio čempionas | C45: Чемпион мира | D45: RU | E45: 1529 | F45: 266 | G45: 4 | H45: 44582 | I45: Garsų pasaulio įrašai
A46: =IF(B46<>"",ROWS($B$6:B46),"") -> 41 | B46: Alkio skonis | C46: A Taste of Hunger | D46: DK | E46: 1362.5 | F46: 306 | G46: 2 | H46: 44554 | I46: Best Film
A47: =IF(B47<>"",ROWS($B$6:B47),"") -> 42 | B47: Mergina ir voras | C47: Das Mädchen und die Spinne | D47: CH | E47: 1343 | F47: 267 | G47: 4 | H47: 44603 | I47: A-One Films
A48: =IF(B48<>"",ROWS($B$6:B48),"") -> 43 | B48: Paryžius. 13-as rajonas | C48: Les Olympiades, Paris 13e | D48: FR | E48: 1284 | F48: 205 | G48: 2 | H48: 44561 | I48: A-One Films
A49: =IF(B49<>"",ROWS($B$6:B49),"") -> 44 | B49: Meilužiai | C49: Lovers | D49: FR | E49: 1104.7 | F49: 239 | G49: 4 | H49: 44568 | I49: Best Film
A50: =IF(B50<>"",ROWS($B$6:B50),"") -> 45 | B50: Švelnūs kariai | C50: Švelnūs kariai | D50: LT | E50: 1101 | F50: 227 | G50: 13 | H50: 44526 | I50: Moonmakers
A51: =IF(B51<>"",ROWS($B$6:B51),"") -> 46 | B51: Trys šeimos | C51: Tre piani | D51: IT, FR | E51: 1070 | F51: 204 | G51: 3 | H51: 44617 | I51: A-One Films
A52: =IF(B52<>"",ROWS($B$6:B52),"") -> 47 | B52: Sen Loranas. Stilius - tai aš | C52: Saint Lorant | D52: BE, FR | E52: 1021 | F52: 173 | G52: 1 | H52: 41957 | I52: A-One Films
A53: =IF(B53<>"",ROWS($B$6:B53),"") -> 48 | B53: Meilė kaip bestseleris | C53: Book of Love | D53: UK, US, MX | E53: 961.98 | F53: 166 | G53: 6 | H53: 44583 | I53: VLG film
A54: =IF(B54<>"",ROWS($B$6:B54),"") -> 49 | B54: Mėlyna kaip apelsinas žemė | C54: The Earth is Blue as an Orange | D54: LT, UA | E54: 675.33 | F54: 102 | G54: 8 | H54: 44617 | I54: Moonmakers
A55: =IF(B55<>"",ROWS($B$6:B55),"") -> 50 | B55: Bėgikė | C55: Bėgikė | D55: LT | E55: 631.25 | F55: 118 | G55: 2 | H55: 44519 | I55: M-Films
A56: =IF(B56<>"",ROWS($B$6:B56),"") -> 51 | B56: Bergmano sala | C56: Bergman Island | D56: BE, FR, SE, DE | E56: 628 | F56: 154 | G56: 10 | H56: 44606 | I56: Kino Aljansas
A57: =IF(B57<>"",ROWS($B$6:B57),"") -> 52 | B57: Eifelis | C57: Eiffel | D57: FR | E57: 566.86 | F57: 103 | G57: 4 | H57: 44533 | I57: VLG film
A58: =IF(B58<>"",ROWS($B$6:B58),"") -> 53 | B58: Didžioji laisvė | C58: Great freedom | D58: DE | E58: 465 | F58: 114 | G58: 3 | H58: 44568 | I58: A-One Films
A59: =IF(B59<>"",ROWS($B$6:B59),"") -> 54 | B59: Klajoklių žemė | C59: Nomadland | D59: US | E59: 368 | F59: 72 | G59: 1 | H59: 44323 | I59: Theatrical Film Distribution / 20th Century Fox
A60: =IF(B60<>"",ROWS($B$6:B60),"") -> 55 | B60: Atsargiai, ragana | C60: Zlogonje | D60: MK | E60: 365 | F60: 73 | G60: 1 | H60: 43435 | I60: Skalvijos kino centras
A61: =IF(B61<>"",ROWS($B$6:B61),"") -> 56 | B61: Tarpininkas | C61: The Middle Man | D61: DK, CA, NO, DE | E61: 349.55 | F61: 72 | G61: 6 | H61: 44606 | I61: Kino Aljansas
A62: =IF(B62<>"",ROWS($B$6:B62),"") -> 57 | B62: Fabianas | C62: Fabian oder Der Gang vor die Hunde | D62: DE | E62: 298.35 | F62: 67 | G62: 6 | H62: 44606 | I62: Kino Aljansas
A63: =IF(B63<>"",ROWS($B$6:B63),"") -> 58 | B63: Štai ir mes | C63: Hine Anachnu | D63: IT, IL | E63: 238.53 | F63: 52 | G63: 8 | H63: 44606 | I63: Kino Aljansas
A64: =IF(B64<>"",ROWS($B$6:B64),"") -> 59 | B64: Nedvejok | C64: Do Not Hesitate | D64: NL | E64: 253.77 | F64: 61 | G64: 8 | H64: 44606 | I64: Kino Aljansas
A65: =IF(B65<>"",ROWS($B$6:B65),"") -> 60 | B65: Prancūzijos kronikos iš Liberčio, Kanzaso vakaro saulės | C65: The French Dispatch of the Liberty, Kansas Evening Sun | D65: US, DE | E65: 214 | F65: 38 | G65: 1 | H65: 44512 | I65: Theatrical Film Distribution
A66: =IF(B66<>"",ROWS($B$6:B66),"") -> 61 | B66: Vestsaido istorija | C66: West Side Story | D66: US | E66: 202.5 | F66: 43 | G66: 3 | H66: 44540 | I66: Theatrical Film Distribution / WDSMPI
A67: =IF(B67<>"",ROWS($B$6:B67),"") -> 62 | B67: Kopa | C67: Dune | D67: US | E67: 199 | F67: 45 | G67: 2 | H67: 44456 | I67: ACME Film / WB
A68: =IF(B68<>"",ROWS($B$6:B68),"") -> 63 | B68: Bintė | C68: Binti | D68: BE | E68: 182.5 | F68: 43 | G68: 1 | H68: 44080 | I68: Skalvijos kino centras
A69: =IF(B69<>"",ROWS($B$6:B69),"") -> 64 | B69: Titane | C69: Titane | D69: FR | E69: 173 | F69: 38 | G69: 1 | H69: 44484 | I69: A-One Films
A70: =IF(B70<>"",ROWS($B$6:B70),"") -> 65 | B70: Tamsta Varlius | C70: Meester Kikker | D70: NL | E70: 146 | F70: 73 | G70: 1 | H70: 42654 | I70: Skalvijos kino centras
A71: =IF(B71<>"",ROWS($B$6:B71),"") -> 66 | B71: Beibis Nindzė | C71: Ninjababy | D71: NO | E71: 137.5 | F71: 45 | G71: 8 | H71: 44606 | I71: Kino Aljansas
A72: =IF(B72<>"",ROWS($B$6:B72),"") -> 67 | B72: Paralelinės mamos | C72: Parallel Mothers | D72: ES | E72: 134.17 | F72: 38 | G72: 2 | H72: 44477 | I72: VLG film
A73: =IF(B73<>"",ROWS($B$6:B73),"") -> 68 | B73: Kaip „Titanikas“ mane išgelbėjo | C73: How the Titanic Became My Lifeboat | D73: IS | E73: 104 | F73: 26 | G73: 1 | H73: 44512 | I73: Theatrical Film Distribution
A74: =IF(B74<>"",ROWS($B$6:B74),"") -> 69 | B74: (Ne)Tobulas vyras | C74: I'm Your Man | D74: DE | E74: 73 | F74: 13 | G74: 1 | H74: 44421 | I74: VLG film
A75: =IF(B75<>"",ROWS($B$6:B75),"") -> 70 | B75: Pradžia | C75: Beginning | D75: GE, FR | E75: 69.7 | F75: 24 | G75: 6 | H75: 44606 | I75: Kino Aljansas
A76: =IF(B76<>"",ROWS($B$6:B76),"") -> 71 | B76: Mirtis palauks | C76: No Time To Die | D76: UK, US | E76: 19 | F76: 3 | G76: 17 | H76: 44470 | I76: Dukine Film Distribution / Universal Pictures
E77: =SUBTOTAL(109,Table3_Vasaris[Pajamos]) -> 1207375.2 | F77: =SUBTOTAL(109,Table3_Vasaris[Žiūrovų skaičius]) -> 199273

Sheet Kovas
A1: ='2022'!A1 -> 2022
A2: ='2022'!A2 -> Lietuvos kino teatruose rodytų filmų TOP
A3: Kovas
A5: Eil. Nr. | B5: Filmo pavadinimas | C5: Filmo pavadinimas originalo kalba | D5: Kilmės šalis | E5: Pajamos | F5: Žiūrovų skaičius | G5: Kopijų skaičius | H5: Premjeros data | I5: Platintojas
A6: =IF(B6<>"",ROWS($B$6:B6),"") -> 1 | B6: Betmenas | C6: The Batman | D6: US | E6: 324293.96 | F6: 45728 | G6: 19 | H6: 44624 | I6: ACME Film / WB
A7: =IF(B7<>"",ROWS($B$6:B7),"") -> 2 | B7: Raudonoji panda | C7: Turning Red | D7: US | E7: 140736.41 | F7: 28265 | G7: 21 | H7: 44631 | I7: Theatrical Film Distribution / WDSMPI
A8: =IF(B8<>"",ROWS($B$6:B8),"") -> 3 | B8: Neatrastas | C8: Uncharted | D8: US | E8: 90161.15 | F8: 14258 | G8: 9 | H8: 44610 | I8: ACME Film / SONY
A9: =IF(B9<>"",ROWS($B$6:B9),"") -> 4 | B9: Blogiukai | C9: Bad Guys | D9: US | E9: 72908.57 | F9: 14498 | G9: 19 | H9: 44638 | I9: Dukine Film Distribution / Universal Pictures
A10: =IF(B10<>"",ROWS($B$6:B10),"") -> 5 | B10: Kernagis | C10: Kernagis | D10: LT | E10: 56804.14 | F10: 9439 | G10: 21 | H10: 44610 | I10: Kino pasaka
A11: =IF(B11<>"",ROWS($B$6:B11),"") -> 6 | B11: Mėlyna kaip apelsinas žemė | C11: The Earth is Blue as an Orange | D11: LT, UA | E11: 41450.82 | F11: 7665 | G11: 13 | H11: 44617 | I11: Moonmakers
A12: =IF(B12<>"",ROWS($B$6:B12),"") -> 7 | B12: Šuo | C12: Dog | D12: US | E12: 39323.43 | F12: 6276 | G12: 15 | H12: 44638 | I12: ACME Film
A13: =IF(B13<>"",ROWS($B$6:B13),"") -> 8 | B13: Monstrų šeimynėlė 2 | C13: Happy Family 2 | D13: DE, UK | E13: 30334 | F13: 6104 | G13: 19 | H13: 44617 | I13: Garsų pasaulio įrašai
A14: =IF(B14<>"",ROWS($B$6:B14),"") -> 9 | B14: Spencer | C14: Spencer | D14: UK, DE, US | E14: 29700.43 | F14: 4828 | G14: 18 | H14: 44631 | I14: ACME Film
A15: =IF(B15<>"",ROWS($B$6:B15),"") -> 10 | B15: Ruonių komanda | C15: Seal Team | D15: US | E15: 24752 | F15: 5116 | G15: 17 | H15: 44624 | I15: Best Film
A16: =IF(B16<>"",ROWS($B$6:B16),"") -> 11 | B16: Williams metodas | C16: King Richard | D16: US | E16: 20931.65 | F16: 3322 | G16: 18 | H16: 44617 | I16: ACME Film / WB
A17: =IF(B17<>"",ROWS($B$6:B17),"") -> 12 | B17: Greitoji pagalba | C17: Ambulance | D17: US | E17: 20378.1 | F17: 3149 | G17: 17 | H17: 44638 | I17: Dukine Film Distribution / Universal Pictures
... A33: =IF(B33<>"",ROWS($B$6:B33),"") -> 28 | B33: Jackass amžinai | C33: Jackass Forever | D33: US | E33: 3438.15 | F33: 585 | G33: 5 | H33: 44610 | I33: Dukine Film Distribution / Paramount Pictures
A34: =IF(B34<>"",ROWS($B$6:B34),"") -> 29 | B34: Anapus laiko ir šviesos | C34: Anapus laiko ir šviesos | D34: LT | E34: 3088 | F34: 551 | G34: 12 | H34: 44631 | I34: Broom Films
A35: =IF(B35<>"",ROWS($B$6:B35),"") -> 30 | B35: Lobis | C35: Lobis | D35: LT | E35: 2814 | F35: 634 | G35: 8 | H35: 44596 | I35: Garsų pasaulio įrašai
A36: =IF(B36<>"",ROWS($B$6:B36),"") -> 31 | B36: Drąsiau drąsiau | C36: C'mon C'mon | D36: US | E36: 2097 | F36: 445 | G36: 2 | H36: 44589 | I36: A-One Films
A37: =IF(B37<>"",ROWS($B$6:B37),"") -> 32 | B37: Krikštatėvis (Trilogijos maratonas) | C37: The Godfather (Trilogy Marathon) | D37: US | E37: 2059 | F37: 122 | G37: 3 | H37: 44633 | I37: Dukine Film Distribution / Paramount Pictures
A38: =IF(B38<>"",ROWS($B$6:B38),"") -> 33 | B38: Mr. Landsbergis. Sugriauti blogio imperiją | C38: Mr. Landsbergis. Sugriauti blogio imperiją | D38: LT, UA | E38: 2019 | F38: 376 | G38: 2 | H38: 44574 | I38: Garsų pasaulio įrašai
A39: =IF(B39<>"",ROWS($B$6:B39),"") -> 34 | B39: Alkio skonis | C39: A Taste of Hunger | D39: DK | E39: 1362.5 | F39: 306 | G39: 2 | H39: 44554 | I39: Best Film
A40: =IF(B40<>"",ROWS($B$6:B40),"") -> 35 | B40: Fantazijos tik suaugusiems | C40: Fantasies | D40: FR | E40: 1344 | F40: 226 | G40: 3 | H40: 44603 | I40: Garsų pasaulio įrašai
A41: =IF(B41<>"",ROWS($B$6:B41),"") -> 36 | B41: Žmogus voras: nėra kelio atgal | C41: Spiderman No Way Home | D41: US | E41: 1282.35 | F41: 218 | G41: 5 | H41: 44547 | I41: ACME Film / SONY
A42: =IF(B42<>"",ROWS($B$6:B42),"") -> 37 | B42: Švelnūs kariai | C42: Švelnūs kariai | D42: LT | E42: 1101 | F42: 227 | G42: 2 | H42: 44526 | I42: Moonmakers
A43: =IF(B43<>"",ROWS($B$6:B43),"") -> 38 | B43: Apgaulė | C43: Tromperie | D43: FR | E43: 1101 | F43: 171 | G43: 1 | H43: 44624 | I43: Estinfilm
A44: =IF(B44<>"",ROWS($B$6:B44),"") -> 39 | B44: Drive My Car | C44: Drive My Car | D44: JP | E44: 1012 | F44: 164 | G44: 2 | H44: 44533 | I44: A-One Films
A45: =IF(B45<>"",ROWS($B$6:B45),"") -> 40 | B45: Trys šeimos | C45: Tre piani | D45: IT, FR | E45: 918 | F45: 214 | G45: 2 | H45: 44617 | I45: A-One Films
A46: =IF(B46<>"",ROWS($B$6:B46),"") -> 41 | B46: Meilė yra arti | C46: Miłość jest Blisko | D46: PL | E46: 861.9 | F46: 127 | G46: 4 | H46: 44624 | I46: Kinostar Filmverleih
A47: =IF(B47<>"",ROWS($B$6:B47),"") -> 42 | B47: Gauja | C47: Smecka | D47: CZ, SK, LV | E47: 770 | F47: 166 | G47: 1 | H47: 44330 | I47: Skalvijos kino centras
A48: =IF(B48<>"",ROWS($B$6:B48),"") -> 43 | B48: Bintė | C48: Binti | D48: BE | E48: 691 | F48: 173 | G48: 1 | H48: 44080 | I48: Skalvijos kino centras
A49: =IF(B49<>"",ROWS($B$6:B49),"") -> 44 | B49: Košmarų skersgatvis | C49: Nightmare Alley | D49: US | E49: 601.9 | F49: 99 | G49: 5 | H49: 44582 | I49: Theatrical Film Distribution / WDSMPI
A50: =IF(B50<>"",ROWS($B$6:B50),"") -> 45 | B50: Mano mama gorila | C50: Apstjärnan | D50: SE, DK, FI | E50: 584 | F50: 270 | G50: 1 | H50: 44493 | I50: Skalvijos kino centras
A51: =IF(B51<>"",ROWS($B$6:B51),"") -> 46 | B51: Dainuok 2 | C51: Sing 2 | D51: US | E51: 575.56 | F51: 118 | G51: 4 | H51: 44552 | I51: Dukine Film Distribution / Universal Pictures
A52: =IF(B52<>"",ROWS($B$6:B52),"") -> 47 | B52: Paryžius. 13-as rajonas | C52: Les Olympiades, Paris 13e | D52: FR | E52: 552 | F52: 89 | G52: 2 | H52: 44561 | I52: A-One Films
A53: =IF(B53<>"",ROWS($B$6:B53),"") -> 48 | B53: Siuzana Andler | C53: Suzanna Andler | D53: FR | E53: 459 | F53: 79 | G53: 2 | H53: 44596 | I53: Best Film
A54: =IF(B54<>"",ROWS($B$6:B54),"") -> 49 | B54: Aš niekada neverkiu | C54: Jak Najdalej Stad | D54: PL, IE | E54: 390 | F54: 78 | G54: 1 | H54: 44431 | I54: Skalvijos kino centras
A55: =IF(B55<>"",ROWS($B$6:B55),"") -> 50 | B55: Mano vilkas | C55: Mystere | D55: FR | E55: 346.54 | F55: 66 | G55: 4 | H55: 44589 | I55: Theatrical Film Distribution
A56: =IF(B56<>"",ROWS($B$6:B56),"") -> 51 | B56: Eifelis | C56: Eiffel | D56: FR | E56: 317 | F56: 66 | G56: 1 | H56: 44533 | I56: VLG film
A57: =IF(B57<>"",ROWS($B$6:B57),"") -> 52 | B57: Gucci mados namai | C57: House of Gucci | D57: US | E57: 282.6 | F57: 45 | G57: 3 | H57: 44526 | I57: Dukine Film Distribution / Universal Pictures
A58: =IF(B58<>"",ROWS($B$6:B58),"") -> 53 | B58: Kaip „Titanikas“ mane išgelbėjo | C58: How the Titanic Became My Lifeboat | D58: IS | E58: 277 | F58: 56 | G58: 1 | H58: 44512 | I58: Theatrical Film Distribution
A59: =IF(B59<>"",ROWS($B$6:B59),"") -> 54 | B59: Trys | C59: Tres | D59: ES, LT, FR | E59: 228 | F59: 43 | G59: 2 | H59: 44638 | I59: M-Films
A60: =IF(B60<>"",ROWS($B$6:B60),"") -> 55 | B60: Klajoklių žemė | C60: Nomadland | D60: US | E60: 196 | F60: 35 | G60: 1 | H60: 44323 | I60: Theatrical Film Distribution / 20th Century Fox
A61: =IF(B61<>"",ROWS($B$6:B61),"") -> 56 | B61: Jokūbas, Mimi ir kalbantys šunys | C61: Jekabs, Mimmi un runajosie suni | D61: LV, PL | E61: 185 | F61: 37 | G61: 1 | H61: 44114 | I61: Skalvijos kino centras
A62: =IF(B62<>"",ROWS($B$6:B62),"") -> 57 | B62: Prancūzijos kronikos iš Liberčio, Kanzaso vakaro saulės | C62: The French Dispatch of the Liberty, Kansas Evening Sun | D62: US, DE | E62: 166 | F62: 24 | G62: 1 | H62: 44512 | I62: Theatrical Film Distribution
A63: =IF(B63<>"",ROWS($B$6:B63),"") -> 58 | B63: Bergmano sala | C63: Bergman Island | D63: BE, FR, SE, DE | E63: 130.5 | F63: 33 | G63: 4 | H63: 44606 | I63: Kino Aljansas
A64: =IF(B64<>"",ROWS($B$6:B64),"") -> 59 | B64: Fabianas | C64: Fabian oder Der Gang vor die Hunde | D64: DE | E64: 118 | F64: 34 | G64: 3 | H64: 44606 | I64: Kino Aljansas
A65: =IF(B65<>"",ROWS($B$6:B65),"") -> 60 | B65: Ypatingieji | C65: The Specials | D65: FR | E65: 100 | F65: 20 | G65: 1 | H65: 43868 | I65: Theatrical Film Distribution
A66: =IF(B66<>"",ROWS($B$6:B66),"") -> 61 | B66: (Ne)Tobulas vyras | C66: I'm Your Man | D66: DE | E66: 89 | F66: 13 | G66: 1 | H66: 44421 | I66: VLG film
A67: =IF(B67<>"",ROWS($B$6:B67),"") -> 62 | B67: Nedvejok | C67: Do Not Hesitate | D67: NL | E67: 55.5 | F67: 16 | G67: 3 | H67: 44606 | I67: Kino Aljansas
A68: =IF(B68<>"",ROWS($B$6:B68),"") -> 63 | B68: Štai ir mes | C68: Hine Anachnu | D68: IT, IL | E68: 41 | F68: 8 | G68: 2 | H68: 44606 | I68: Kino Aljansas
A69: =IF(B69<>"",ROWS($B$6:B69),"") -> 64 | B69: Klyksmas 5 | C69: Scream 5 | D69: US | E69: 30 | F69: 6 | G69: 1 | H69: 44575 | I69: Dukine Film Distribution / Paramount Pictures
A70: =IF(B70<>"",ROWS($B$6:B70),"") -> 65 | B70: Auksas | C70: Gold | D70: AU | E70: 25 | F70: 5 | G70: 1 | H70: 44589 | I70: Theatrical Film Distribution
A71: =IF(B71<>"",ROWS($B$6:B71),"") -> 66 | B71: Pradžia | C71: Beginning | D71: GE, FR | E71: 25 | F71: 5 | G71: 1 | H71: 44606 | I71: Kino Aljansas
A72: =IF(B72<>"",ROWS($B$6:B72),"") -> 67 | B72: Beibis Nindzė | C72: Ninjababy | D72: NO | E72: 20 | F72: 5 | G72: 1 | H72: 44606 | I72: Kino Aljansas
A73: =IF(B73<>"",ROWS($B$6:B73),"") -> 68 | B73: Tarpininkas | C73: The Middle Man | D73: DK, CA, NO, DE | E73: 15 | F73: 3 | G73: 1 | H73: 44606 | I73: Kino Aljansas
A74: =IF(B74<>"",ROWS($B$6:B74),"") -> 69 | B74: Bėgikė | C74: Bėgikė | D74: LT | E74: 14 | F74: 2 | G74: 1 | H74: 44519 | I74: M-Films
E75: =SUBTOTAL(109,Kovas[Pajamos]) -> 1047727.1 | F75: =SUBTOTAL(109,Kovas[Žiūrovų skaičius]) -> 177135

Sheet Balandis
A1: ='2022'!A1 -> 2022
A2: ='2022'!A2 -> Lietuvos kino teatruose rodytų filmų TOP
A3: Balandis
A5: Eil. Nr. | B5: Filmo pavadinimas | C5: Filmo pavadinimas originalo kalba | D5: Kilmės šalis | E5: Pajamos | F5: Žiūrovų skaičius | G5: Kopijų skaičius | H5: Premjeros data | I5: Platintojas
A6: =IF(B6<>"",ROWS($B$6:B6),"") -> 1 | B6: Ežiukas Sonic 2 | C6: Sonic The Hedgehog 2 | D6: US, CA, JP | E6: 290792.75 | F6: 56443 | G6: 19 | H6: 44652 | I6: Dukine Film Distribution / Paramount Pictures
A7: =IF(B7<>"",ROWS($B$6:B7),"") -> 2 | B7: Fantastiniai gyvūnai: Dumbldoro paslaptys | C7: Fantastic Beasts: The Secrets of Dumbledore | D7: US, UK | E7: 246914.94 | F7: 33695 | G7: 16 | H7: 44666 | I7: ACME Film / WB
A8: =IF(B8<>"",ROWS($B$6:B8),"") -> 3 | B8: Prarastas miestas | C8: The Lost City | D8: US | E8: 140429.31 | F8: 20144 | G8: 16 | H8: 44659 | I8: Dukine Film Distribution / Paramount Pictures
A9: =IF(B9<>"",ROWS($B$6:B9),"") -> 4 | B9: Drugelio Širdis | C9: Drugelio Širdis | D9: LT | E9: 105001.49 | F9: 24592 | G9: 20 | H9: 44659 | I9: ACME Film
A10: =IF(B10<>"",ROWS($B$6:B10),"") -> 5 | B10: Raudonoji panda | C10: Turning Red | D10: US | E10: 96550.16 | F10: 19406 | G10: 9 | H10: 44631 | I10: Theatrical Film Distribution / WDSMPI
A11: =IF(B11<>"",ROWS($B$6:B11),"") -> 6 | B11: Morbijus | C11: Morbius | D11: US | E11: 94785.39 | F11: 13299 | G11: 14 | H11: 44652 | I11: ACME Film / SONY
A12: =IF(B12<>"",ROWS($B$6:B12),"") -> 7 | B12: Blogiukai | C12: Bad Guys | D12: US | E12: 74068.16 | F12: 14819 | G12: 8 | H12: 44638 | I12: Dukine Film Distribution / Universal Pictures
A13: =IF(B13<>"",ROWS($B$6:B13),"") -> 8 | B13: Vikingas | C13: The Northman | D13: US | E13: 55874.24 | F13: 8569 | G13: 16 | H13: 44666 | I13: Dukine Film Distribution / Universal Pictures
A14: =IF(B14<>"",ROWS($B$6:B14),"") -> 9 | B14: Betmenas | C14: The Batman | D14: US | E14: 44632.88 | F14: 7025 | G14: 7 | H14: 44624 | I14: ACME Film / WB
A15: =IF(B15<>"",ROWS($B$6:B15),"") -> 10 | B15: Eskortės | C15: Girls To Buy | D15: PL | E15: 44369 | F15: 4468 | G15: 11 | H15: 44673 | I15: Garsų pasaulio įrašai
A16: =IF(B16<>"",ROWS($B$6:B16),"") -> 11 | B16: Bunkerio žaidimas | C16: The Bunker game | D16: IT, FR | E16: 43718 | F16: 6524 | G16: 13 | H16: 44666 | I16: Garsų pasaulio įrašai
A17: =IF(B17<>"",ROWS($B$6:B17),"") -> 12 | B17: Blogiausias žmogus pasaulyje | C17: Verdens verste menneske | D17: NO, FR, SE, DK | E17: 28837.94 | F17: 4534 | G17: 17 | H17: 44655 | I17: Europos kinas
... A21: =IF(B21<>"",ROWS($B$6:B21),"") -> 16 | B21: Neatrastas | C21: Uncharted | D21: US | E21: 21038.49 | F21: 3362 | G21: 5 | H21: 44610 | I21: ACME Film / SONY
A22: =IF(B22<>"",ROWS($B$6:B22),"") -> 17 | B22: Gerasis bosas | C22: El Buen Patrón | D22: ES | E22: 16131.02 | F22: 2507 | G22: 15 | H22: 44655 | I22: Europos kinas
A23: =IF(B23<>"",ROWS($B$6:B23),"") -> 18 | B23: Ups! Nuotykiai tęsiasi | C23: Ooops! The adventure continues | D23: DE, LU, IE | E23: 12317 | F23: 2427 | G23: 17 | H23: 44680 | I23: Garsų pasaulio įrašai
A24: =IF(B24<>"",ROWS($B$6:B24),"") -> 19 | B24: Išgyvenęs | C24: The Survivor | D24: US, CA, HU | E24: 10759 | F24: 1645 | G24: 13 | H24: 44652 | I24: Theatrical Film Distribution
A25: =IF(B25<>"",ROWS($B$6:B25),"") -> 20 | B25: Šuo | C25: Dog | D25: US | E25: 10333.35 | F25: 1640 | G25: 6 | H25: 44638 | I25: ACME Film
A26: =IF(B26<>"",ROWS($B$6:B26),"") -> 21 | B26: Dauntono Abatija 2: nauja era | C26: Downton Abbey: A New Era | D26: UK, US | E26: 9667 | F26: 1367 | G26: 16 | H26: 44680 | I26: Dukine Film Distribution / Universal Pictures
A27: =IF(B27<>"",ROWS($B$6:B27),"") -> 22 | B27: Aš esu Zlatanas | C27: Jag är Zlatan | D27: SE | E27: 8903.21 | F27: 1829 | G27: 6 | H27: 44673 | I27: Estinfilm
A28: =IF(B28<>"",ROWS($B$6:B28),"") -> 23 | B28: Viskas iškart ir visur | C28: Everything Everywhere All at Once | D28: US | E28: 6767 | F28: 1079 | G28: 17 | H28: 44680 | I28: VLG film
A29: =IF(B29<>"",ROWS($B$6:B29),"") -> 24 | B29: Kernagis | C29: Kernagis | D29: LT | E29: 5563.85 | F29: 965 | G29: 5 | H29: 44610 | I29: Kino pasaka
A30: =IF(B30<>"",ROWS($B$6:B30),"") -> 25 | B30: Mano mažasis karalius | C30: King | D30: FR, BE | E30: 5546.63 | F30: 1159 | G30: 11 | H30: 44645 | I30: ACME Film
A31: =IF(B31<>"",ROWS($B$6:B31),"") -> 26 | B31: Anetė | C31: Annette | D31: FR, DE, BE, JP, MX | E31: 5145.83 | F31: 909 | G31: 13 | H31: 44655 | I31: Europos kinas
A32: =IF(B32<>"",ROWS($B$6:B32),"") -> 27 | B32: Mėlyna kaip apelsinas žemė | C32: The Earth is Blue as an Orange | D32: LT, UA | E32: 3773.4 | F32: 674 | G32: 6 | H32: 44617 | I32: Moonmakers
A33: =IF(B33<>"",ROWS($B$6:B33),"") -> 28 | B33: Saulėlydis | C33: Sundown | D33: MX, FR, SE | E33: 3657.08 | F33: 601 | G33: 8 | H33: 44655 | I33: Europos kinas
A34: =IF(B34<>"",ROWS($B$6:B34),"") -> 29 | B34: Enkanto | C34: Encanto | D34: US | E34: 3286.11 | F34: 678 | G34: 4 | H34: 44526 | I34: Theatrical Film Distribution / WDSMPI
A35: =IF(B35<>"",ROWS($B$6:B35),"") -> 30 | B35: Laukiniai vyrai | C35: Wild men | D35: DK | E35: 2658 | F35: 533 | G35: 2 | H35: 44673 | I35: A-One Films
A36: =IF(B36<>"",ROWS($B$6:B36),"") -> 31 | B36: Herojus | C36: Ghahreman | D36: IR, FR | E36: 2590.62 | F36: 451 | G36: 9 | H36: 44655 | I36: Europos kinas
A37: =IF(B37<>"",ROWS($B$6:B37),"") -> 32 | B37: Greitoji pagalba | C37: Ambulance | D37: US | E37: 2359.9 | F37: 388 | G37: 4 | H37: 44638 | I37: Dukine Film Distribution / Universal Pictures
A38: =IF(B38<>"",ROWS($B$6:B38),"") -> 33 | B38: Fantastiniai gyvūnai ir kur juos rasti | C38: Fantastic Beasts: And Where To Find Them | D38: US, UK | E38: 2314.5 | F38: 412 | G38: 5 | H38: 42692 | I38: ACME Film / WB
A39: =IF(B39<>"",ROWS($B$6:B39),"") -> 34 | B39: Fantastiniai gyvūnai:Grindelvaldo piktadartystės | C39: Fantastic Beasts: Crimes of Grindelwald | D39: US, UK | E39: 2314.5 | F39: 412 | G39: 5 | H39: 43420 | I39: ACME Film / WB
... A46: =IF(B46<>"",ROWS($B$6:B46),"") -> 41 | B46: Drakonas ir strazdanotoji gražuolė | C46: Ryû to sobakasu no hime | D46: JP | E46: 1268.49 | F46: 248 | G46: 6 | H46: 44655 | I46: Europos kinas
A47: =IF(B47<>"",ROWS($B$6:B47),"") -> 42 | B47: Alkarasas | C47: Alcarràs | D47: ES, IT | E47: 1254.55 | F47: 237 | G47: 8 | H47: 44655 | I47: Europos kinas
A48: =IF(B48<>"",ROWS($B$6:B48),"") -> 43 | B48: Švelnūs kariai | C48: Švelnūs kariai | D48: LT | E48: 1101 | F48: 228 | G48: 2 | H48: 44526 | I48: Moonmakers
A49: =IF(B49<>"",ROWS($B$6:B49),"") -> 44 | B49: Vyras už pinigus | C49: Vyras už pinigus | D49: LT | E49: 1008.1 | F49: 143 | G49: 4 | H49: 44561 | I49: Dublis LT
A50: =IF(B50<>"",ROWS($B$6:B50),"") -> 45 | B50: Mirtis ant Nilo | C50: Death On The Nile | D50: US | E50: 971.3 | F50: 169 | G50: 4 | H50: 44603 | I50: Theatrical Film Distribution / WDSMPI
A51: =IF(B51<>"",ROWS($B$6:B51),"") -> 46 | B51: Neramieji | C51: Les intranquilles | D51: BE, LU, FR | E51: 935.84 | F51: 157 | G51: 5 | H51: 44655 | I51: Europos kinas
A52: =IF(B52<>"",ROWS($B$6:B52),"") -> 47 | B52: Viškis piškis ir tamsos žiurkėnas | C52: Chickenhare and The Hamster of Darkness | D52: BE, FR | E52: 924.76 | F52: 283 | G52: 2 | H52: 44610 | I52: VLG film
A53: =IF(B53<>"",ROWS($B$6:B53),"") -> 48 | B53: Drąsiau drąsiau | C53: C'mon C'mon | D53: US | E53: 874 | F53: 246 | G53: 2 | H53: 44589 | I53: A-One Films
A54: =IF(B54<>"",ROWS($B$6:B54),"") -> 49 | B54: Fantazijos tik suaugusiems | C54: Fantasies | D54: FR | E54: 827 | F54: 123 | G54: 2 | H54: 44603 | I54: Garsų pasaulio įrašai
A55: =IF(B55<>"",ROWS($B$6:B55),"") -> 50 | B55: Drive My Car | C55: Drive My Car | D55: JP | E55: 790 | F55: 149 | G55: 2 | H55: 44533 | I55: A-One Films
A56: =IF(B56<>"",ROWS($B$6:B56),"") -> 51 | B56: Memoria | C56: Memoria | D56: CO, TH, UK, MX, FR | E56: 719.55 | F56: 136 | G56: 4 | H56: 44655 | I56: Europos kinas
A57: =IF(B57<>"",ROWS($B$6:B57),"") -> 52 | B57: Charlotte apie Jane | C57: Jane par Charlotte | D57: FR | E57: 678 | F57: 153 | G57: 4 | H57: 44680 | I57: A-One Films
A58: =IF(B58<>"",ROWS($B$6:B58),"") -> 53 | B58: Svečiuose | C58: Gæsterne | D58: DK, NL | E58: 638.52 | F58: 71 | G58: 5 | H58: 44655 | I58: Europos kinas
A59: =IF(B59<>"",ROWS($B$6:B59),"") -> 54 | B59: Gauja | C59: Smecka | D59: CZ, SK, LV | E59: 623 | F59: 146 | G59: 1 | H59: 44330 | I59: Skalvijos kino centras
A60: =IF(B60<>"",ROWS($B$6:B60),"") -> 55 | B60: Bintė | C60: Binti | D60: BE | E60: 613 | F60: 228 | G60: 1 | H60: 44080 | I60: Skalvijos kino centras
A61: =IF(B61<>"",ROWS($B$6:B61),"") -> 56 | B61: Paryžius. 13-as rajonas | C61: Les Olympiades, Paris 13e | D61: FR | E61: 586 | F61: 194 | G61: 2 | H61: 44561 | I61: A-One Films
A62: =IF(B62<>"",ROWS($B$6:B62),"") -> 57 | B62: Mažytė mama | C62: Petite maman | D62: FR | E62: 571.13 | F62: 119 | G62: 7 | H62: 44655 | I62: Europos kinas
A63: =IF(B63<>"",ROWS($B$6:B63),"") -> 58 | B63: Šuolis | C63: Šuolis | D63: LT | E63: 557 | F63: 203 | G63: 1 | H63: 44456 | I63: Moonmakers
A64: =IF(B64<>"",ROWS($B$6:B64),"") -> 59 | B64: Vyriškumo pamokos | C64: Un vrai bonhomme | D64: FR, BE | E64: 552 | F64: 217 | G64: 1 | H64: 44658 | I64: KC Garsas
A65: =IF(B65<>"",ROWS($B$6:B65),"") -> 60 | B65: Lobis | C65: Lobis | D65: LT | E65: 436 | F65: 158 | G65: 2 | H65: 44596 | I65: Garsų pasaulio įrašai
A66: =IF(B66<>"",ROWS($B$6:B66),"") -> 61 | B66: Spencer | C66: Spencer | D66: UK, DE, US | E66: 411.26 | F66: 76 | G66: 1 | H66: 44631 | I66: ACME Film
A67: =IF(B67<>"",ROWS($B$6:B67),"") -> 62 | B67: Likimas ir fantazijos | C67: Guzen to Sozo | D67: JP | E67: 342.37 | F67: 62 | G67: 3 | H67: 44655 | I67: Europos kinas
A68: =IF(B68<>"",ROWS($B$6:B68),"") -> 63 | B68: Kaip „Titanikas“ mane išgelbėjo | C68: How the Titanic Became My Lifeboat | D68: IS | E68: 325 | F68: 83 | G68: 2 | H68: 44512 | I68: Theatrical Film Distribution
A69: =IF(B69<>"",ROWS($B$6:B69),"") -> 64 | B69: Viskas bus kitaip | C69: Everything Will Change | D69: DE, NL | E69: 263.15 | F69: 58 | G69: 2 | H69: 44655 | I69: Europos kinas
A70: =IF(B70<>"",ROWS($B$6:B70),"") -> 65 | B70: Tamsta Varlius | C70: Meester Kikker | D70: NL | E70: 261 | F70: 71 | G70: 1 | H70: 42654 | I70: Skalvijos kino centras
A71: =IF(B71<>"",ROWS($B$6:B71),"") -> 66 | B71: Jokūbas, Mimi ir kalbantys šunys | C71: Jekabs, Mimmi un runajosie suni | D71: LV, PL | E71: 258 | F71: 95 | G71: 1 | H71: 44114 | I71: Skalvijos kino centras
A72: =IF(B72<>"",ROWS($B$6:B72),"") -> 67 | B72: Gyvenimo kaina | C72: Otar's Death | D72: GE, DE, LT | E72: 245 | F72: 41 | G72: 2 | H72: 44652 | I72: M-Films
A73: =IF(B73<>"",ROWS($B$6:B73),"") -> 68 | B73: Williams metodas | C73: King Richard | D73: US | E73: 234.75 | F73: 43 | G73: 1 | H73: 44617 | I73: ACME Film / WB
A74: =IF(B74<>"",ROWS($B$6:B74),"") -> 69 | B74: Apgaulė | C74: Tromperie | D74: FR | E74: 231 | F74: 70 | G74: 2 | H74: 44624 | I74: Estinfilm
A75: =IF(B75<>"",ROWS($B$6:B75),"") -> 70 | B75: Trys | C75: Tres | D75: ES, LT, FR | E75: 184 | F75: 36 | G75: 2 | H75: 44638 | I75: M-Films
A76: =IF(B76<>"",ROWS($B$6:B76),"") -> 71 | B76: Mr. Landsbergis. Sugriauti blogio imperiją | C76: Mr. Landsbergis. Sugriauti blogio imperiją | D76: LT, UA | E76: 183 | F76: 52 | G76: 2 | H76: 44574 | I76: Garsų pasaulio įrašai
A77: =IF(B77<>"",ROWS($B$6:B77),"") -> 72 | B77: Aš niekada neverkiu | C77: Jak Najdalej Stad | D77: PL, IE | E77: 150 | F77: 30 | G77: 1 | H77: 44431 | I77: Skalvijos kino centras
A78: =IF(B78<>"",ROWS($B$6:B78),"") -> 73 | B78: Bėgikė | C78: Bėgikė | D78: LT | E78: 131.12 | F78: 24 | G78: 1 | H78: 44519 | I78: M-Films
A79: =IF(B79<>"",ROWS($B$6:B79),"") -> 74 | B79: Anapus laiko ir šviesos | C79: Anapus laiko ir šviesos | D79: LT | E79: 122 | F79: 20 | G79: 2 | H79: 44631 | I79: Broom Films
A80: =IF(B80<>"",ROWS($B$6:B80),"") -> 75 | B80: Saldymedžio pica | C80: Licorice Pizza | D80: US | E80: 118.06 | F80: 36 | G80: 2 | H80: 44617 | I80: Dukine Film Distribution / Universal Pictures
A81: =IF(B81<>"",ROWS($B$6:B81),"") -> 76 | B81: Atsargiai, ragana | C81: Zlogonje | D81: MK | E81: 115 | F81: 23 | G81: 1 | H81: 43435 | I81: Skalvijos kino centras
A82: =IF(B82<>"",ROWS($B$6:B82),"") -> 77 | B82: Keliaujantys paukščiai | C82: Les oiseaux de passage | D82: BE, FR | E82: 114 | F82: 57 | G82: 1 | H82: 42301 | I82: Skalvijos kino centras
A83: =IF(B83<>"",ROWS($B$6:B83),"") -> 78 | B83: Liberté | C83: Liberté | D83: FR, ES, PT | E83: 101.5 | F83: 30 | G83: 1 | H83: 43560 | I83: Europos kinas
A84: =IF(B84<>"",ROWS($B$6:B84),"") -> 79 | B84: Išgyventi vasarą | C84: Išgyventi vasarą | D84: LT | E84: 99 | F84: 33 | G84: 1 | H84: 43574 | I84: Europos kinas
A85: =IF(B85<>"",ROWS($B$6:B85),"") -> 80 | B85: Maria Callas: savais žodžiais | C85: Maria by Callas | D85: FR | E85: 80 | F85: 16 | G85: 1 | H85: 43189 | I85: Europos kinas
A86: =IF(B86<>"",ROWS($B$6:B86),"") -> 81 | B86: Titane | C86: Titane | D86: FR | E86: 76 | F86: 14 | G86: 2 | H86: 44484 | I86: A-One Films
A87: =IF(B87<>"",ROWS($B$6:B87),"") -> 82 | B87: Atsitiktinis jaunikis | C87: Marry Me | D87: US | E87: 69.65 | F87: 14 | G87: 2 | H87: 44603 | I87: Dukine Film Distribution / Universal Pictures
A88: =IF(B88<>"",ROWS($B$6:B88),"") -> 83 | B88: Štai ir mes | C88: Hine Anachnu | D88: IT, IL | E88: 65 | F88: 12 | G88: 1 | H88: 44606 | I88: Kino Aljansas
A89: =IF(B89<>"",ROWS($B$6:B89),"") -> 84 | B89: Mano mama gorila | C89: Apstjärnan | D89: SE, DK, FI | E89: 64 | F89: 33 | G89: 1 | H89: 44493 | I89: Skalvijos kino centras
A90: =IF(B90<>"",ROWS($B$6:B90),"") -> 85 | B90: Kopa | C90: Dune | D90: US | E90: 60.7 | F90: 11 | G90: 1 | H90: 44456 | I90: ACME Film / WB
A91: =IF(B91<>"",ROWS($B$6:B91),"") -> 86 | B91: Raudonasis vėžlys | C91: The Red Turtle | D91: FR, BE, JP | E91: 45.5 | F91: 9 | G91: 1 | H91: 42832 | I91: Europos kinas
A92: =IF(B92<>"",ROWS($B$6:B92),"") -> 87 | B92: Gucci mados namai | C92: House of Gucci | D92: US | E92: 42 | F92: 10 | G92: 1 | H92: 44526 | I92: Dukine Film Distribution / Universal Pictures
A93: =IF(B93<>"",ROWS($B$6:B93),"") -> 88 | B93: Fabianas | C93: Fabian oder Der Gang vor die Hunde | D93: DE | E93: 37 | F93: 6 | G93: 2 | H93: 44606 | I93: Kino Aljansas
A94: =IF(B94<>"",ROWS($B$6:B94),"") -> 89 | B94: Prancūzijos kronikos iš Liberčio, Kanzaso vakaro saulės | C94: The French Dispatch of the Liberty, Kansas Evening Sun | D94: US, DE | E94: 33 | F94: 5 | G94: 1 | H94: 44512 | I94: Theatrical Film Distribution
A95: =IF(B95<>"",ROWS($B$6:B95),"") -> 90 | B95: Eifelis | C95: Eiffel | D95: FR | E95: 33 | F95: 7 | G95: 1 | H95: 44533 | I95: VLG film
A96: =IF(B96<>"",ROWS($B$6:B96),"") -> 91 | B96: Kas buvome mes | C96: Wer wir waren | D96: DE | E96: 30 | F96: 6 | G96: 1 | H96: 44644 | I96: Europos kinas
A97: =IF(B97<>"",ROWS($B$6:B97),"") -> 92 | B97: Jackass amžinai | C97: Jackass Forever | D97: US | E97: 25.25 | F97: 5 | G97: 2 | H97: 44610 | I97: Dukine Film Distribution / Paramount Pictures
A98: =IF(B98<>"",ROWS($B$6:B98),"") -> 93 | B98: Šešėlių žaidimas | C98: Blacklight | D98: US, AU, CN | E98: 19.96 | F98: 4 | G98: 2 | H98: 44617 | I98: Theatrical Film Distribution
A99: =IF(B99<>"",ROWS($B$6:B99),"") -> 94 | B99: Beibis Nindzė | C99: Ninjababy | D99: NO | E99: 12 | F99: 3 | G99: 1 | H99: 44606 | I99: Kino Aljansas
A100: =IF(B100<>"",ROWS($B$6:B100),"") -> 95 | B100: Evoliucija | C100: Evolution | D100: DE, HU | E100: 12 | F100: 2 | G100: 1 | H100: 44655 | I100: Europos kinas
A101: =IF(B101<>"",ROWS($B$6:B101),"") -> 96 | B101: Mokytojas Bachmannas ir jo klasė | C101: Herr Bachmann und seine Klasse | D101: DE | E101: 5 | F101: 2 | G101: 1 | H101: 44644 | I101: Europos kinas
E102: =SUBTOTAL(109,Table3_Balandis[Pajamos]) -> 1511852.6 | F102: =SUBTOTAL(109,Table3_Balandis[Žiūrovų skaičius]) -> 257001

Sheet Gegužė
A1: ='2022'!A1 -> 2022
A2: ='2022'!A2 -> Lietuvos kino teatruose rodytų filmų TOP
A3: Gegužė
A5: Eil. Nr. | B5: Filmo pavadinimas | C5: Filmo pavadinimas originalo kalba | D5: Kilmės šalis | E5: Pajamos | F5: Žiūrovų skaičius | G5: Kopijų skaičius | H5: Premjeros data | I5: Platintojas
A6: =IF(B6<>"",ROWS($B$6:B6),"") -> 1 | B6: Daktaras Streindžas beprotybės multivisatoje | C6: Doctor Strange in the Multiverse of Madness | D6: US | E6: 369845.33 | F6: 51071 | G6: 29 | H6: 44687 | I6: Theatrical Film Distribution / WDSMPI
A7: =IF(B7<>"",ROWS($B$6:B7),"") -> 2 | B7: Asas Maverikas | C7: Top Gun Maverick | D7: US | E7: 88574.22 | F7: 11900 | G7: 19 | H7: 44708 | I7: Dukine Film Distribution / Paramount Pictures
A8: =IF(B8<>"",ROWS($B$6:B8),"") -> 3 | B8: Ežiukas Sonic 2 | C8: Sonic The Hedgehog 2 | D8: US, CA, JP | E8: 86380.98 | F8: 16571 | G8: 13 | H8: 44652 | I8: Dukine Film Distribution / Paramount Pictures
A9: =IF(B9<>"",ROWS($B$6:B9),"") -> 4 | B9: Eskortės | C9: Girls To Buy | D9: PL | E9: 60084 | F9: 11057 | G9: 11 | H9: 44673 | I9: Garsų pasaulio įrašai
A10: =IF(B10<>"",ROWS($B$6:B10),"") -> 5 | B10: Fantastiniai gyvūnai: Dumbldoro paslaptys | C10: Fantastic Beasts: The Secrets of Dumbledore | D10: US, UK | E10: 58789.45 | F10: 9250 | G10: 12 | H10: 44666 | I10: ACME Film / WB
A11: =IF(B11<>"",ROWS($B$6:B11),"") -> 6 | B11: Drugelio Širdis | C11: Drugelio Širdis | D11: LT | E11: 51383.37 | F11: 13135 | G11: 14 | H11: 44659 | I11: ACME Film
A12: =IF(B12<>"",ROWS($B$6:B12),"") -> 7 | B12: Prarastas miestas | C12: The Lost City | D12: US | E12: 40820.69 | F12: 6547 | G12: 8 | H12: 44659 | I12: Dukine Film Distribution / Paramount Pictures
A13: =IF(B13<>"",ROWS($B$6:B13),"") -> 8 | B13: Bitė Maja. Auksinis kiaušinis | C13: Maya the Bee 3: The Golden Orb | D13: DE, AT | E13: 37645 | F13: 7937 | G13: 14 | H13: 44694 | I13: Garsų pasaulio įrašai
A14: =IF(B14<>"",ROWS($B$6:B14),"") -> 9 | B14: Blogiukai | C14: Bad Guys | D14: US | E14: 34843.32 | F14: 7001 | G14: 7 | H14: 44638 | I14: Dukine Film Distribution / Universal Pictures
A15: =IF(B15<>"",ROWS($B$6:B15),"") -> 10 | B15: Raudonoji panda | C15: Turning Red | D15: US | E15: 33807.47 | F15: 6564 | G15: 10 | H15: 44631 | I15: Theatrical Film Distribution / WDSMPI
A16: =IF(B16<>"",ROWS($B$6:B16),"") -> 11 | B16: Kambarys 203 | C16: Room 203 | D16: US | E16: 30651 | F16: 5342 | G16: 15 | H16: 44701 | I16: Garsų pasaulio įrašai
A17: =IF(B17<>"",ROWS($B$6:B17),"") -> 12 | B17: Ups! Nuotykiai tęsiasi | C17: Ooops! The adventure continues | D17: DE, LU, IE | E17: 26268 | F17: 5632 | G17: 17 | H17: 44680 | I17: Garsų pasaulio įrašai
... A29: =IF(B29<>"",ROWS($B$6:B29),"") -> 24 | B29: Blogiausias žmogus pasaulyje | C29: Verdens verste menneske | D29: NO, FR, SE, DK | E29: 3702.57 | F29: 687 | G29: 5 | H29: 44655 | I29: Europos kinas
A30: =IF(B30<>"",ROWS($B$6:B30),"") -> 25 | B30: Aš esu Zlatanas | C30: Jag är Zlatan | D30: SE | E30: 3300 | F30: 658 | G30: 4 | H30: 44673 | I30: Estinfilm
A31: =IF(B31<>"",ROWS($B$6:B31),"") -> 26 | B31: Knygynas Paryžiuje | C31: A Bookshop in Paris | D31: FR, IT | E31: 3080.9 | F31: 471 | G31: 14 | H31: 44708 | I31: Best Film
A32: =IF(B32<>"",ROWS($B$6:B32),"") -> 27 | B32: Laukiniai vyrai | C32: Wild men | D32: DK | E32: 2672.5 | F32: 498 | G32: 2 | H32: 44673 | I32: A-One Films
A33: =IF(B33<>"",ROWS($B$6:B33),"") -> 28 | B33: Piligrimai | C33: Piligrimai | D33: LT | E33: 2535.25 | F33: 495 | G33: 7 | H33: 44659 | I33: Europos kinas
A34: =IF(B34<>"",ROWS($B$6:B34),"") -> 29 | B34: Murena | C34: Murina | D34: HR | E34: 2497 | F34: 502 | G34: 5 | H34: 44694 | I34: A-One Films
A35: =IF(B35<>"",ROWS($B$6:B35),"") -> 30 | B35: Tarp dviejų pasaulių | C35: Between Two Words | D35: FR | E35: 2188.14 | F35: 401 | G35: 12 | H35: 44701 | I35: Best Film
A36: =IF(B36<>"",ROWS($B$6:B36),"") -> 31 | B36: Post Mortem | C36: Post Mortem | D36: HU | E36: 2101.53 | F36: 356 | G36: 16 | H36: 44680 | I36: Theatrical Film Distribution
A37: =IF(B37<>"",ROWS($B$6:B37),"") -> 32 | B37: Šuolis | C37: Šuolis | D37: LT | E37: 1946.5 | F37: 420 | G37: 1 | H37: 44456 | I37: Moonmakers
A38: =IF(B38<>"",ROWS($B$6:B38),"") -> 33 | B38: Gerasis bosas | C38: El Buen Patrón | D38: ES | E38: 1869.95 | F38: 303 | G38: 5 | H38: 44655 | I38: Europos kinas
A39: =IF(B39<>"",ROWS($B$6:B39),"") -> 34 | B39: Kernagis | C39: Kernagis | D39: LT | E39: 1461.95 | F39: 281 | G39: 2 | H39: 44610 | I39: Kino pasaka
A40: =IF(B40<>"",ROWS($B$6:B40),"") -> 35 | B40: Menki juokai | C40: Ingenting Å Le Av | D40: NO, LT | E40: 1401.21 | F40: 260 | G40: 9 | H40: 44694 | I40: Ahil
A41: =IF(B41<>"",ROWS($B$6:B41),"") -> 36 | B41: Charlotte apie Jane | C41: Jane par Charlotte | D41: FR | E41: 1281 | F41: 264 | G41: 4 | H41: 44680 | I41: A-One Films
A42: =IF(B42<>"",ROWS($B$6:B42),"") -> 37 | B42: Nenormali | C42: Psychobitch | D42: NO | E42: 1144 | F42: 449 | G42: 1 | H42: 44680 | I42: KC Garsas
A43: =IF(B43<>"",ROWS($B$6:B43),"") -> 38 | B43: Drąsiau drąsiau | C43: C'mon C'mon | D43: US | E43: 1027.5 | F43: 320 | G43: 14 | H43: 44589 | I43: A-One Films
A44: =IF(B44<>"",ROWS($B$6:B44),"") -> 39 | B44: Mažytė mama | C44: Petite maman | D44: FR | E44: 826.5 | F44: 173 | G44: 2 | H44: 44655 | I44: Europos kinas
A45: =IF(B45<>"",ROWS($B$6:B45),"") -> 40 | B45: Ypatingieji | C45: The Specials | D45: FR | E45: 800 | F45: 160 | G45: 1 | H45: 43868 | I45: Theatrical Film Distribution
A46: =IF(B46<>"",ROWS($B$6:B46),"") -> 41 | B46: Aš niekada neverkiu | C46: Jak Najdalej Stad | D46: PL, IE | E46: 795 | F46: 159 | G46: 1 | H46: 44431 | I46: Skalvijos kino centras
A47: =IF(B47<>"",ROWS($B$6:B47),"") -> 42 | B47: Drive My Car | C47: Drive My Car | D47: JP | E47: 718.5 | F47: 136 | G47: 2 | H47: 44533 | I47: A-One Films
A48: =IF(B48<>"",ROWS($B$6:B48),"") -> 43 | B48: Pilė | C48: Les aventures de pil (Pil's Adventures) | D48: FR | E48: 686.57 | F48: 146 | G48: 1 | H48: 44533 | I48: ACME Film
A49: =IF(B49<>"",ROWS($B$6:B49),"") -> 44 | B49: Mano žmonos istorija | C49: A Feleségem Története. | D49: HU, DE, FR, IT | E49: 679.91 | F49: 141 | G49: 8 | H49: 44694 | I49: Kino Aljansas
A50: =IF(B50<>"",ROWS($B$6:B50),"") -> 45 | B50: Betmenas | C50: The Batman | D50: US | E50: 670.14 | F50: 137 | G50: 2 | H50: 44624 | I50: ACME Film / WB
A51: =IF(B51<>"",ROWS($B$6:B51),"") -> 46 | B51: Gauja | C51: Smecka | D51: CZ, SK, LV | E51: 665 | F51: 133 | G51: 1 | H51: 44330 | I51: Skalvijos kino centras
A52: =IF(B52<>"",ROWS($B$6:B52),"") -> 47 | B52: Aš esu Greta | C52: I Am Greta | D52: SE | E52: 625.5 | F52: 139 | G52: 1 | H52: 44316 | I52: Europos kinas
A53: =IF(B53<>"",ROWS($B$6:B53),"") -> 48 | B53: Saulėlydis | C53: Sundown | D53: MX, FR, SE | E53: 574 | F53: 108 | G53: 5 | H53: 44655 | I53: Europos kinas
A54: =IF(B54<>"",ROWS($B$6:B54),"") -> 49 | B54: Jokūbas, Mimi ir kalbantys šunys | C54: Jekabs, Mimmi un runajosie suni | D54: LV, PL | E54: 566 | F54: 235 | G54: 1 | H54: 44114 | I54: Skalvijos kino centras
A55: =IF(B55<>"",ROWS($B$6:B55),"") -> 50 | B55: Avelė | C55: Dýrið | D55: IS, PL, SE | E55: 508.9 | F55: 136 | G55: 7 | H55: 44692 | I55: Kino Aljansas
A56: =IF(B56<>"",ROWS($B$6:B56),"") -> 51 | B56: Fantazijos tik suaugusiems | C56: Fantasies | D56: FR | E56: 497 | F56: 81 | G56: 2 | H56: 44603 | I56: Garsų pasaulio įrašai
A57: =IF(B57<>"",ROWS($B$6:B57),"") -> 52 | B57: Liepsnojanti širdis | C57: Fireheart | D57: FR, CA | E57: 450.12 | F57: 54 | G57: 1 | H57: 44603 | I57: ACME Film
A58: =IF(B58<>"",ROWS($B$6:B58),"") -> 53 | B58: žeme, stop | C58: stop-zemlia | D58: UA | E58: 363 | F58: 280 | G58: 1 | H58: 44707 | I58: Skalvijos kino centras
A59: =IF(B59<>"",ROWS($B$6:B59),"") -> 54 | B59: Spencer | C59: Spencer | D59: UK, DE, US | E59: 366.06 | F59: 92 | G59: 1 | H59: 44631 | I59: ACME Film
A60: =IF(B60<>"",ROWS($B$6:B60),"") -> 55 | B60: Neatrastas | C60: Uncharted | D60: US | E60: 350.33 | F60: 63 | G60: 1 | H60: 44610 | I60: ACME Film / SONY
A61: =IF(B61<>"",ROWS($B$6:B61),"") -> 56 | B61: Paryžius. 13-as rajonas | C61: Les Olympiades, Paris 13e | D61: FR | E61: 328 | F61: 143 | G61: 2 | H61: 44561 | I61: A-One Films
A62: =IF(B62<>"",ROWS($B$6:B62),"") -> 57 | B62: Arčiau debesų | C62: Cloudboy | D62: BG, SE, NL, NO | E62: 314 | F62: 114 | G62: 1 | H62: 42988 | I62: Skalvijos kino centras
A63: =IF(B63<>"",ROWS($B$6:B63),"") -> 58 | B63: Trys šeimos | C63: Tre piani | D63: IT, FR | E63: 300 | F63: 83 | G63: 2 | H63: 44617 | I63: A-One Films
A64: =IF(B64<>"",ROWS($B$6:B64),"") -> 59 | B64: Mūsų namai | C64: Where We Belong | D64: CH | E64: 270 | F64: 54 | G64: 1 | H64: 44350 | I64: Skalvijos kino centras
A65: =IF(B65<>"",ROWS($B$6:B65),"") -> 60 | B65: Ties virimo riba | C65: Boiling Point | D65: UK | E65: 259.5 | F65: 50 | G65: 1 | H65: 44655 | I65: Europos kinas
A66: =IF(B66<>"",ROWS($B$6:B66),"") -> 61 | B66: Saldymedžio pica | C66: Licorice Pizza | D66: US | E66: 248 | F66: 56 | G66: 1 | H66: 44617 | I66: Dukine Film Distribution / Universal Pictures
A67: =IF(B67<>"",ROWS($B$6:B67),"") -> 62 | B67: Drakonas ir strazdanotoji gražuolė | C67: Ryû to sobakasu no hime | D67: JP | E67: 234 | F67: 104 | G67: 2 | H67: 44655 | I67: Europos kinas
A68: =IF(B68<>"",ROWS($B$6:B68),"") -> 63 | B68: Alkarasas | C68: Alcarràs | D68: ES, IT | E68: 214.5 | F68: 48 | G68: 4 | H68: 44655 | I68: Europos kinas
A69: =IF(B69<>"",ROWS($B$6:B69),"") -> 64 | B69: Memoria | C69: Memoria | D69: CO, TH, UK, MX, FR | E69: 204 | F69: 51 | G69: 2 | H69: 44655 | I69: Europos kinas
A70: =IF(B70<>"",ROWS($B$6:B70),"") -> 65 | B70: Tamsta Varlius | C70: Meester Kikker | D70: NL | E70: 196 | F70: 98 | G70: 1 | H70: 42654 | I70: Skalvijos kino centras
A71: =IF(B71<>"",ROWS($B$6:B71),"") -> 66 | B71: Jos vardas Prancūzija | C71: France | D71: FR, DE, IT, BE | E71: 179.5 | F71: 47 | G71: 4 | H71: 44655 | I71: Europos kinas
A72: =IF(B72<>"",ROWS($B$6:B72),"") -> 67 | B72: Nepalikti žymių | C72: Żeby Nie Było Śladów | D72: FR, PL, CZ | E72: 161 | F72: 38 | G72: 6 | H72: 44693 | I72: Kino Aljansas
A73: =IF(B73<>"",ROWS($B$6:B73),"") -> 68 | B73: Mano mama gorila | C73: Apstjärnan | D73: SE, DK, FI | E73: 156 | F73: 79 | G73: 1 | H73: 44493 | I73: Skalvijos kino centras
A74: =IF(B74<>"",ROWS($B$6:B74),"") -> 69 | B74: Mano nuostabioji Vanda | C74: Wanda, mein Wunder | D74: CH | E74: 149 | F74: 31 | G74: 3 | H74: 44687 | I74: Kino pasaka
A75: =IF(B75<>"",ROWS($B$6:B75),"") -> 70 | B75: Morbijus | C75: Morbius | D75: US | E75: 145.8 | F75: 22 | G75: 1 | H75: 44652 | I75: ACME Film / SONY
A76: =IF(B76<>"",ROWS($B$6:B76),"") -> 71 | B76: Bintė | C76: Binti | D76: BE | E76: 140 | F76: 28 | G76: 1 | H76: 44080 | I76: Skalvijos kino centras
A77: =IF(B77<>"",ROWS($B$6:B77),"") -> 72 | B77: Viskas bus kitaip | C77: Everything Will Change | D77: DE, NL | E77: 126 | F77: 63 | G77: 1 | H77: 44655 | I77: Europos kinas
A78: =IF(B78<>"",ROWS($B$6:B78),"") -> 73 | B78: Paskutiniai ir pirmieji žmonės | C78: Last and First Men | D78: IS | E78: 113 | F78: 24 | G78: 1 | H78: 44476 | I78: A-One Films
A79: =IF(B79<>"",ROWS($B$6:B79),"") -> 74 | B79: Mano vilkas | C79: Mystere | D79: FR | E79: 108 | F79: 36 | G79: 1 | H79: 44589 | I79: Theatrical Film Distribution
A80: =IF(B80<>"",ROWS($B$6:B80),"") -> 75 | B80: Anapus laiko ir šviesos | C80: Anapus laiko ir šviesos | D80: LT | E80: 106.1 | F80: 30 | G80: 2 | H80: 44631 | I80: Broom Films
A81: =IF(B81<>"",ROWS($B$6:B81),"") -> 76 | B81: Vaiduoklių žemė | C81: Incident In A Ghost Land | D81: CA, FR | E81: 100.25 | F81: 20 | G81: 1 | H81: 43182 | I81: Theatrical Film Distribution
A82: =IF(B82<>"",ROWS($B$6:B82),"") -> 77 | B82: Tarp pilkų debesų | C82: Tarp pilkų debesų | D82: LT | E82: 92 | F82: 23 | G82: 1 | H82: 43385 | I82: ACME Film
A83: =IF(B83<>"",ROWS($B$6:B83),"") -> 78 | B83: Bergmano sala | C83: Bergman Island | D83: BE, FR, SE, DE | E83: 81 | F83: 16 | G83: 2 | H83: 44606 | I83: Kino Aljansas
A84: =IF(B84<>"",ROWS($B$6:B84),"") -> 79 | B84: Tarpininkas | C84: The Middle Man | D84: DK, CA, NO, DE | E84: 76 | F84: 14 | G84: 1 | H84: 44606 | I84: Kino Aljansas
A85: =IF(B85<>"",ROWS($B$6:B85),"") -> 80 | B85: Anetė | C85: Annette | D85: FR, DE, BE, JP, MX | E85: 61 | F85: 11 | G85: 1 | H85: 44655 | I85: Europos kinas
A86: =IF(B86<>"",ROWS($B$6:B86),"") -> 81 | B86: Nedvejok | C86: Do Not Hesitate | D86: NL | E86: 58.5 | F86: 12 | G86: 1 | H86: 44606 | I86: Kino Aljansas
A87: =IF(B87<>"",ROWS($B$6:B87),"") -> 82 | B87: Išgyvenęs | C87: The Survivor | D87: US, CA, HU | E87: 55 | F87: 11 | G87: 2 | H87: 44652 | I87: Theatrical Film Distribution
A88: =IF(B88<>"",ROWS($B$6:B88),"") -> 83 | B88: Prancūzijos kronikos iš Liberčio, Kanzaso vakaro saulės | C88: The French Dispatch of the Liberty, Kansas Evening Sun | D88: US, DE | E88: 52 | F88: 10 | G88: 1 | H88: 44512 | I88: Theatrical Film Distribution
A89: =IF(B89<>"",ROWS($B$6:B89),"") -> 84 | B89: Bėgikė | C89: Bėgikė | D89: LT | E89: 50 | F89: 10 | G89: 1 | H89: 44519 | I89: M-Films
A90: =IF(B90<>"",ROWS($B$6:B90),"") -> 85 | B90: Likimas ir fantazijos | C90: Guzen to Sozo | D90: JP | E90: 46.5 | F90: 10 | G90: 2 | H90: 44655 | I90: Europos kinas
A91: =IF(B91<>"",ROWS($B$6:B91),"") -> 86 | B91: Neramieji | C91: Les intranquilles | D91: BE, LU, FR | E91: 43 | F91: 10 | G91: 1 | H91: 44655 | I91: Europos kinas
A92: =IF(B92<>"",ROWS($B$6:B92),"") -> 87 | B92: Pirmoji karvė | C92: First Cow | D92: US | E92: 23.5 | F92: 7 | G92: 1 | H92: 44655 | I92: Europos kinas
A93: =IF(B93<>"",ROWS($B$6:B93),"") -> 88 | B93: Mano mažasis karalius | C93: King | D93: FR, BE | E93: 20.5 | F93: 9 | G93: 1 | H93: 44645 | I93: ACME Film
A94: =IF(B94<>"",ROWS($B$6:B94),"") -> 89 | B94: Herojus | C94: Ghahreman | D94: IR, FR | E94: 9 | F94: 2 | G94: 1 | H94: 44655 | I94: Europos kinas
A95: =IF(B95<>"",ROWS($B$6:B95),"") -> 90 | B95: Quo vadis, Aida? | C95: Quo vadis, Aida? | D95: BA, AT, RO, NL, DE, PL, FR | E95: 6.15 | F95: 1 | G95: 1 | H95: 44316 | I95: Europos kinas
E96: =SUBTOTAL(109,Table3_Gegužė[Pajamos]) -> 1064324.8 | F96: =SUBTOTAL(109,Table3_Gegužė[Žiūrovų skaičius]) -> 179418

Sheet Birželis
A1: ='2022'!A1 -> 2022
A2: ='2022'!A2 -> Lietuvos kino teatruose rodytų filmų TOP
A3: Birželis
A5: Eil. Nr. | B5: Filmo pavadinimas | C5: Filmo pavadinimas originalo kalba | D5: Kilmės šalis | E5: Pajamos | F5: Žiūrovų skaičius | G5: Kopijų skaičius | H5: Premjeros data | I5: Platintojas
A6: =IF(B6<>"",ROWS($B$6:B6),"") -> 1 | B6: Jūros periodo pasaulis. Viešpatavimas | C6: Jurassic World: Dominion | D6: US | E6: 155357.74 | F6: 23948 | G6: 28 | H6: 44722 | I6: Dukine Film Distribution / Universal Pictures
A7: =IF(B7<>"",ROWS($B$6:B7),"") -> 2 | B7: Asas Maverikas | C7: Top Gun Maverick | D7: US | E7: 150772.27 | F7: 23751 | G7: 18 | H7: 44708 | I7: Dukine Film Distribution / Paramount Pictures
A8: =IF(B8<>"",ROWS($B$6:B8),"") -> 3 | B8: Kartą kaime | C8: Kartą kaime | D8: LT | E8: 82437.69 | F8: 14012 | G8: 13 | H8: 44736 | I8: Munis
A9: =IF(B9<>"",ROWS($B$6:B9),"") -> 4 | B9: Marmadukas | C9: Marmaduke | D9: US | E9: 66929.48 | F9: 15733 | G9: 16 | H9: 44715 | I9: ACME Film
A10: =IF(B10<>"",ROWS($B$6:B10),"") -> 5 | B10: Elvis | C10: Elvis | D10: US | E10: 65457.15 | F10: 9525 | G10: 17 | H10: 44736 | I10: ACME Film / WB
A11: =IF(B11<>"",ROWS($B$6:B11),"") -> 6 | B11: Šviesmetis | C11: Lightyear | D11: US | E11: 61081.2 | F11: 13904 | G11: 21 | H11: 44729 | I11: Theatrical Film Distribution / WDSMPI
A12: =IF(B12<>"",ROWS($B$6:B12),"") -> 7 | B12: Daktaras Streindžas beprotybės multivisatoje | C12: Doctor Strange in the Multiverse of Madness | D12: US | E12: 51227.3 | F12: 8455 | G12: 19 | H12: 44687 | I12: Theatrical Film Distribution / WDSMPI
A13: =IF(B13<>"",ROWS($B$6:B13),"") -> 8 | B13: Ežiukas Sonic 2 | C13: Sonic The Hedgehog 2 | D13: US, CA, JP | E13: 38075.41 | F13: 8338 | G13: 11 | H13: 44652 | I13: Dukine Film Distribution / Paramount Pictures
A14: =IF(B14<>"",ROWS($B$6:B14),"") -> 9 | B14: Blogiukai | C14: Bad Guys | D14: US | E14: 24158.29 | F14: 5506 | G14: 6 | H14: 44638 | I14: Dukine Film Distribution / Universal Pictures
A15: =IF(B15<>"",ROWS($B$6:B15),"") -> 10 | B15: Drugelio Širdis | C15: Drugelio Širdis | D15: LT | E15: 23320.64 | F15: 6743 | G15: 19 | H15: 44659 | I15: ACME Film
A16: =IF(B16<>"",ROWS($B$6:B16),"") -> 11 | B16: Juodas telefonas | C16: The Black Phone | D16: US | E16: 20808.26 | F16: 3314 | G16: 15 | H16: 44736 | I16: Dukine Film Distribution / Universal Pictures
A17: =IF(B17<>"",ROWS($B$6:B17),"") -> 12 | B17: Koatis - džiunglių drąsuolis | C17: Koati | D17: MX, US | E17: 18485.47 | F17: 4945 | G17: 19 | H17: 44708 | I17: VLG film
A18: =IF(B18<>"",ROWS($B$6:B18),"") -> 13 | B18: Pakalikai 2 | C18: Minions: The Rise of Gru | D18: US | E18: 17658.41 | F18: 3276 | G18: 12 | H18: 44743 | I18: Dukine Film Distribution / Universal Pictures
A19: =IF(B19<>"",ROWS($B$6:B19),"") -> 14 | B19: Raudonoji panda | C19: Turning Red | D19: US | E19: 15700.28 | F19: 3522 | G19: 8 | H19: 44631 | I19: Theatrical Film Distribution / WDSMPI
A20: =IF(B20<>"",ROWS($B$6:B20),"") -> 15 | B20: Kambarys 203 | C20: Room 203 | D20: US | E20: 14588 | F20: 2246 | G20: 13 | H20: 44701 | I20: Garsų pasaulio įrašai
A21: =IF(B21<>"",ROWS($B$6:B21),"") -> 16 | B21: Eskortės | C21: Girls To Buy | D21: PL | E21: 14473 | F21: 2113 | G21: 9 | H21: 44673 | I21: Garsų pasaulio įrašai
A22: =IF(B22<>"",ROWS($B$6:B22),"") -> 17 | B22: Vyrai | C22: Men | D22: UK | E22: 14061.35 | F22: 2564 | G22: 18 | H22: 44729 | I22: VLG film
A23: =IF(B23<>"",ROWS($B$6:B23),"") -> 18 | B23: Fantastiniai gyvūnai: Dumbldoro paslaptys | C23: Fantastic Beasts: The Secrets of Dumbledore | D23: US, UK | E23: 8369.54 | F23: 1381 | G23: 6 | H23: 44666 | I23: ACME Film / WB
A24: =IF(B24<>"",ROWS($B$6:B24),"") -> 19 | B24: Prarastas miestas | C24: The Lost City | D24: US | E24: 7779.38 | F24: 1269 | G24: 5 | H24: 44659 | I24: Dukine Film Distribution / Paramount Pictures
A25: =IF(B25<>"",ROWS($B$6:B25),"") -> 20 | B25: Klonas | C25: Dual | D25: US, FI | E25: 6559.87 | F25: 1225 | G25: 10 | H25: 44729 | I25: Best Film
A26: =IF(B26<>"",ROWS($B$6:B26),"") -> 21 | B26: Knygynas Paryžiuje | C26: A Bookshop in Paris | D26: FR, IT | E26: 5777.85 | F26: 1041 | G26: 15 | H26: 44708 | I26: Best Film
A27: =IF(B27<>"",ROWS($B$6:B27),"") -> 22 | B27: Bitė Maja. Auksinis kiaušinis | C27: Maya the Bee 3: The Golden Orb | D27: DE, AT | E27: 5516 | F27: 1296 | G27: 11 | H27: 44694 | I27: Garsų pasaulio įrašai
A28: =IF(B28<>"",ROWS($B$6:B28),"") -> 23 | B28: Viskas iškart ir visur | C28: Everything Everywhere All at Once | D28: US | E28: 4575.9 | F28: 800 | G28: 3 | H28: 44680 | I28: VLG film
A29: =IF(B29<>"",ROWS($B$6:B29),"") -> 24 | B29: Gerasis bosas | C29: El Buen Patrón | D29: ES | E29: 4251.52 | F29: 715 | G29: 3 | H29: 44655 | I29: Europos kinas
A30: =IF(B30<>"",ROWS($B$6:B30),"") -> 25 | B30: Vilkas ir liūtas | C30: The Wolf and The Lion | D30: FR | E30: 2864 | F30: 968 | G30: 1 | H30: 44512 | I30: Garsų pasaulio įrašai
A31: =IF(B31<>"",ROWS($B$6:B31),"") -> 26 | B31: Ką matome žiūrėdami į dangų | C31: Ras vkhedavt, rodesac cas vukurebt? | D31: GE, DE | E31: 2311.5 | F31: 480 | G31: 6 | H31: 44729 | I31: A-One Films
A32: =IF(B32<>"",ROWS($B$6:B32),"") -> 27 | B32: Ups! Nuotykiai tęsiasi | C32: Ooops! The adventure continues | D32: DE, LU, IE | E32: 2246 | F32: 526 | G32: 7 | H32: 44680 | I32: Garsų pasaulio įrašai
A33: =IF(B33<>"",ROWS($B$6:B33),"") -> 28 | B33: Blogiausias žmogus pasaulyje | C33: Verdens verste menneske | D33: NO, FR, SE, DK | E33: 2180.5 | F33: 412 | G33: 4 | H33: 44655 | I33: Europos kinas
A34: =IF(B34<>"",ROWS($B$6:B34),"") -> 29 | B34: Visos mūsų baimės | C34: Wszystkie nasze strachy | D34: PL | E34: 1497 | F34: 371 | G34: 6 | H34: 44719 | I34: A-One Films
A35: =IF(B35<>"",ROWS($B$6:B35),"") -> 30 | B35: Žaidimų aikštelė | C35: Un monde | D35: BE | E35: 1470 | F35: 521 | G35: 1 | H35: 44707 | I35: KC Garsas
A36: =IF(B36<>"",ROWS($B$6:B36),"") -> 31 | B36: Piligrimai | C36: Piligrimai | D36: LT | E36: 1277 | F36: 269 | G36: 4 | H36: 44659 | I36: Europos kinas
A37: =IF(B37<>"",ROWS($B$6:B37),"") -> 32 | B37: Į mėnulį | C37: Moonbound | D37: DE, AT | E37: 1187.76 | F37: 504 | G37: 3 | H37: 44470 | I37: ACME Film
A38: =IF(B38<>"",ROWS($B$6:B38),"") -> 33 | B38: Nenormali | C38: Psychobitch | D38: NO | E38: 1145 | F38: 450 | G38: 1 | H38: 44680 | I38: KC Garsas
A39: =IF(B39<>"",ROWS($B$6:B39),"") -> 34 | B39: Muminuko nuotykiai | C39: The Exploits of Moominpappa | D39: FI, PL | E39: 1091 | F39: 278 | G39: 5 | H39: 44715 | I39: Estinfilm
A40: =IF(B40<>"",ROWS($B$6:B40),"") -> 35 | B40: Vikingas | C40: The Northman | D40: US | E40: 980.6 | F40: 153 | G40: 2 | H40: 44666 | I40: Dukine Film Distribution / Universal Pictures
A41: =IF(B41<>"",ROWS($B$6:B41),"") -> 36 | B41: Operacija "Mincemeat" | C41: Operation Mincemeat | D41: UK, US | E41: 948.54 | F41: 146 | G41: 4 | H41: 44694 | I41: ACME Film
A42: =IF(B42<>"",ROWS($B$6:B42),"") -> 37 | B42: Drąsiau drąsiau | C42: C'mon C'mon | D42: US | E42: 934 | F42: 185 | G42: 1 | H42: 44589 | I42: A-One Films
A43: =IF(B43<>"",ROWS($B$6:B43),"") -> 38 | B43: Suteik man sparnus | C43: Donne moi des Ailes | D43: FR | E43: 848.5 | F43: 291 | G43: 1 | H43: 43987 | I43: Europos kinas
A44: =IF(B44<>"",ROWS($B$6:B44),"") -> 39 | B44: Dičkis šuo Klifordas | C44: Clifford The Big Red Dog | D44: US, UK, CA | E44: 818 | F44: 397 | G44: 2 | H44: 44568 | I44: Dukine Film Distribution / Paramount Pictures
A45: =IF(B45<>"",ROWS($B$6:B45),"") -> 40 | B45: Gauja | C45: Smecka | D45: CZ, SK, LV | E45: 755 | F45: 151 | G45: 1 | H45: 44330 | I45: Skalvijos kino centras
A46: =IF(B46<>"",ROWS($B$6:B46),"") -> 41 | B46: Liepsnojanti širdis | C46: Fireheart | D46: FR, CA | E46: 687.5 | F46: 391 | G46: 3 | H46: 44603 | I46: ACME Film
A47: =IF(B47<>"",ROWS($B$6:B47),"") -> 42 | B47: Mano mama gorila | C47: Apstjärnan | D47: SE, DK, FI | E47: 642 | F47: 255 | G47: 1 | H47: 44493 | I47: Skalvijos kino centras
A48: =IF(B48<>"",ROWS($B$6:B48),"") -> 43 | B48: O tada mes šokome | C48: And Then We Danced | D48: SE, GE, FR | E48: 605.5 | F48: 249 | G48: 2 | H48: 43791 | I48: A-One Films
A49: =IF(B49<>"",ROWS($B$6:B49),"") -> 44 | B49: Šuolis | C49: Šuolis | D49: LT | E49: 603.5 | F49: 125 | G49: 1 | H49: 44456 | I49: Moonmakers
A50: =IF(B50<>"",ROWS($B$6:B50),"") -> 45 | B50: Net ir pelės keliauja į dangų | C50: I mysi patrí do nebe | D50: CZ, FR, PL, SK | E50: 599 | F50: 236 | G50: 1 | H50: 44716 | I50: Skalvijos kino centras
A51: =IF(B51<>"",ROWS($B$6:B51),"") -> 46 | B51: Pilė | C51: Les aventures de pil (Pil's Adventures) | D51: FR | E51: 528 | F51: 239 | G51: 3 | H51: 44533 | I51: ACME Film
A52: =IF(B52<>"",ROWS($B$6:B52),"") -> 47 | B52: Padūkėlė Turu | C52: Turu the Wacky Hen | D52: ES, AR | E52: 521.76 | F52: 226 | G52: 3 | H52: 44386 | I52: ACME Film
A53: =IF(B53<>"",ROWS($B$6:B53),"") -> 48 | B53: Mano vilkas | C53: Mystere | D53: FR | E53: 481.5 | F53: 225 | G53: 2 | H53: 44589 | I53: Theatrical Film Distribution
A54: =IF(B54<>"",ROWS($B$6:B54),"") -> 49 | B54: Fantazijos tik suaugusiems | C54: Fantasies | D54: FR | E54: 467 | F54: 92 | G54: 2 | H54: 44603 | I54: Garsų pasaulio įrašai
A55: =IF(B55<>"",ROWS($B$6:B55),"") -> 50 | B55: Tamsta Varlius | C55: Meester Kikker | D55: NL | E55: 448 | F55: 132 | G55: 1 | H55: 42654 | I55: Skalvijos kino centras
A56: =IF(B56<>"",ROWS($B$6:B56),"") -> 51 | B56: Tyli naktis | C56: Silent night | D56: UK | E56: 419 | F56: 82 | G56: 2 | H56: 44687 | I56: Garsų pasaulio įrašai
A57: =IF(B57<>"",ROWS($B$6:B57),"") -> 52 | B57: Mano žmonos istorija | C57: A Feleségem Története. | D57: HU, DE, FR, IT | E57: 392.5 | F57: 75 | G57: 3 | H57: 44694 | I57: Kino Aljansas
A58: =IF(B58<>"",ROWS($B$6:B58),"") -> 53 | B58: Avelė | C58: Dýrið | D58: IS, PL, SE | E58: 382.9 | F58: 99 | G58: 3 | H58: 44692 | I58: Kino Aljansas
A59: =IF(B59<>"",ROWS($B$6:B59),"") -> 54 | B59: Svajoklis Budis 2 | C59: Rock Dog 2 | D59: US | E59: 342.17 | F59: 129 | G59: 3 | H59: 44414 | I59: ACME Film
A60: =IF(B60<>"",ROWS($B$6:B60),"") -> 55 | B60: Saulėlydis | C60: Sundown | D60: MX, FR, SE | E60: 340.5 | F60: 61 | G60: 4 | H60: 44655 | I60: Europos kinas
A61: =IF(B61<>"",ROWS($B$6:B61),"") -> 56 | B61: Dainuok 2 | C61: Sing 2 | D61: US | E61: 324.5 | F61: 131 | G61: 2 | H61: 44552 | I61: Dukine Film Distribution / Universal Pictures
A62: =IF(B62<>"",ROWS($B$6:B62),"") -> 57 | B62: Drive My Car | C62: Drive My Car | D62: JP | E62: 321 | F62: 73 | G62: 2 | H62: 44533 | I62: A-One Films
A63: =IF(B63<>"",ROWS($B$6:B63),"") -> 58 | B63: Dylere | C63: La Dorrone | D63: FR | E63: 300 | F63: 200 | G63: 1 | H63: 44106 | I63: A-One Films
A64: =IF(B64<>"",ROWS($B$6:B64),"") -> 59 | B64: Riba | C64: Border | D64: SE, DE | E64: 300 | F64: 180 | G64: 1 | H64: 43518 | I64: A-One Films
A65: =IF(B65<>"",ROWS($B$6:B65),"") -> 60 | B65: Didžioji laisvė | C65: Great freedom | D65: DE | E65: 279 | F65: 48 | G65: 1 | H65: 44568 | I65: A-One Films
A66: =IF(B66<>"",ROWS($B$6:B66),"") -> 61 | B66: Bintė | C66: Binti | D66: BE | E66: 269 | F66: 112 | G66: 1 | H66: 44080 | I66: Skalvijos kino centras
A67: =IF(B67<>"",ROWS($B$6:B67),"") -> 62 | B67: Dauntono Abatija 2: nauja era | C67: Downton Abbey: A New Era | D67: UK, US | E67: 253 | F67: 41 | G67: 1 | H67: 44680 | I67: Dukine Film Distribution / Universal Pictures
A68: =IF(B68<>"",ROWS($B$6:B68),"") -> 63 | B68: Jokūbas, Mimi ir kalbantys šunys | C68: Jekabs, Mimmi un runajosie suni | D68: LV, PL | E68: 237 | F68: 69 | G68: 1 | H68: 44114 | I68: Skalvijos kino centras
A69: =IF(B69<>"",ROWS($B$6:B69),"") -> 64 | B69: Nesijaudink, jis toli nenueis | C69: Don't Worry, He Won't Get Far on Foot | D69: US, FR | E69: 233.5 | F69: 40 | G69: 1 | H69: 43336 | I69: A-one Films
A70: =IF(B70<>"",ROWS($B$6:B70),"") -> 65 | B70: Garsioji meškinų invazija į Siciliją | C70: La Fameuse Invasion des ours en Sicile | D70: FR, IT | E70: 210 | F70: 70 | G70: 1 | H70: 44008 | I70: Europos kinas
A71: =IF(B71<>"",ROWS($B$6:B71),"") -> 66 | B71: Viskas praėjo gerai | C71: Tout s'est bien passé | D71: FR | E71: 200 | F71: 46 | G71: 1 | H71: 44519 | I71: A-one Films
A72: =IF(B72<>"",ROWS($B$6:B72),"") -> 67 | B72: Jos vardas Prancūzija | C72: France | D72: FR, DE, IT, BE | E72: 199 | F72: 33 | G72: 1 | H72: 44655 | I72: Europos kinas
A73: =IF(B73<>"",ROWS($B$6:B73),"") -> 68 | B73: Aš niekada neverkiu | C73: Jak Najdalej Stad | D73: PL, IE | E73: 176 | F73: 44 | G73: 1 | H73: 44431 | I73: Skalvijos kino centras
A74: =IF(B74<>"",ROWS($B$6:B74),"") -> 69 | B74: žeme, stop | C74: stop-zemlia | D74: UA | E74: 173 | F74: 110 | G74: 1 | H74: 44707 | I74: Skalvijos kino centras
A75: =IF(B75<>"",ROWS($B$6:B75),"") -> 70 | B75: Saldymedžio pica | C75: Licorice Pizza | D75: US | E75: 145 | F75: 34 | G75: 1 | H75: 44617 | I75: Dukine Film Distribution / Universal Pictures
A76: =IF(B76<>"",ROWS($B$6:B76),"") -> 71 | B76: Tarp dviejų pasaulių | C76: Between Two Words | D76: FR | E76: 135.86 | F76: 28 | G76: 2 | H76: 44701 | I76: Best Film
A77: =IF(B77<>"",ROWS($B$6:B77),"") -> 72 | B77: Paryžius. 13-as rajonas | C77: Les Olympiades, Paris 13e | D77: FR | E77: 120 | F77: 27 | G77: 1 | H77: 44561 | I77: A-One Films
A78: =IF(B78<>"",ROWS($B$6:B78),"") -> 73 | B78: Anetė | C78: Annette | D78: FR, DE, BE, JP, MX | E78: 87 | F78: 23 | G78: 2 | H78: 44655 | I78: Europos kinas
A79: =IF(B79<>"",ROWS($B$6:B79),"") -> 74 | B79: Memoria | C79: Memoria | D79: CO, TH, UK, MX, FR | E79: 86 | F79: 26 | G79: 1 | H79: 44655 | I79: Europos kinas
A80: =IF(B80<>"",ROWS($B$6:B80),"") -> 75 | B80: Beibis Nindzė | C80: Ninjababy | D80: NO | E80: 77.5 | F80: 4 | G80: 1 | H80: 44606 | I80: Kino Aljansas
A81: =IF(B81<>"",ROWS($B$6:B81),"") -> 76 | B81: Liepsnojančios moters portretas | C81: Portrait De La Jeune Fille En Feu | D81: FR | E81: 76 | F81: 14 | G81: 1 | H81: 43987 | I81: Europos kinas
A82: =IF(B82<>"",ROWS($B$6:B82),"") -> 77 | B82: Lux Aeterna | C82: Lux Aeterna | D82: FR | E82: 68.5 | F82: 15 | G82: 1 | H82: 44474 | I82: A-One Films
A83: =IF(B83<>"",ROWS($B$6:B83),"") -> 78 | B83: Nepalikti žymių | C83: Żeby Nie Było Śladów | D83: FR, PL, CZ | E83: 52.5 | F83: 16 | G83: 2 | H83: 44693 | I83: Kino Aljansas
A84: =IF(B84<>"",ROWS($B$6:B84),"") -> 79 | B84: Laukiniai vyrai | C84: Wild men | D84: DK | E84: 52 | F84: 9 | G84: 1 | H84: 44673 | I84: A-One Films
A85: =IF(B85<>"",ROWS($B$6:B85),"") -> 80 | B85: Sen Loranas. Stilius - tai aš | C85: Saint Lorant | D85: BE, FR | E85: 38 | F85: 6 | G85: 1 | H85: 41957 | I85: A-One Films
A86: =IF(B86<>"",ROWS($B$6:B86),"") -> 81 | B86: Nepakeliamas milžiniško talento svoris | C86: Unbearable Weight of Massive Talent | D86: US | E86: 28 | F86: 4 | G86: 1 | H86: 44673 | I86: ACME Film
A87: =IF(B87<>"",ROWS($B$6:B87),"") -> 82 | B87: Prancūzijos kronikos iš Liberčio, Kanzaso vakaro saulės | C87: The French Dispatch of the Liberty, Kansas Evening Sun | D87: US, DE | E87: 12 | F87: 2 | G87: 1 | H87: 44512 | I87: Theatrical Film Distribution
A88: =IF(B88<>"",ROWS($B$6:B88),"") -> 83 | B88: Ties virimo riba | C88: Boiling Point | D88: UK | E88: 7 | F88: 2 | G88: 1 | H88: 44655 | I88: Europos kinas
E89: =SUBTOTAL(109,Table3_Birželis[Pajamos]) -> 911897.59 | F89: =SUBTOTAL(109,Table3_Birželis[Žiūrovų skaičius]) -> 169747

Sheet Liepa
A1: ='2022'!A1 -> 2022
A2: ='2022'!A2 -> Lietuvos kino teatruose rodytų filmų TOP
A3: Liepa
A5: Eil. Nr. | B5: Filmo pavadinimas | C5: Filmo pavadinimas originalo kalba | D5: Kilmės šalis | E5: Pajamos | F5: Žiūrovų skaičius | G5: Kopijų skaičius | H5: Premjeros data | I5: Platintojas
A6: =IF(B6<>"",ROWS($B$6:B6),"") -> 1 | B6: Pakalikai 2 | C6: Minions: The Rise of Gru | D6: US | E6: 1040620.1 | F6: 190218 | G6: 32 | H6: 44743 | I6: Dukine Film Distribution / Universal Pictures
A7: =IF(B7<>"",ROWS($B$6:B7),"") -> 2 | B7: Toras. Meilė ir griaustinis | C7: Thor: Love and Thunder | D7: US | E7: 328338.55 | F7: 45591 | G7: 29 | H7: 44750 | I7: Theatrical Film Distribution / WDSMPI
A8: =IF(B8<>"",ROWS($B$6:B8),"") -> 3 | B8: Kartą kaime | C8: Kartą kaime | D8: LT | E8: 197284.96 | F8: 29403 | G8: 13 | H8: 44736 | I8: Munis
A9: =IF(B9<>"",ROWS($B$6:B9),"") -> 4 | B9: Elvis | C9: Elvis | D9: US | E9: 146183.16 | F9: 22721 | G9: 15 | H9: 44736 | I9: ACME Film / WB
A10: =IF(B10<>"",ROWS($B$6:B10),"") -> 5 | B10: Asas Maverikas | C10: Top Gun Maverick | D10: US | E10: 83133.37 | F10: 12328 | G10: 12 | H10: 44708 | I10: Dukine Film Distribution / Paramount Pictures
A11: =IF(B11<>"",ROWS($B$6:B11),"") -> 6 | B11: Juodas telefonas | C11: The Black Phone | D11: US | E11: 64996.29 | F11: 9628 | G11: 15 | H11: 44736 | I11: Dukine Film Distribution / Universal Pictures
A12: =IF(B12<>"",ROWS($B$6:B12),"") -> 7 | B12: DC Superaugintinių lyga | C12: DC League of Super-Pets | D12: US | E12: 40058.65 | F12: 8606 | G12: 17 | H12: 44771 | I12: ACME Film / WB
A13: =IF(B13<>"",ROWS($B$6:B13),"") -> 8 | B13: Jūros periodo pasaulis. Viešpatavimas | C13: Jurassic World: Dominion | D13: US | E13: 38253.24 | F13: 6201 | G13: 12 | H13: 44722 | I13: Dukine Film Distribution / Universal Pictures
A14: =IF(B14<>"",ROWS($B$6:B14),"") -> 9 | B14: Kaip patenkinti moterį | C14: How To Please A Woman | D14: AU | E14: 35600 | F14: 5464 | G14: 15 | H14: 44750 | I14: Garsų pasaulio įrašai
A15: =IF(B15<>"",ROWS($B$6:B15),"") -> 10 | B15: Našlaitė: Pirmoji auka | C15: Orphan First Kill | D15: US | E15: 21915.78 | F15: 3114 | G15: 12 | H15: 44771 | I15: ACME Film
A16: =IF(B16<>"",ROWS($B$6:B16),"") -> 11 | B16: Šviesmetis | C16: Lightyear | D16: US | E16: 18996.79 | F16: 4151 | G16: 12 | H16: 44729 | I16: Theatrical Film Distribution / WDSMPI
A17: =IF(B17<>"",ROWS($B$6:B17),"") -> 12 | B17: Savas, svetimas, mylimas | C17: Savas, svetimas, mylimas | D17: LT | E17: 15733.76 | F17: 2468 | G17: 16 | H17: 44771 | I17: Singing fish
A18: =IF(B18<>"",ROWS($B$6:B18),"") -> 13 | B18: Ežiukas Sonic 2 | C18: Sonic The Hedgehog 2 | D18: US, CA, JP | E18: 7638.02 | F18: 1772 | G18: 5 | H18: 44652 | I18: Dukine Film Distribution / Paramount Pictures
A19: =IF(B19<>"",ROWS($B$6:B19),"") -> 14 | B19: Atostogos prancūziškai | C19: Joyeuse Retraite! 2 | D19: FR | E19: 7603 | F19: 1334 | G19: 16 | H19: 44764 | I19: Garsų pasaulio įrašai
A20: =IF(B20<>"",ROWS($B$6:B20),"") -> 15 | B20: Marmadukas | C20: Marmaduke | D20: US | E20: 6944.9 | F20: 1454 | G20: 5 | H20: 44715 | I20: ACME Film
A21: =IF(B21<>"",ROWS($B$6:B21),"") -> 16 | B21: Koatis - džiunglių drąsuolis | C21: Koati | D21: MX, US | E21: 3959.06 | F21: 1394 | G21: 2 | H21: 44708 | I21: VLG film
A22: =IF(B22<>"",ROWS($B$6:B22),"") -> 17 | B22: Ratai, taurės ir La Manča | C22: In The Bottle | D22: FR | E22: 3848.79 | F22: 633 | G22: 9 | H22: 44771 | I22: VLG film
A23: =IF(B23<>"",ROWS($B$6:B23),"") -> 18 | B23: Daktaras Streindžas beprotybės multivisatoje | C23: Doctor Strange in the Multiverse of Madness | D23: US | E23: 3531.29 | F23: 517 | G23: 4 | H23: 44687 | I23: Theatrical Film Distribution / WDSMPI
A24: =IF(B24<>"",ROWS($B$6:B24),"") -> 19 | B24: Įsimylėję gyvenimą | C24: Une vie démente | D24: BE | E24: 1832.8 | F24: 361 | G24: 4 | H24: 44757 | I24: A-One Films
A25: =IF(B25<>"",ROWS($B$6:B25),"") -> 20 | B25: Blogiausias žmogus pasaulyje | C25: Verdens verste menneske | D25: NO, FR, SE, DK | E25: 1641.2 | F25: 349 | G25: 4 | H25: 44655 | I25: Europos kinas
A26: =IF(B26<>"",ROWS($B$6:B26),"") -> 21 | B26: Blogiukai | C26: Bad Guys | D26: US | E26: 1233.81 | F26: 278 | G26: 3 | H26: 44638 | I26: Dukine Film Distribution / Universal Pictures
A27: =IF(B27<>"",ROWS($B$6:B27),"") -> 22 | B27: Viskas iškart ir visur | C27: Everything Everywhere All at Once | D27: US | E27: 1154.6 | F27: 240 | G27: 2 | H27: 44680 | I27: VLG film
A28: =IF(B28<>"",ROWS($B$6:B28),"") -> 23 | B28: Gerasis bosas | C28: El Buen Patrón | D28: ES | E28: 1037.5 | F28: 178 | G28: 2 | H28: 44655 | I28: Europos kinas
A29: =IF(B29<>"",ROWS($B$6:B29),"") -> 24 | B29: Urvas | C29: Il buco | D29: IT, FR, DE | E29: 1023.63 | F29: 251 | G29: 4 | H29: 44771 | I29: A-One Films
A30: =IF(B30<>"",ROWS($B$6:B30),"") -> 25 | B30: Drąsiau drąsiau | C30: C'mon C'mon | D30: US | E30: 912.5 | F30: 164 | G30: 1 | H30: 44589 | I30: A-One Films
A31: =IF(B31<>"",ROWS($B$6:B31),"") -> 26 | B31: Ką matome žiūrėdami į dangų | C31: Ras vkhedavt, rodesac cas vukurebt? | D31: GE, DE | E31: 852.5 | F31: 168 | G31: 1 | H31: 44729 | I31: A-One Films
A32: =IF(B32<>"",ROWS($B$6:B32),"") -> 27 | B32: Dičkis šuo Klifordas | C32: Clifford The Big Red Dog | D32: US, UK, CA | E32: 851.5 | F32: 360 | G32: 2 | H32: 44568 | I32: Dukine Film Distribution / Paramount Pictures
A33: =IF(B33<>"",ROWS($B$6:B33),"") -> 28 | B33: Tiktai žvėrys | C33: Seules les bêtes | D33: FR | E33: 810 | F33: 190 | G33: 1 | H33: 44393 | I33: A-One Films
A34: =IF(B34<>"",ROWS($B$6:B34),"") -> 29 | B34: Svajoklis Budis 2 | C34: Rock Dog 2 | D34: US | E34: 765.5 | F34: 361 | G34: 1 | H34: 44414 | I34: ACME Film
A35: =IF(B35<>"",ROWS($B$6:B35),"") -> 30 | B35: Omerta 6/12 | C35: Omerta 6/12 | D35: FI | E35: 733 | F35: 128 | G35: 4 | H35: 44757 | I35: Estinfilm
A36: =IF(B36<>"",ROWS($B$6:B36),"") -> 31 | B36: Piligrimai | C36: Piligrimai | D36: LT | E36: 725.3 | F36: 144 | G36: 3 | H36: 44659 | I36: Europos kinas
A37: =IF(B37<>"",ROWS($B$6:B37),"") -> 32 | B37: Viskas praėjo gerai | C37: Tout s'est bien passé | D37: FR | E37: 725 | F37: 142 | G37: 1 | H37: 44519 | I37: A-one Films
A38: =IF(B38<>"",ROWS($B$6:B38),"") -> 33 | B38: Dainuok 2 | C38: Sing 2 | D38: US | E38: 615 | F38: 255 | G38: 2 | H38: 44552 | I38: Dukine Film Distribution / Universal Pictures
A39: =IF(B39<>"",ROWS($B$6:B39),"") -> 34 | B39: Laukiniai vyrai | C39: Wild men | D39: DK | E39: 600 | F39: 150 | G39: 1 | H39: 44673 | I39: A-One Films
A40: =IF(B40<>"",ROWS($B$6:B40),"") -> 35 | B40: Į mėnulį | C40: Moonbound | D40: DE, AT | E40: 570.59 | F40: 215 | G40: 1 | H40: 44470 | I40: ACME Film
A41: =IF(B41<>"",ROWS($B$6:B41),"") -> 36 | B41: Mano vilkas | C41: Mystere | D41: FR | E41: 563 | F41: 225 | G41: 3 | H41: 44589 | I41: Theatrical Film Distribution
A42: =IF(B42<>"",ROWS($B$6:B42),"") -> 37 | B42: Pilė | C42: Les aventures de pil (Pil's Adventures) | D42: FR | E42: 548 | F42: 222 | G42: 1 | H42: 44533 | I42: ACME Film
A43: =IF(B43<>"",ROWS($B$6:B43),"") -> 38 | B43: Visos mūsų baimės | C43: Wszystkie nasze strachy | D43: PL | E43: 521 | F43: 104 | G43: 1 | H43: 44719 | I43: A-One Films
A44: =IF(B44<>"",ROWS($B$6:B44),"") -> 39 | B44: Liepsnojanti širdis | C44: Fireheart | D44: FR, CA | E44: 486.9 | F44: 199 | G44: 1 | H44: 44603 | I44: ACME Film
A45: =IF(B45<>"",ROWS($B$6:B45),"") -> 40 | B45: Išgyvena tik mylintys | C45: Only Lovers Left Alive | D45: US, DE, FR | E45: 436.5 | F45: 117 | G45: 1 | H45: 41585 | I45: ACME Film
A46: =IF(B46<>"",ROWS($B$6:B46),"") -> 41 | B46: Vyrai | C46: Men | D46: UK | E46: 417 | F46: 102 | G46: 2 | H46: 44729 | I46: VLG film
A47: =IF(B47<>"",ROWS($B$6:B47),"") -> 42 | B47: Baltas varnas | C47: White Raven | D47: UA | E47: 400 | F47: 80 | G47: 1 | H47: 44687 | I47: Theatrical Film Distribution
A48: =IF(B48<>"",ROWS($B$6:B48),"") -> 43 | B48: Padūkėlė Turu | C48: Turu the Wacky Hen | D48: ES, AR | E48: 329.2 | F48: 145 | G48: 1 | H48: 44386 | I48: ACME Film
A49: =IF(B49<>"",ROWS($B$6:B49),"") -> 44 | B49: Drive My Car | C49: Drive My Car | D49: JP | E49: 316.5 | F49: 65 | G49: 1 | H49: 44533 | I49: A-One Films
A50: =IF(B50<>"",ROWS($B$6:B50),"") -> 45 | B50: Tiktai žvėrys | C50: Seules les bêtes | D50: FR | E50: 300 | F50: 200 | G50: 1 | H50: 44393 | I50: A-One Films
A51: =IF(B51<>"",ROWS($B$6:B51),"") -> 46 | B51: Paskutiniai ir pirmieji žmonės | C51: Last and First Men | D51: IS | E51: 273 | F51: 55 | G51: 1 | H51: 44476 | I51: A-One Films
A52: =IF(B52<>"",ROWS($B$6:B52),"") -> 47 | B52: Bitė Maja. Auksinis kiaušinis | C52: Maya the Bee 3: The Golden Orb | D52: DE, AT | E52: 232 | F52: 64 | G52: 1 | H52: 44694 | I52: Garsų pasaulio įrašai
A53: =IF(B53<>"",ROWS($B$6:B53),"") -> 48 | B53: Titane | C53: Titane | D53: FR | E53: 209.5 | F53: 40 | G53: 1 | H53: 44484 | I53: A-One Films
A54: =IF(B54<>"",ROWS($B$6:B54),"") -> 49 | B54: Raudonoji panda | C54: Turning Red | D54: US | E54: 173.6 | F54: 33 | G54: 1 | H54: 44631 | I54: Theatrical Film Distribution / WDSMPI
A55: =IF(B55<>"",ROWS($B$6:B55),"") -> 50 | B55: Drugelio Širdis | C55: Drugelio Širdis | D55: LT | E55: 168.7 | F55: 47 | G55: 1 | H55: 44659 | I55: ACME Film
A56: =IF(B56<>"",ROWS($B$6:B56),"") -> 51 | B56: Saulėlydis | C56: Sundown | D56: MX, FR, SE | E56: 124.5 | F56: 28 | G56: 2 | H56: 44655 | I56: Europos kinas
A57: =IF(B57<>"",ROWS($B$6:B57),"") -> 52 | B57: Operacija "O2" | C57: Operacija "O2" | D57: LT, EE. FI, LV | E57: 121 | F57: 24 | G57: 1 | H57: 44491 | I57: Theatrical Film Distribution / IN SCRIPT
A58: =IF(B58<>"",ROWS($B$6:B58),"") -> 53 | B58: Likimas ir fantazijos | C58: Guzen to Sozo | D58: JP | E58: 118.5 | F58: 20 | G58: 1 | H58: 44655 | I58: Europos kinas
A59: =IF(B59<>"",ROWS($B$6:B59),"") -> 54 | B59: Šuolis | C59: Šuolis | D59: LT | E59: 102.5 | F59: 23 | G59: 1 | H59: 44456 | I59: Moonmakers
A60: =IF(B60<>"",ROWS($B$6:B60),"") -> 55 | B60: Žavusis žudikas Tedas Bandis | C60: Extremely Wicked, Shockingly Evil, and Vile | D60: US | E60: 100.25 | F60: 20 | G60: 1 | H60: 43595 | I60: Theatrical Film Distribution
A61: =IF(B61<>"",ROWS($B$6:B61),"") -> 56 | B61: Avelė | C61: Dýrið | D61: IS, PL, SE | E61: 82.5 | F61: 24 | G61: 1 | H61: 44692 | I61: Kino Aljansas
A62: =IF(B62<>"",ROWS($B$6:B62),"") -> 57 | B62: Kopa | C62: Dune | D62: US | E62: 69 | F62: 19 | G62: 1 | H62: 44456 | I62: ACME Film / WB
A63: =IF(B63<>"",ROWS($B$6:B63),"") -> 58 | B63: Gucci mados namai | C63: House of Gucci | D63: US | E63: 28 | F63: 8 | G63: 1 | H63: 44526 | I63: Dukine Film Distribution / Universal Pictures
A64: =IF(B64<>"",ROWS($B$6:B64),"") -> 59 | B64: Memoria | C64: Memoria | D64: CO, TH, UK, MX, FR | E64: 23 | F64: 6 | G64: 1 | H64: 44655 | I64: Europos kinas
A65: =IF(B65<>"",ROWS($B$6:B65),"") -> 60 | B65: Štai ir mes | C65: Hine Anachnu | D65: IT, IL | E65: 20 | F65: 8 | G65: 1 | H65: 44606 | I65: Kino Aljansas
A66: =IF(B66<>"",ROWS($B$6:B66),"") -> 61 | B66: Kur bežiūrėčiau - miško tankmė | C66: Rengeteg – mindenhol látlak | D66: HU | E66: 11.5 | F66: 4 | G66: 1 | H66: 44655 | I66: Europos kinas
E67: =SUBTOTAL(109,Table3_Liepa[Pajamos]) -> 2086899.8 | F67: =SUBTOTAL(109,Table3_Liepa[Žiūrovų skaičius]) -> 352813

Sheet Rugpjūtis
A1: ='2022'!A1 -> 2022
A2: ='2022'!A2 -> Lietuvos kino teatruose rodytų filmų TOP
A3: Rugpjūtis
A5: Eil. Nr. | B5: Filmo pavadinimas | C5: Filmo pavadinimas originalo kalba | D5: Kilmės šalis | E5: Pajamos | F5: Žiūrovų skaičius | G5: Kopijų skaičius | H5: Premjeros data | I5: Platintojas
A6: =IF(B6<>"",ROWS($B$6:B6),"") -> 1 | B6: Ten, kur gieda vėžiai | C6: Where the Crawdads Sing | D6: US | E6: 286802.45 | F6: 43185 | G6: 19 | H6: 44792 | I6: ACME Film / SONY
A7: =IF(B7<>"",ROWS($B$6:B7),"") -> 2 | B7: Pakalikai 2 | C7: Minions: The Rise of Gru | D7: US | E7: 181955.46 | F7: 36213 | G7: 21 | H7: 44743 | I7: Dukine Film Distribution / Universal Pictures
A8: =IF(B8<>"",ROWS($B$6:B8),"") -> 3 | B8: DC Superaugintinių lyga | C8: DC League of Super-Pets | D8: US | E8: 139958.31 | F8: 31138 | G8: 17 | H8: 44771 | I8: ACME Film / WB
A9: =IF(B9<>"",ROWS($B$6:B9),"") -> 4 | B9: Kulkų ekspresas | C9: Bullet Train | D9: US, JP | E9: 135866.56 | F9: 19696 | G9: 17 | H9: 44778 | I9: ACME Film / SONY
A10: =IF(B10<>"",ROWS($B$6:B10),"") -> 5 | B10: Našlaitė: Pirmoji auka | C10: Orphan First Kill | D10: US | E10: 72533.08 | F10: 11040 | G10: 12 | H10: 44771 | I10: ACME Film
A11: =IF(B11<>"",ROWS($B$6:B11),"") -> 6 | B11: Ne | C11: Nope | D11: US | E11: 42837.48 | F11: 6656 | G11: 18 | H11: 44785 | I11: Dukine Film Distribution / Universal Pictures
A12: =IF(B12<>"",ROWS($B$6:B12),"") -> 7 | B12: Toras. Meilė ir griaustinis | C12: Thor: Love and Thunder | D12: US | E12: 41416.07 | F12: 6797 | G12: 14 | H12: 44750 | I12: Theatrical Film Distribution / WDSMPI
A13: =IF(B13<>"",ROWS($B$6:B13),"") -> 8 | B13: Savas, svetimas, mylimas | C13: Savas, svetimas, mylimas | D13: LT | E13: 35170.17 | F13: 5458 | G13: 16 | H13: 44771 | I13: Singing fish
A14: =IF(B14<>"",ROWS($B$6:B14),"") -> 9 | B14: Kartą kaime | C14: Kartą kaime | D14: LT | E14: 31561.92 | F14: 4960 | G14: 8 | H14: 44736 | I14: Munis
A15: =IF(B15<>"",ROWS($B$6:B15),"") -> 10 | B15: Elvis | C15: Elvis | D15: US | E15: 31221.05 | F15: 5200 | G15: 11 | H15: 44736 | I15: ACME Film / WB
A16: =IF(B16<>"",ROWS($B$6:B16),"") -> 11 | B16: Asas Maverikas | C16: Top Gun Maverick | D16: US | E16: 30706.28 | F16: 4840 | G16: 6 | H16: 44708 | I16: Dukine Film Distribution / Paramount Pictures
A17: =IF(B17<>"",ROWS($B$6:B17),"") -> 12 | B17: Dragon Ball Super: Super Hero | C17: Dragon Ball Super: Super Hero | D17: JP | E17: 24310.52 | F17: 3666 | G17: 11 | H17: 44799 | I17: ACME Film / SONY
A18: =IF(B18<>"",ROWS($B$6:B18),"") -> 13 | B18: Kraujo kvietimas | C18: Invitation | D18: US | E18: 23212.82 | F18: 3969 | G18: 10 | H18: 44799 | I18: ACME Film / SONY
A19: =IF(B19<>"",ROWS($B$6:B19),"") -> 14 | B19: Šiukšliai. Stebuklingos piramidės legenda | C19: Trash | D19: IT | E19: 22300.38 | F19: 5094 | G19: 16 | H19: 44785 | I19: Theatrical Film Distribution
A20: =IF(B20<>"",ROWS($B$6:B20),"") -> 15 | B20: Guliveris grįžta | C20: Gulliver Returns | D20: UA | E20: 19661.84 | F20: 4615 | G20: 17 | H20: 44792 | I20: ACME Film
A21: =IF(B21<>"",ROWS($B$6:B21),"") -> 16 | B21: Svaiginantis aukštis | C21: Fall | D21: US | E21: 17352.07 | F21: 2976 | G21: 13 | H21: 44792 | I21: Theatrical Film Distribution
A22: =IF(B22<>"",ROWS($B$6:B22),"") -> 17 | B22: BABAUŽIUKAI. Septynios fantastiškos istorijos | C22: BABAUŽIUKAI. Septynios fantastiškos istorijos | D22: LT | E22: 15910.74 | F22: 3557 | G22: 13 | H22: 44778 | I22: MB Laukite tęsinio
A23: =IF(B23<>"",ROWS($B$6:B23),"") -> 18 | B23: Žvėris | C23: Beast | D23: US | E23: 8714.19 | F23: 1763 | G23: 14 | H23: 44799 | I23: Dukine Film Distribution / Universal Pictures
A24: =IF(B24<>"",ROWS($B$6:B24),"") -> 19 | B24: AFTER. Kai tapome laimingi | C24: After Ever Happy | D24: US | E24: 7677 | F24: 943 | G24: 7 | H24: 44806 | I24: Garsų pasaulio įrašai
A25: =IF(B25<>"",ROWS($B$6:B25),"") -> 20 | B25: Superherojai | C25: Supereroi | D25: IT | E25: 6536 | F25: 1159 | G25: 9 | H25: 44785 | I25: Best Film
A26: =IF(B26<>"",ROWS($B$6:B26),"") -> 21 | B26: Languotas Nindzė: misija Tailande | C26: Checkered Ninja 2 | D26: DK | E26: 5746.11 | F26: 1465 | G26: 8 | H26: 44799 | I26: Estinfilm
A27: =IF(B27<>"",ROWS($B$6:B27),"") -> 22 | B27: Tvano nebus | C27: Tvano nebus | D27: LT | E27: 4984.02 | F27: 904 | G27: 15 | H27: 44792 | I27: Tremora
A28: =IF(B28<>"",ROWS($B$6:B28),"") -> 23 | B28: Juodas telefonas | C28: The Black Phone | D28: US | E28: 4017.43 | F28: 684 | G28: 6 | H28: 44736 | I28: Dukine Film Distribution / Universal Pictures
A29: =IF(B29<>"",ROWS($B$6:B29),"") -> 24 | B29: Įvykis | C29: L'événement | D29: FR | E29: 2610.1 | F29: 514 | G29: 5 | H29: 44792 | I29: Estinfilm
A30: =IF(B30<>"",ROWS($B$6:B30),"") -> 25 | B30: Ratai, taurės ir La Manča | C30: In The Bottle | D30: FR | E30: 1700.87 | F30: 350 | G30: 9 | H30: 44771 | I30: VLG film
A31: =IF(B31<>"",ROWS($B$6:B31),"") -> 26 | B31: Tas naujas pasaulis | C31: La croisade | D31: FR | E31: 1584.7 | F31: 318 | G31: 6 | H31: 44799 | I31: A-One Films
A32: =IF(B32<>"",ROWS($B$6:B32),"") -> 27 | B32: Įsimylėję gyvenimą | C32: Une vie démente | D32: BE | E32: 1569.7 | F32: 321 | G32: 4 | H32: 44757 | I32: A-One Films
A33: =IF(B33<>"",ROWS($B$6:B33),"") -> 28 | B33: Urvas | C33: Il buco | D33: IT, FR, DE | E33: 1562.9 | F33: 316 | G33: 4 | H33: 44771 | I33: A-One Films
A34: =IF(B34<>"",ROWS($B$6:B34),"") -> 29 | B34: Koatis - džiunglių drąsuolis | C34: Koati | D34: MX, US | E34: 1488.39 | F34: 598 | G34: 2 | H34: 44708 | I34: VLG film
A35: =IF(B35<>"",ROWS($B$6:B35),"") -> 30 | B35: Blogiausias žmogus pasaulyje | C35: Verdens verste menneske | D35: NO, FR, SE, DK | E35: 1479 | F35: 269 | G35: 4 | H35: 44655 | I35: Europos kinas
A36: =IF(B36<>"",ROWS($B$6:B36),"") -> 31 | B36: Drąsiau drąsiau | C36: C'mon C'mon | D36: US | E36: 1462.5 | F36: 336 | G36: 1 | H36: 44589 | I36: A-One Films
A37: =IF(B37<>"",ROWS($B$6:B37),"") -> 32 | B37: Atostogos prancūziškai | C37: Joyeuse Retraite! 2 | D37: FR | E37: 1328 | F37: 268 | G37: 6 | H37: 44764 | I37: Garsų pasaulio įrašai
A38: =IF(B38<>"",ROWS($B$6:B38),"") -> 33 | B38: Vidurnaktis Paryžiuje | C38: Midnight in Paris | D38: US | E38: 1326 | F38: 204 | G38: 1 | H38: 40795 | I38: ACME Film
A39: =IF(B39<>"",ROWS($B$6:B39),"") -> 34 | B39: Dainos lapei | C39: Dainos lapei | D39: LT | E39: 1237 | F39: 160 | G39: 3 | H39: 44806 | I39: Garsų pasaulio įrašai
A40: =IF(B40<>"",ROWS($B$6:B40),"") -> 35 | B40: Jūros periodo pasaulis. Viešpatavimas | C40: Jurassic World: Dominion | D40: US | E40: 1130.11 | F40: 230 | G40: 3 | H40: 44722 | I40: Dukine Film Distribution / Universal Pictures
A41: =IF(B41<>"",ROWS($B$6:B41),"") -> 36 | B41: Fantazijos tik suaugusiems | C41: Fantasies | D41: FR | E41: 951 | F41: 278 | G41: 2 | H41: 44603 | I41: Garsų pasaulio įrašai
A42: =IF(B42<>"",ROWS($B$6:B42),"") -> 37 | B42: Visos mūsų baimės | C42: Wszystkie nasze strachy | D42: PL | E42: 910 | F42: 135 | G42: 2 | H42: 44719 | I42: A-One Films
A43: =IF(B43<>"",ROWS($B$6:B43),"") -> 38 | B43: Išgyvena tik mylintys | C43: Only Lovers Left Alive | D43: US, DE, FR | E43: 882.5 | F43: 225 | G43: 1 | H43: 41585 | I43: ACME Film
A44: =IF(B44<>"",ROWS($B$6:B44),"") -> 39 | B44: Viskas iškart ir visur | C44: Everything Everywhere All at Once | D44: US | E44: 825.8 | F44: 172 | G44: 2 | H44: 44680 | I44: VLG film
A45: =IF(B45<>"",ROWS($B$6:B45),"") -> 40 | B45: Triušis Piteris2: Pabėgimas | C45: Peter Rabbit 2 | D45: US, AU | E45: 639.92 | F45: 260 | G45: 2 | H45: 44358 | I45: ACME Film / SONY
A46: =IF(B46<>"",ROWS($B$6:B46),"") -> 41 | B46: Paryžius. 13-as rajonas | C46: Les Olympiades, Paris 13e | D46: FR | E46: 610 | F46: 135 | G46: 2 | H46: 44561 | I46: A-One Films
A47: =IF(B47<>"",ROWS($B$6:B47),"") -> 42 | B47: Murena | C47: Murina | D47: HR | E47: 587 | F47: 128 | G47: 1 | H47: 44694 | I47: A-One Films
A48: =IF(B48<>"",ROWS($B$6:B48),"") -> 43 | B48: Net ir pelės keliauja į dangų | C48: I mysi patrí do nebe | D48: CZ, FR, PL, SK | E48: 566 | F48: 217 | G48: 1 | H48: 44716 | I48: Skalvijos kino centras
A49: =IF(B49<>"",ROWS($B$6:B49),"") -> 44 | B49: Ką matome žiūrėdami į dangų | C49: Ras vkhedavt, rodesac cas vukurebt? | D49: GE, DE | E49: 530.5 | F49: 110 | G49: 1 | H49: 44729 | I49: A-One Films
A50: =IF(B50<>"",ROWS($B$6:B50),"") -> 45 | B50: Šviesmetis | C50: Lightyear | D50: US | E50: 516.56 | F50: 145 | G50: 2 | H50: 44729 | I50: Theatrical Film Distribution / WDSMPI
A51: =IF(B51<>"",ROWS($B$6:B51),"") -> 46 | B51: Į mėnulį | C51: Moonbound | D51: DE, AT | E51: 452.34 | F51: 166 | G51: 2 | H51: 44470 | I51: ACME Film
A52: =IF(B52<>"",ROWS($B$6:B52),"") -> 47 | B52: Liepsnojanti širdis | C52: Fireheart | D52: FR, CA | E52: 403 | F52: 160 | G52: 2 | H52: 44603 | I52: ACME Film
A53: =IF(B53<>"",ROWS($B$6:B53),"") -> 48 | B53: Dičkis šuo Klifordas | C53: Clifford The Big Red Dog | D53: US, UK, CA | E53: 375.5 | F53: 151 | G53: 2 | H53: 44568 | I53: Dukine Film Distribution / Paramount Pictures
A54: =IF(B54<>"",ROWS($B$6:B54),"") -> 49 | B54: Mano vilkas | C54: Mystere | D54: FR | E54: 286.5 | F54: 122 | G54: 3 | H54: 44589 | I54: Theatrical Film Distribution
A55: =IF(B55<>"",ROWS($B$6:B55),"") -> 50 | B55: Gerasis bosas | C55: El Buen Patrón | D55: ES | E55: 278 | F55: 50 | G55: 2 | H55: 44655 | I55: Europos kinas
A56: =IF(B56<>"",ROWS($B$6:B56),"") -> 51 | B56: Ežiukas Sonic 2 | C56: Sonic The Hedgehog 2 | D56: US, CA, JP | E56: 273.51 | F56: 62 | G56: 2 | H56: 44652 | I56: Dukine Film Distribution / Paramount Pictures
A57: =IF(B57<>"",ROWS($B$6:B57),"") -> 52 | B57: Svajoklis Budis 2 | C57: Rock Dog 2 | D57: US | E57: 272.5 | F57: 120 | G57: 2 | H57: 44414 | I57: ACME Film
A58: =IF(B58<>"",ROWS($B$6:B58),"") -> 53 | B58: Nesijaudink, jis toli nenueis | C58: Don't Worry, He Won't Get Far on Foot | D58: US, FR | E58: 260.5 | F58: 44 | G58: 1 | H58: 43336 | I58: A-one Films
A59: =IF(B59<>"",ROWS($B$6:B59),"") -> 54 | B59: Drive My Car | C59: Drive My Car | D59: JP | E59: 247.5 | F59: 57 | G59: 1 | H59: 44533 | I59: A-One Films
A60: =IF(B60<>"",ROWS($B$6:B60),"") -> 55 | B60: Ties virimo riba | C60: Boiling Point | D60: UK | E60: 243 | F60: 38 | G60: 1 | H60: 44655 | I60: Europos kinas
A61: =IF(B61<>"",ROWS($B$6:B61),"") -> 56 | B61: Padūkėlė Turu | C61: Turu the Wacky Hen | D61: ES, AR | E61: 229 | F61: 103 | G61: 2 | H61: 44386 | I61: ACME Film
A62: =IF(B62<>"",ROWS($B$6:B62),"") -> 57 | B62: Piligrimai | C62: Piligrimai | D62: LT | E62: 206.4 | F62: 52 | G62: 7 | H62: 44659 | I62: Europos kinas
A63: =IF(B63<>"",ROWS($B$6:B63),"") -> 58 | B63: Spencer | C63: Spencer | D63: UK, DE, US | E63: 144.5 | F63: 40 | G63: 1 | H63: 44631 | I63: ACME Film
A64: =IF(B64<>"",ROWS($B$6:B64),"") -> 59 | B64: Kopa | C64: Dune | D64: US | E64: 134.5 | F64: 36 | G64: 1 | H64: 44456 | I64: ACME Film / WB
A65: =IF(B65<>"",ROWS($B$6:B65),"") -> 60 | B65: Gucci mados namai | C65: House of Gucci | D65: US | E65: 132.5 | F65: 40 | G65: 1 | H65: 44526 | I65: Dukine Film Distribution / Universal Pictures
A66: =IF(B66<>"",ROWS($B$6:B66),"") -> 61 | B66: Operacija "O2" | C66: Operacija "O2" | D66: LT, EE. FI, LV | E66: 121 | F66: 24 | G66: 1 | H66: 44491 | I66: Theatrical Film Distribution / IN SCRIPT
... A79: =IF(B79<>"",ROWS($B$6:B79),"") -> 74 | B79: Nepalikti žymių | C79: Żeby Nie Było Śladów | D79: FR, PL, CZ | E79: 6 | F79: 2 | G79: 1 | H79: 44693 | I79: Kino Aljansas
E80: =SUBTOTAL(109,Table3_Rugpjūtis[Pajamos]) -> 1220663.3 | F80: =SUBTOTAL(109,Table3_Rugpjūtis[Žiūrovų skaičius]) -> 213097

Sheet Rugsėjis
A1: ='2022'!A1 -> 2022
A2: ='2022'!A2 -> Lietuvos kino teatruose rodytų filmų TOP
A3: Rugsėjis
A5: Eil. Nr. | B5: Filmo pavadinimas | C5: Filmo pavadinimas originalo kalba | D5: Kilmės šalis | E5: Pajamos | F5: Žiūrovų skaičius | G5: Kopijų skaičius | H5: Premjeros data | I5: Platintojas
A6: =IF(B6<>"",ROWS($B$6:B6),"") -> 1 | B6: Ko nežino vyrai | C6: Ko nežino vyrai | D6: LT | E6: 323845.15 | F6: 47303 | G6: 19 | H6: 44820 | I6: ACME Film
A7: =IF(B7<>"",ROWS($B$6:B7),"") -> 2 | B7: Ten, kur gieda vėžiai | C7: Where the Crawdads Sing | D7: US | E7: 261296.04 | F7: 40432 | G7: 19 | H7: 44792 | I7: ACME Film / SONY
A8: =IF(B8<>"",ROWS($B$6:B8),"") -> 3 | B8: Nesijaudink, brangioji | C8: Don't Worry Darling | D8: US | E8: 87315.63 | F8: 14598 | G8: 17 | H8: 44827 | I8: ACME Film / WB
A9: =IF(B9<>"",ROWS($B$6:B9),"") -> 4 | B9: AFTER. Kai tapome laimingi | C9: After Ever Happy | D9: US | E9: 79188 | F9: 11748 | G9: 15 | H9: 44806 | I9: Garsų pasaulio įrašai
A10: =IF(B10<>"",ROWS($B$6:B10),"") -> 5 | B10: Bilietas į rojų | C10: Ticket To Paradise | D10: US | E10: 78485.05 | F10: 12596 | G10: 17 | H10: 44820 | I10: Dukine Film Distribution / Universal Pictures
A11: =IF(B11<>"",ROWS($B$6:B11),"") -> 6 | B11: DC Superaugintinių lyga | C11: DC League of Super-Pets | D11: US | E11: 76869 | F11: 15940 | G11: 12 | H11: 44771 | I11: ACME Film / WB
A12: =IF(B12<>"",ROWS($B$6:B12),"") -> 7 | B12: Pakalikai 2 | C12: Minions: The Rise of Gru | D12: US | E12: 73942.24 | F12: 14219 | G12: 19 | H12: 44743 | I12: Dukine Film Distribution / Universal Pictures
A13: =IF(B13<>"",ROWS($B$6:B13),"") -> 8 | B13: Pasiutusios letenos. Henko legenda | C13: Paws of fury | D13: US | E13: 69495 | F13: 14468 | G13: 21 | H13: 44820 | I13: Garsų pasaulio įrašai
A14: =IF(B14<>"",ROWS($B$6:B14),"") -> 9 | B14: Įsikūnijimas (kartojimas) | C14: Avatar (Re-release) | D14: US | E14: 67035.16 | F14: 10476 | G14: 27 | H14: 44827 | I14: Theatrical Film Distribution / WDSMPI
A15: =IF(B15<>"",ROWS($B$6:B15),"") -> 10 | B15: Kulkų ekspresas | C15: Bullet Train | D15: US, JP | E15: 38838.28 | F15: 6296 | G15: 9 | H15: 44778 | I15: ACME Film / SONY
A16: =IF(B16<>"",ROWS($B$6:B16),"") -> 11 | B16: Trys tūkstančiai metų troškimų | C16: Three Thousand Years of Longing | D16: US | E16: 37406.89 | F16: 6100 | G16: 17 | H16: 44813 | I16: VLG film
A17: =IF(B17<>"",ROWS($B$6:B17),"") -> 12 | B17: Prakeiktoji | C17: The Harbinger | D17: US | E17: 29036 | F17: 4452 | G17: 13 | H17: 44813 | I17: Garsų pasaulio įrašai
A18: =IF(B18<>"",ROWS($B$6:B18),"") -> 13 | B18: Kraujo kvietimas | C18: Invitation | D18: US | E18: 23239.22 | F18: 3423 | G18: 10 | H18: 44799 | I18: ACME Film / SONY
A19: =IF(B19<>"",ROWS($B$6:B19),"") -> 14 | B19: Guliveris grįžta | C19: Gulliver Returns | D19: UA | E19: 13040.08 | F19: 2929 | G19: 16 | H19: 44792 | I19: ACME Film
A20: =IF(B20<>"",ROWS($B$6:B20),"") -> 15 | B20: Dragon Ball Super: Super Hero | C20: Dragon Ball Super: Super Hero | D20: JP | E20: 10131.14 | F20: 1535 | G20: 11 | H20: 44799 | I20: ACME Film / SONY
A21: =IF(B21<>"",ROWS($B$6:B21),"") -> 16 | B21: Dainos lapei | C21: Dainos lapei | D21: LT | E21: 9882 | F21: 1893 | G21: 20 | H21: 44806 | I21: Garsų pasaulio įrašai
A22: =IF(B22<>"",ROWS($B$6:B22),"") -> 17 | B22: Asas Maverikas | C22: Top Gun Maverick | D22: US | E22: 9817.18 | F22: 1620 | G22: 4 | H22: 44708 | I22: Dukine Film Distribution / Paramount Pictures
A23: =IF(B23<>"",ROWS($B$6:B23),"") -> 18 | B23: Šypsena | C23: Smile | D23: US | E23: 9496.02 | F23: 1291 | G23: 14 | H23: 44834 | I23: Dukine Film Distribution / Paramount Pictures
A24: =IF(B24<>"",ROWS($B$6:B24),"") -> 19 | B24: Elvis | C24: Elvis | D24: US | E24: 7120.46 | F24: 1367 | G24: 5 | H24: 44736 | I24: ACME Film / WB
A25: =IF(B25<>"",ROWS($B$6:B25),"") -> 20 | B25: Languotas Nindzė: misija Tailande | C25: Checkered Ninja 2 | D25: DK | E25: 6052.91 | F25: 1327 | G25: 7 | H25: 44799 | I25: Estinfilm
A26: =IF(B26<>"",ROWS($B$6:B26),"") -> 21 | B26: Vesper | C26: Vesper | D26: LT | E26: 6015.33 | F26: 1568 | G26: 10 | H26: 44834 | I26: Europos kinas
A27: =IF(B27<>"",ROWS($B$6:B27),"") -> 22 | B27: Šiukšliai. Stebuklingos piramidės legenda | C27: Trash | D27: IT | E27: 5994.09 | F27: 1372 | G27: 16 | H27: 44785 | I27: Theatrical Film Distribution
A28: =IF(B28<>"",ROWS($B$6:B28),"") -> 23 | B28: Svaiginantis aukštis | C28: Fall | D28: US | E28: 5303.58 | F28: 893 | G28: 9 | H28: 44792 | I28: Theatrical Film Distribution
A29: =IF(B29<>"",ROWS($B$6:B29),"") -> 24 | B29: Likimo sujungti | C29: About Fate | D29: US | E29: 5271.59 | F29: 801 | G29: 11 | H29: 44813 | I29: Theatrical Film Distribution
A30: =IF(B30<>"",ROWS($B$6:B30),"") -> 25 | B30: Našlaitė: Pirmoji auka | C30: Orphan First Kill | D30: US | E30: 5181.81 | F30: 738 | G30: 3 | H30: 44771 | I30: ACME Film
A31: =IF(B31<>"",ROWS($B$6:B31),"") -> 26 | B31: Žvėris | C31: Beast | D31: US | E31: 4516.27 | F31: 702 | G31: 13 | H31: 44799 | I31: Dukine Film Distribution / Universal Pictures
A32: =IF(B32<>"",ROWS($B$6:B32),"") -> 27 | B32: Ne | C32: Nope | D32: US | E32: 3428.9 | F32: 557 | G32: 5 | H32: 44785 | I32: Dukine Film Distribution / Universal Pictures
A33: =IF(B33<>"",ROWS($B$6:B33),"") -> 28 | B33: Toras. Meilė ir griaustinis | C33: Thor: Love and Thunder | D33: US | E33: 1930.77 | F33: 310 | G33: 4 | H33: 44750 | I33: Theatrical Film Distribution / WDSMPI
A34: =IF(B34<>"",ROWS($B$6:B34),"") -> 29 | B34: Kartą kaime | C34: Kartą kaime | D34: LT | E34: 1836.05 | F34: 283 | G34: 4 | H34: 44736 | I34: Munis
A35: =IF(B35<>"",ROWS($B$6:B35),"") -> 30 | B35: Blogiausias žmogus pasaulyje | C35: Verdens verste menneske | D35: NO, FR, SE, DK | E35: 1483.7 | F35: 292 | G35: 3 | H35: 44655 | I35: Europos kinas
A36: =IF(B36<>"",ROWS($B$6:B36),"") -> 31 | B36: Kriu | C36: Knor | D36: NL, BE | E36: 1452.42 | F36: 334 | G36: 8 | H36: 44827 | I36: Estinfilm
A37: =IF(B37<>"",ROWS($B$6:B37),"") -> 32 | B37: Įsimylėję gyvenimą | C37: Une vie démente | D37: BE | E37: 1330.1 | F37: 273 | G37: 4 | H37: 44757 | I37: A-One Films
A38: =IF(B38<>"",ROWS($B$6:B38),"") -> 33 | B38: Tas naujas pasaulis | C38: La croisade | D38: FR | E38: 1173 | F38: 256 | G38: 4 | H38: 44799 | I38: A-One Films
A39: =IF(B39<>"",ROWS($B$6:B39),"") -> 34 | B39: Melagis | C39: Menteur | D39: FR | E39: 1029.33 | F39: 183 | G39: 8 | H39: 44827 | I39: Best Film
A40: =IF(B40<>"",ROWS($B$6:B40),"") -> 35 | B40: Drugelio Širdis | C40: Drugelio Širdis | D40: LT | E40: 922 | F40: 274 | G40: 2 | H40: 44659 | I40: ACME Film
A41: =IF(B41<>"",ROWS($B$6:B41),"") -> 36 | B41: Fantazijos tik suaugusiems | C41: Fantasies | D41: FR | E41: 781 | F41: 78 | G41: 2 | H41: 44603 | I41: Garsų pasaulio įrašai
A42: =IF(B42<>"",ROWS($B$6:B42),"") -> 37 | B42: Tvano nebus | C42: Tvano nebus | D42: LT | E42: 753.86 | F42: 188 | G42: 4 | H42: 44792 | I42: Tremora
A43: =IF(B43<>"",ROWS($B$6:B43),"") -> 38 | B43: Net ir pelės keliauja į dangų | C43: I mysi patrí do nebe | D43: CZ, FR, PL, SK | E43: 667 | F43: 191 | G43: 1 | H43: 44716 | I43: Skalvijos kino centras
A44: =IF(B44<>"",ROWS($B$6:B44),"") -> 39 | B44: BABAUŽIUKAI. Septynios fantastiškos istorijos | C44: BABAUŽIUKAI. Septynios fantastiškos istorijos | D44: LT | E44: 597.64 | F44: 162 | G44: 3 | H44: 44778 | I44: MB Laukite tęsinio
A45: =IF(B45<>"",ROWS($B$6:B45),"") -> 40 | B45: Ką matome žiūrėdami į dangų | C45: Ras vkhedavt, rodesac cas vukurebt? | D45: GE, DE | E45: 566 | F45: 110 | G45: 1 | H45: 44729 | I45: A-One Films
A46: =IF(B46<>"",ROWS($B$6:B46),"") -> 41 | B46: Superherojai | C46: Supereroi | D46: IT | E46: 550.3 | F46: 97 | G46: 4 | H46: 44785 | I46: Best Film
A47: =IF(B47<>"",ROWS($B$6:B47),"") -> 42 | B47: Urvas | C47: Il buco | D47: IT, FR, DE | E47: 540.9 | F47: 135 | G47: 2 | H47: 44771 | I47: A-One Films
A48: =IF(B48<>"",ROWS($B$6:B48),"") -> 43 | B48: Įvykis | C48: L'événement | D48: FR | E48: 519.4 | F48: 114 | G48: 4 | H48: 44792 | I48: Estinfilm
A49: =IF(B49<>"",ROWS($B$6:B49),"") -> 44 | B49: Viskas iškart ir visur | C49: Everything Everywhere All at Once | D49: US | E49: 511.2 | F49: 117 | G49: 4 | H49: 44680 | I49: VLG film
A50: =IF(B50<>"",ROWS($B$6:B50),"") -> 45 | B50: Apverstas bokštas | C50: Tagurpidi torn | D50: LV, EE | E50: 496 | F50: 151 | G50: 2 | H50: 44807 | I50: Skalvijos kino centras
A51: =IF(B51<>"",ROWS($B$6:B51),"") -> 46 | B51: Gerasis bosas | C51: El Buen Patrón | D51: ES | E51: 458 | F51: 86 | G51: 1 | H51: 44655 | I51: Europos kinas
A52: =IF(B52<>"",ROWS($B$6:B52),"") -> 47 | B52: Jokūbas, Mimi ir kalbantys šunys | C52: Jekabs, Mimmi un runajosie suni | D52: LV, PL | E52: 423 | F52: 131 | G52: 1 | H52: 44114 | I52: Skalvijos kino centras
A53: =IF(B53<>"",ROWS($B$6:B53),"") -> 48 | B53: Ratai, taurės ir La Manča | C53: In The Bottle | D53: FR | E53: 397.5 | F53: 69 | G53: 2 | H53: 44771 | I53: VLG film
A54: =IF(B54<>"",ROWS($B$6:B54),"") -> 49 | B54: Atostogos prancūziškai | C54: Joyeuse Retraite! 2 | D54: FR | E54: 390 | F54: 89 | G54: 2 | H54: 44764 | I54: Garsų pasaulio įrašai
A55: =IF(B55<>"",ROWS($B$6:B55),"") -> 50 | B55: Drąsiau drąsiau | C55: C'mon C'mon | D55: US | E55: 374.5 | F55: 67 | G55: 1 | H55: 44589 | I55: A-One Films
A56: =IF(B56<>"",ROWS($B$6:B56),"") -> 51 | B56: Gauja | C56: Smecka | D56: CZ, SK, LV | E56: 332 | F56: 69 | G56: 2 | H56: 44330 | I56: Skalvijos kino centras
A57: =IF(B57<>"",ROWS($B$6:B57),"") -> 52 | B57: Arčiau debesų | C57: Cloudboy | D57: BG, SE, NL, NO | E57: 319 | F57: 73 | G57: 2 | H57: 42988 | I57: Skalvijos kino centras
A58: =IF(B58<>"",ROWS($B$6:B58),"") -> 53 | B58: Baigta! | C58: Coupez! | D58: FR | E58: 309.02 | F58: 88 | G58: 9 | H58: 44827 | I58: Estinfilm
A59: =IF(B59<>"",ROWS($B$6:B59),"") -> 54 | B59: Drive My Car | C59: Drive My Car | D59: JP | E59: 287.5 | F59: 55 | G59: 1 | H59: 44533 | I59: A-One Films
A60: =IF(B60<>"",ROWS($B$6:B60),"") -> 55 | B60: Pavasaris ateis | C60: Moja Vesna | D60: SI, AU | E60: 285 | F60: 106 | G60: 1 | H60: 44805 | I60: Skalvijos kino centras
A61: =IF(B61<>"",ROWS($B$6:B61),"") -> 56 | B61: Operacija "O2" | C61: Operacija "O2" | D61: LT, EE, FI, LV | E61: 242 | F61: 48 | G61: 1 | H61: 44491 | I61: Theatrical Film Distribution / IN SCRIPT
A62: =IF(B62<>"",ROWS($B$6:B62),"") -> 57 | B62: žeme, stop | C62: stop-zemlia | D62: UA | E62: 240 | F62: 60 | G62: 1 | H62: 44707 | I62: Skalvijos kino centras
A63: =IF(B63<>"",ROWS($B$6:B63),"") -> 58 | B63: Vagiliautojai | C63: Shoplifters | D63: JP | E63: 218 | F63: 61 | G63: 1 | H63: 43574 | I63: Europos kinas
A64: =IF(B64<>"",ROWS($B$6:B64),"") -> 59 | B64: Piligrimai | C64: Piligrimai | D64: LT | E64: 200.8 | F64: 54 | G64: 2 | H64: 44659 | I64: Europos kinas
A65: =IF(B65<>"",ROWS($B$6:B65),"") -> 60 | B65: Lukas | C65: Luca | D65: US | E65: 129.74 | F65: 29 | G65: 1 | H65: 44400 | I65: Theatrical Film Distribution / WDSMPI
A66: =IF(B66<>"",ROWS($B$6:B66),"") -> 61 | B66: Ties virimo riba | C66: Boiling Point | D66: UK | E66: 55.5 | F66: 11 | G66: 1 | H66: 44655 | I66: Europos kinas
A67: =IF(B67<>"",ROWS($B$6:B67),"") -> 62 | B67: Saulėlydis | C67: Sundown | D67: MX, FR, SE | E67: 54 | F67: 10 | G67: 1 | H67: 44655 | I67: Europos kinas
A68: =IF(B68<>"",ROWS($B$6:B68),"") -> 63 | B68: Vidurnaktis Paryžiuje | C68: Midnight in Paris | D68: US | E68: 33.5 | F68: 7 | G68: 1 | H68: 40795 | I68: ACME Film
A69: =IF(B69<>"",ROWS($B$6:B69),"") -> 64 | B69: Drakonas ir strazdanotoji gražuolė | C69: Ryû to sobakasu no hime | D69: JP | E69: 30 | F69: 6 | G69: 1 | H69: 44655 | I69: Europos kinas
E70: =SUBTOTAL(109,Table3_Rugsėjis[Pajamos]) -> 1369162.8 | F70: =SUBTOTAL(109,Table3_Rugsėjis[Žiūrovų skaičius]) -> 225311

Sheet Spalis
A1: ='2022'!A1 -> 2022
A2: ='2022'!A2 -> Lietuvos kino teatruose rodytų filmų TOP
A3: Spalis
A5: Eil. Nr. | B5: Filmo pavadinimas | C5: Filmo pavadinimas originalo kalba | D5: Kilmės šalis | E5: Pajamos | F5: Žiūrovų skaičius | G5: Kopijų skaičius | H5: Premjeros data | I5: Platintojas
A6: =IF(B6<>"",ROWS($B$6:B6),"") -> 1 | B6: Piktųjų karta | C6: Piktųjų karta | D6: LT | E6: 456244.04 | F6: 66245 | G6: 16 | H6: 44848 | I6: Kino kultas
A7: =IF(B7<>"",ROWS($B$6:B7),"") -> 2 | B7: Ko nežino vyrai | C7: Ko nežino vyrai | D7: LT | E7: 176674.06 | F7: 25344 | G7: 19 | H7: 44820 | I7: ACME Film
A8: =IF(B8<>"",ROWS($B$6:B8),"") -> 3 | B8: Šypsena | C8: Smile | D8: US | E8: 174144.85 | F8: 26689 | G8: 14 | H8: 44834 | I8: Dukine Film Distribution / Paramount Pictures
A9: =IF(B9<>"",ROWS($B$6:B9),"") -> 4 | B9: Juodasis Adamas | C9: Black Adam | D9: US | E9: 146765.75 | F9: 21090 | G9: 14 | H9: 44855 | I9: ACME Film / WB
A10: =IF(B10<>"",ROWS($B$6:B10),"") -> 5 | B10: Vesper | C10: Vesper | D10: LT | E10: 145698.05 | F10: 24084 | G10: 25 | H10: 44834 | I10: Europos kinas
A11: =IF(B11<>"",ROWS($B$6:B11),"") -> 6 | B11: Pasiutusios letenos. Henko legenda | C11: Paws of fury | D11: US | E11: 97152 | F11: 19471 | G11: 16 | H11: 44820 | I11: Garsų pasaulio įrašai
A12: =IF(B12<>"",ROWS($B$6:B12),"") -> 7 | B12: Ten, kur gieda vėžiai | C12: Where the Crawdads Sing | D12: US | E12: 79532.03 | F12: 12677 | G12: 15 | H12: 44792 | I12: ACME Film / SONY
A13: =IF(B13<>"",ROWS($B$6:B13),"") -> 8 | B13: Nesijaudink, brangioji | C13: Don't Worry Darling | D13: US | E13: 75734.59 | F13: 11457 | G13: 14 | H13: 44827 | I13: ACME Film / WB
A14: =IF(B14<>"",ROWS($B$6:B14),"") -> 9 | B14: Fėja išdykėlė | C14: My Fairy Troublemaker | D14: DE | E14: 74109 | F14: 15373 | G14: 20 | H14: 44848 | I14: Garsų pasaulio įrašai
A15: =IF(B15<>"",ROWS($B$6:B15),"") -> 10 | B15: Liūdesio trikampis | C15: The Triangle of Sadness | D15: SE, FR, UK, DE, GR | E15: 63670.79 | F15: 10335 | G15: 13 | H15: 44855 | I15: A-One Films
A16: =IF(B16<>"",ROWS($B$6:B16),"") -> 11 | B16: DC Superaugintinių lyga | C16: DC League of Super-Pets | D16: US | E16: 48984.18 | F16: 9695 | G16: 9 | H16: 44771 | I16: ACME Film / WB
A17: =IF(B17<>"",ROWS($B$6:B17),"") -> 12 | B17: Tigro kelionė Himalajuose | C17: Tigers Nest | D17: IT | E17: 46674.68 | F17: 9643 | G17: 18 | H17: 44855 | I17: ACME Film
A18: =IF(B18<>"",ROWS($B$6:B18),"") -> 13 | B18: Amsterdamas | C18: Amsterdam | D18: US | E18: 36636.03 | F18: 5809 | G18: 18 | H18: 44841 | I18: Theatrical Film Distribution / WDSMPI
A19: =IF(B19<>"",ROWS($B$6:B19),"") -> 14 | B19: Įsikūnijimas (kartojimas) | C19: Avatar (Re-release) | D19: US | E19: 34643.05 | F19: 5095 | G19: 24 | H19: 44827 | I19: Theatrical Film Distribution / WDSMPI
A20: =IF(B20<>"",ROWS($B$6:B20),"") -> 15 | B20: Helovinas baigiasi | C20: Halloween Ends | D20: US | E20: 34191.41 | F20: 5771 | G20: 14 | H20: 44848 | I20: Dukine Film Distribution / Universal Pictures
A21: =IF(B21<>"",ROWS($B$6:B21),"") -> 16 | B21: Bilietas į rojų | C21: Ticket To Paradise | D21: US | E21: 32287.3 | F21: 4842 | G21: 14 | H21: 44820 | I21: Dukine Film Distribution / Universal Pictures
A22: =IF(B22<>"",ROWS($B$6:B22),"") -> 17 | B22: Pakalikai 2 | C22: Minions: The Rise of Gru | D22: US | E22: 21640.6 | F22: 4097 | G22: 11 | H22: 44743 | I22: Dukine Film Distribution / Universal Pictures
A23: =IF(B23<>"",ROWS($B$6:B23),"") -> 18 | B23: Ponia Haris vyksta į Paryžių | C23: Mrs Harris Goes to Paris | D23: US | E23: 14943.52 | F23: 2313 | G23: 16 | H23: 44841 | I23: Dukine Film Distribution / Universal Pictures
A24: =IF(B24<>"",ROWS($B$6:B24),"") -> 19 | B24: Kol laukiau tavęs | C24: Good House | D24: US | E24: 5089.14 | F24: 917 | G24: 15 | H24: 44855 | I24: ACME Film
A25: =IF(B25<>"",ROWS($B$6:B25),"") -> 20 | B25: Meilės žaidimai | C25: Game Of Love | D25: US | E25: 4905 | F25: 944 | G25: 9 | H25: 44855 | I25: Garsų pasaulio įrašai
A26: =IF(B26<>"",ROWS($B$6:B26),"") -> 21 | B26: Svečiuose | C26: Gæsterne | D26: DK, NL | E26: 4845.56 | F26: 782 | G26: 18 | H26: 44655 | I26: Europos kinas
A27: =IF(B27<>"",ROWS($B$6:B27),"") -> 22 | B27: Lukas | C27: Luca | D27: US | E27: 4623.25 | F27: 1038 | G27: 2 | H27: 44400 | I27: Theatrical Film Distribution / WDSMPI
A28: =IF(B28<>"",ROWS($B$6:B28),"") -> 23 | B28: Viršukalnės karštinė | C28: Summit Fever | D28: US | E28: 4005.65 | F28: 604 | G28: 16 | H28: 44862 | I28: Theatrical Film Distribution
A29: =IF(B29<>"",ROWS($B$6:B29),"") -> 24 | B29: Trys tūkstančiai metų troškimų | C29: Three Thousand Years of Longing | D29: US | E29: 3341.5 | F29: 529 | G29: 4 | H29: 44813 | I29: VLG film
A30: =IF(B30<>"",ROWS($B$6:B30),"") -> 25 | B30: Detektyvas Naitas | C30: Devil's Knight (Detective Knight: Rogue) | D30: US | E30: 3244.61 | F30: 504 | G30: 12 | H30: 44862 | I30: ACME Film
A31: =IF(B31<>"",ROWS($B$6:B31),"") -> 26 | B31: Kompromatas | C31: Kompromat | D31: FR | E31: 2963 | F31: 463 | G31: 10 | H31: 44862 | I31: Garsų pasaulio įrašai
A32: =IF(B32<>"",ROWS($B$6:B32),"") -> 27 | B32: Kur dingo Ana Frank? | C32: Where Is Anne Frank | D32: BE, LU, FR, NL | E32: 2760.48 | F32: 1065 | G32: 4 | H32: 44694 | I32: Estinfilm
A33: =IF(B33<>"",ROWS($B$6:B33),"") -> 28 | B33: Kulkų ekspresas | C33: Bullet Train | D33: US, JP | E33: 2557.56 | F33: 414 | G33: 3 | H33: 44778 | I33: ACME Film / SONY
A34: =IF(B34<>"",ROWS($B$6:B34),"") -> 29 | B34: Net ir pelės keliauja į dangų | C34: I mysi patrí do nebe | D34: CZ, FR, PL, SK | E34: 2287 | F34: 765 | G34: 1 | H34: 44716 | I34: Skalvijos kino centras
A35: =IF(B35<>"",ROWS($B$6:B35),"") -> 30 | B35: Kriu | C35: Knor | D35: NL, BE | E35: 1680.35 | F35: 386 | G35: 4 | H35: 44827 | I35: Estinfilm
A36: =IF(B36<>"",ROWS($B$6:B36),"") -> 31 | B36: Apverstas bokštas | C36: Tagurpidi torn | D36: LV, EE | E36: 1671 | F36: 439 | G36: 3 | H36: 44807 | I36: Skalvijos kino centras
A37: =IF(B37<>"",ROWS($B$6:B37),"") -> 32 | B37: Knygynas Paryžiuje | C37: A Bookshop in Paris | D37: FR, IT | E37: 1607 | F37: 309 | G37: 1 | H37: 44708 | I37: Best Film
A38: =IF(B38<>"",ROWS($B$6:B38),"") -> 33 | B38: Drugelio Širdis | C38: Drugelio Širdis | D38: LT | E38: 1526.3 | F38: 464 | G38: 1 | H38: 44659 | I38: ACME Film
A39: =IF(B39<>"",ROWS($B$6:B39),"") -> 34 | B39: Vienišiausias vaikinas žemėje | C39: The Loneliest Boy in the World | D39: UK | E39: 1477 | F39: 222 | G39: 7 | H39: 44862 | I39: Garsų pasaulio įrašai
A40: =IF(B40<>"",ROWS($B$6:B40),"") -> 35 | B40: Enkanto | C40: Encanto | D40: US | E40: 1410.01 | F40: 397 | G40: 2 | H40: 44526 | I40: Theatrical Film Distribution / WDSMPI
A41: =IF(B41<>"",ROWS($B$6:B41),"") -> 36 | B41: Gražus sūnus | C41: Beautiful Boy | D41: US | E41: 1327 | F41: 331 | G41: 1 | H41: 43560 | I41: Europos kinas
A42: =IF(B42<>"",ROWS($B$6:B42),"") -> 37 | B42: Drąsiau drąsiau | C42: C'mon C'mon | D42: US | E42: 1323 | F42: 264 | G42: 1 | H42: 44589 | I42: A-One Films
A43: =IF(B43<>"",ROWS($B$6:B43),"") -> 38 | B43: Kernagis | C43: Kernagis | D43: LT | E43: 1034 | F43: 249 | G43: 1 | H43: 44610 | I43: Kino pasaka
A44: =IF(B44<>"",ROWS($B$6:B44),"") -> 39 | B44: Ateik pas mane | C44: Viens je t'emmène | D44: FR, BE | E44: 860.6 | F44: 171 | G44: 4 | H44: 44841 | I44: Estinfilm
A45: =IF(B45<>"",ROWS($B$6:B45),"") -> 40 | B45: Dainos lapei | C45: Dainos lapei | D45: LT | E45: 736 | F45: 124 | G45: 3 | H45: 44806 | I45: Garsų pasaulio įrašai
A46: =IF(B46<>"",ROWS($B$6:B46),"") -> 41 | B46: Tamsta Varlius | C46: Meester Kikker | D46: NL | E46: 697 | F46: 199 | G46: 1 | H46: 42654 | I46: Skalvijos kino centras
A47: =IF(B47<>"",ROWS($B$6:B47),"") -> 42 | B47: Tamsos riteris | C47: Dark Knight | D47: US | E47: 668.67 | F47: 39 | G47: 1 | H47: 39654 | I47: ACME Film / WB
A48: =IF(B48<>"",ROWS($B$6:B48),"") -> 43 | B48: Tamsos riterio sugrįžimas | C48: Dark Knight Rise | D48: US | E48: 668.67 | F48: 40 | G48: 1 | H48: 41117 | I48: ACME Film / WB
A49: =IF(B49<>"",ROWS($B$6:B49),"") -> 44 | B49: Betmenas: pradžia | C49: Batman Begins | D49: US | E49: 668.66 | F49: 39 | G49: 1 | H49: 38520 | I49: ACME Film / WB
A50: =IF(B50<>"",ROWS($B$6:B50),"") -> 45 | B50: Melagis | C50: Menteur | D50: FR | E50: 658.67 | F50: 117 | G50: 1 | H50: 44827 | I50: Best Film
A51: =IF(B51<>"",ROWS($B$6:B51),"") -> 46 | B51: AFTER. Kai tapome laimingi | C51: After Ever Happy | D51: US | E51: 654 | F51: 127 | G51: 2 | H51: 44806 | I51: Garsų pasaulio įrašai
A52: =IF(B52<>"",ROWS($B$6:B52),"") -> 47 | B52: Tas naujas pasaulis | C52: La croisade | D52: FR | E52: 609 | F52: 122 | G52: 1 | H52: 44799 | I52: A-One Films
A53: =IF(B53<>"",ROWS($B$6:B53),"") -> 48 | B53: Šuolis | C53: Šuolis | D53: LT | E53: 601 | F53: 117 | G53: 1 | H53: 44456 | I53: Moonmakers
A54: =IF(B54<>"",ROWS($B$6:B54),"") -> 49 | B54: Elvis | C54: Elvis | D54: US | E54: 582.7 | F54: 90 | G54: 2 | H54: 44736 | I54: ACME Film / WB
A55: =IF(B55<>"",ROWS($B$6:B55),"") -> 50 | B55: Viskas iškart ir visur | C55: Everything Everywhere All at Once | D55: US | E55: 557 | F55: 87 | G55: 2 | H55: 44680 | I55: VLG film
A56: =IF(B56<>"",ROWS($B$6:B56),"") -> 51 | B56: Blogiausias žmogus pasaulyje | C56: Verdens verste menneske | D56: NO, FR, SE, DK | E56: 518 | F56: 84 | G56: 2 | H56: 44655 | I56: Europos kinas
A57: =IF(B57<>"",ROWS($B$6:B57),"") -> 52 | B57: Svaiginantis aukštis | C57: Fall | D57: US | E57: 517.64 | F57: 95 | G57: 1 | H57: 44792 | I57: Theatrical Film Distribution
A58: =IF(B58<>"",ROWS($B$6:B58),"") -> 53 | B58: Keliaujantys paukščiai | C58: Les oiseaux de passage | D58: BE, FR | E58: 460 | F58: 115 | G58: 1 | H58: 42301 | I58: Skalvijos kino centras
A59: =IF(B59<>"",ROWS($B$6:B59),"") -> 54 | B59: Languotas Nindzė: misija Tailande | C59: Checkered Ninja 2 | D59: DK | E59: 454.65 | F59: 83 | G59: 2 | H59: 44799 | I59: Estinfilm
A60: =IF(B60<>"",ROWS($B$6:B60),"") -> 55 | B60: Gauja | C60: Smecka | D60: CZ, SK, LV | E60: 453 | F60: 86 | G60: 2 | H60: 44330 | I60: Skalvijos kino centras
A61: =IF(B61<>"",ROWS($B$6:B61),"") -> 56 | B61: Fantazijos tik suaugusiems | C61: Fantasies | D61: FR | E61: 433 | F61: 65 | G61: 1 | H61: 44603 | I61: Garsų pasaulio įrašai
A62: =IF(B62<>"",ROWS($B$6:B62),"") -> 57 | B62: Atsargiai, ragana | C62: Zlogonje | D62: MK | E62: 354 | F62: 118 | G62: 1 | H62: 43435 | I62: Skalvijos kino centras
A63: =IF(B63<>"",ROWS($B$6:B63),"") -> 58 | B63: Superherojai | C63: Supereroi | D63: IT | E63: 340.5 | F63: 54 | G63: 1 | H63: 44785 | I63: Best Film
A64: =IF(B64<>"",ROWS($B$6:B64),"") -> 59 | B64: Bintė | C64: Binti | D64: BE | E64: 321 | F64: 107 | G64: 1 | H64: 44080 | I64: Skalvijos kino centras
A65: =IF(B65<>"",ROWS($B$6:B65),"") -> 60 | B65: Gerasis bosas | C65: El Buen Patrón | D65: ES | E65: 312.5 | F65: 15 | G65: 2 | H65: 44655 | I65: Europos kinas
A66: =IF(B66<>"",ROWS($B$6:B66),"") -> 61 | B66: Įvykis | C66: L'événement | D66: FR | E66: 305.5 | F66: 67 | G66: 1 | H66: 44792 | I66: Estinfilm
A67: =IF(B67<>"",ROWS($B$6:B67),"") -> 62 | B67: Baigta! | C67: Coupez! | D67: FR | E67: 305.2 | F67: 62 | G67: 1 | H67: 44827 | I67: Estinfilm
A68: =IF(B68<>"",ROWS($B$6:B68),"") -> 63 | B68: Prakeiktoji | C68: The Harbinger | D68: US | E68: 283 | F68: 39 | G68: 1 | H68: 44813 | I68: Garsų pasaulio įrašai
A69: =IF(B69<>"",ROWS($B$6:B69),"") -> 64 | B69: Toras. Meilė ir griaustinis | C69: Thor: Love and Thunder | D69: US | E69: 242 | F69: 49 | G69: 1 | H69: 44750 | I69: Theatrical Film Distribution / WDSMPI
A70: =IF(B70<>"",ROWS($B$6:B70),"") -> 65 | B70: Šiukšliai. Stebuklingos piramidės legenda | C70: Trash | D70: IT | E70: 221 | F70: 49 | G70: 2 | H70: 44785 | I70: Theatrical Film Distribution
A71: =IF(B71<>"",ROWS($B$6:B71),"") -> 66 | B71: Guliveris grįžta | C71: Gulliver Returns | D71: UA | E71: 175.65 | F71: 49 | G71: 1 | H71: 44792 | I71: ACME Film
A72: =IF(B72<>"",ROWS($B$6:B72),"") -> 67 | B72: žeme, stop | C72: stop-zemlia | D72: UA | E72: 156 | F72: 38 | G72: 3 | H72: 44707 | I72: Skalvijos kino centras
A73: =IF(B73<>"",ROWS($B$6:B73),"") -> 68 | B73: Pavasaris ateis | C73: Moja Vesna | D73: SI, AU | E73: 144 | F73: 48 | G73: 1 | H73: 44805 | I73: Skalvijos kino centras
A74: =IF(B74<>"",ROWS($B$6:B74),"") -> 69 | B74: Piligrimai | C74: Piligrimai | D74: LT | E74: 102 | F74: 20 | G74: 3 | H74: 44659 | I74: Europos kinas
A75: =IF(B75<>"",ROWS($B$6:B75),"") -> 70 | B75: Drive My Car | C75: Drive My Car | D75: JP | E75: 98 | F75: 18 | G75: 1 | H75: 44533 | I75: A-One Films
A76: =IF(B76<>"",ROWS($B$6:B76),"") -> 71 | B76: Nematomas karas | C76: Niewidzialna wojna | D76: PL | E76: 93 | F76: 15 | G76: 4 | H76: 44841 | I76: Kinostar
A77: =IF(B77<>"",ROWS($B$6:B77),"") -> 72 | B77: Atostogos prancūziškai | C77: Joyeuse Retraite! 2 | D77: FR | E77: 64 | F77: 10 | G77: 1 | H77: 44764 | I77: Garsų pasaulio įrašai
A78: =IF(B78<>"",ROWS($B$6:B79),"") -> 74 | B78: Ne | C78: Nope | D78: US | E78: 40 | F78: 6 | G78: 1 | H78: 44785 | I78: Dukine Film Distribution / Universal Pictures
A79: =IF(B79<>"",ROWS($B$6:B79),"") -> 74 | B79: Ratai, taurės ir La Manča | C79: In The Bottle | D79: FR | E79: 16 | F79: 2 | G79: 1 | H79: 44771 | I79: VLG film
E80: =SUBTOTAL(109,Table3_Spalis[Pajamos]) -> 1827775.9 | F80: =SUBTOTAL(109,Table3_Spalis[Žiūrovų skaičius]) -> 293682

Sheet Lapkritis
A1: ='2022'!A1 -> 2022
A2: ='2022'!A2 -> Lietuvos kino teatruose rodytų filmų TOP
A3: Lapkritis
A5: Eil. Nr. | B5: Filmo pavadinimas | C5: Filmo pavadinimas originalo kalba | D5: Kilmės šalis | E5: Pajamos | F5: Žiūrovų skaičius | G5: Kopijų skaičius | H5: Premjeros data | I5: Platintojas
A6: =IF(B6<>"",ROWS($B$6:B6),"") -> 1 | B6: Piktųjų karta | C6: Piktųjų karta | D6: LT | E6: 441604.67 | F6: 61835 | G6: 18 | H6: 44848 | I6: Kino kultas
A7: =IF(B7<>"",ROWS($B$6:B7),"") -> 2 | B7: Juodoji pantera. Wakanda amžiams | C7: Black Panther: Wakanda Forever | D7: US | E7: 223482.76 | F7: 30074 | G7: 27 | H7: 44876 | I7: Theatrical Film Distribution / WDSMPI
A8: =IF(B8<>"",ROWS($B$6:B8),"") -> 3 | B8: Lilas, Lilas, Krokodilas | C8: Lyle Lyle Crocodile | D8: US | E8: 160988.26 | F8: 31450 | G8: 19 | H8: 44869 | I8: ACME Film / SONY
A9: =IF(B9<>"",ROWS($B$6:B9),"") -> 4 | B9: Skyrybos | C9: Skyrybos | D9: LT | E9: 141337.59 | F9: 21748 | G9: 15 | H9: 2022-11-18 | I9: „Lumo“ studija
A10: =IF(B10<>"",ROWS($B$6:B10),"") -> 5 | B10: Rūpintojėlis | C10: Rūpintojėlis | D10: LT | E10: 102447.22 | F10: 15835 | G10: 21 | H10: 44869 | I10: ACME Film
A11: =IF(B11<>"",ROWS($B$6:B11),"") -> 6 | B11: Liūdesio trikampis | C11: The Triangle of Sadness | D11: SE, FR, UK, DE, GR | E11: 101917.08 | F11: 15816 | G11: 10 | H11: 44855 | I11: A-One Films
A12: =IF(B12<>"",ROWS($B$6:B12),"") -> 7 | B12: Juodasis Adamas | C12: Black Adam | D12: US | E12: 74290.89 | F12: 11226 | G12: 12 | H12: 44855 | I12: ACME Film / WB
A13: =IF(B13<>"",ROWS($B$6:B13),"") -> 8 | B13: Meniu | C13: Menu | D13: US | E13: 56788.68 | F13: 8782 | G13: 19 | H13: 44883 | I13: Theatrical Film Distribution / WDSMPI
A14: =IF(B14<>"",ROWS($B$6:B14),"") -> 9 | B14: Keistas pasaulis | C14: Strange World | D14: US | E14: 45859.41 | F14: 8582 | G14: 29 | H14: 44890 | I14: Theatrical Film Distribution / WDSMPI
A15: =IF(B15<>"",ROWS($B$6:B15),"") -> 10 | B15: Šypsena | C15: Smile | D15: US | E15: 43624.38 | F15: 6426 | G15: 8 | H15: 44834 | I15: Dukine Film Distribution / Paramount Pictures
A16: =IF(B16<>"",ROWS($B$6:B16),"") -> 11 | B16: Fėja išdykėlė | C16: My Fairy Troublemaker | D16: DE | E16: 42206 | F16: 8415 | G16: 15 | H16: 44848 | I16: Garsų pasaulio įrašai
A17: =IF(B17<>"",ROWS($B$6:B17),"") -> 12 | B17: Pasiutusios letenos. Henko legenda | C17: Paws of fury | D17: US | E17: 40267 | F17: 7697 | G17: 11 | H17: 44820 | I17: Garsų pasaulio įrašai
A18: =IF(B18<>"",ROWS($B$6:B18),"") -> 13 | B18: Tigro kelionė Himalajuose | C18: Tigers Nest | D18: IT | E18: 36893.5 | F18: 7157 | G18: 17 | H18: 44855 | I18: ACME Film
A19: =IF(B19<>"",ROWS($B$6:B19),"") -> 14 | B19: Mija ir aš: Sentopijos didvyrė | C19: Mia and Me: The Hero of Centopia | D19: DE, AU, BE, IN | E19: 27886.5 | F19: 5424 | G19: 10 | H19: 44876 | I19: Unlimited Media OÜ
A20: =IF(B20<>"",ROWS($B$6:B20),"") -> 15 | B20: Vesper | C20: Vesper | D20: LT | E20: 19566.94 | F20: 3473 | G20: 11 | H20: 44834 | I20: Europos kinas
A21: =IF(B21<>"",ROWS($B$6:B21),"") -> 16 | B21: Ko nežino vyrai | C21: Ko nežino vyrai | D21: LT | E21: 17793.19 | F21: 2577 | G21: 9 | H21: 44820 | I21: ACME Film
... A84: =IF(B84<>"",ROWS($B$6:B84),"") -> 79 | B84: Viskas iškart ir visur | C84: Everything Everywhere All at Once | D84: US | E84: 22 | F84: 8 | G84: 1 | H84: 44680 | I84: VLG film
E85: =SUBTOTAL(109,Table3_Lapkritis[Pajamos]) -> 1739297.4 | F85: =SUBTOTAL(109,Table3_Lapkritis[Žiūrovų skaičius]) -> 276613

Sheet Gruodis
A1: ='2022'!A1 -> 2022
A2: ='2022'!A2 -> Lietuvos kino teatruose rodytų filmų TOP
A3: Gruodis
A5: Eil. Nr. | B5: Filmo pavadinimas | C5: Filmo pavadinimas originalo kalba | D5: Kilmės šalis | E5: Pajamos | F5: Žiūrovų skaičius | G5: Kopijų skaičius | H5: Premjeros data | I5: Platintojas
A6: =IF(B6<>"",ROWS($B$6:B6),"") -> 1 | B6: Įsikūnijimas. Vandens kelias | C6: Avatar: The Way of Water | D6: US | E6: 1193119.7 | F6: 161952 | G6: 33 | H6: 44911 | I6: Theatrical Film Distribution / WDSMPI
A7: =IF(B7<>"",ROWS($B$6:B7),"") -> 2 | B7: Batuotas katinas Pūkis: paskutinis noras | C7: Puss in Boots: The Last Wish | D7: US, JP | E7: 311123.28 | F7: 59594 | G7: 28 | H7: 44916 | I7: Dukine Film Distribution / Universal Pictures
A8: =IF(B8<>"",ROWS($B$6:B8),"") -> 3 | B8: ReEmigrantai | C8: ReEmigrantai | D8: LT | E8: 120691.34 | F8: 17698 | G8: 11 | H8: 44925 | I8: Stambus planas
A9: =IF(B9<>"",ROWS($B$6:B9),"") -> 4 | B9: Aš noriu šokti. Whitney Houston filmas | C9: I wanna dance with somebody | D9: US | E9: 90730.6 | F9: 14247 | G9: 17 | H9: 44916 | I9: ACME Film / SONY
A10: =IF(B10<>"",ROWS($B$6:B10),"") -> 5 | B10: Piktųjų karta | C10: Piktųjų karta | D10: LT | E10: 90406.28 | F10: 13571 | G10: 14 | H10: 44848 | I10: Kino kultas
A11: =IF(B11<>"",ROWS($B$6:B11),"") -> 6 | B11: Keistas pasaulis | C11: Strange World | D11: US | E11: 84253.56 | F11: 16528 | G11: 31 | H11: 44890 | I11: Theatrical Film Distribution / WDSMPI
A12: =IF(B12<>"",ROWS($B$6:B12),"") -> 7 | B12: Skyrybos | C12: Skyrybos | D12: LT | E12: 63067.24 | F12: 10178 | G12: 14 | H12: 44883 | I12: „Lumo“ studija
A13: =IF(B13<>"",ROWS($B$6:B13),"") -> 8 | B13: Velnio šviesa | C13: Devil's Light | D13: US | E13: 56264.96 | F13: 8003 | G13: 7 | H13: 44897 | I13: ACME Film
A14: =IF(B14<>"",ROWS($B$6:B14),"") -> 9 | B14: Meniu | C14: Menu | D14: US | E14: 41416.75 | F14: 6974 | G14: 13 | H14: 44883 | I14: Theatrical Film Distribution / WDSMPI
A15: =IF(B15<>"",ROWS($B$6:B15),"") -> 10 | B15: Meškio Tedžio Kalėdos | C15: Teddy’s Christmas | D15: NO | E15: 40880 | F15: 8795 | G15: 21 | H15: 44911 | I15: Garsų pasaulio įrašai
A16: =IF(B16<>"",ROWS($B$6:B16),"") -> 11 | B16: Juodoji pantera. Wakanda amžiams | C16: Black Panther: Wakanda Forever | D16: US | E16: 38920.77 | F16: 6181 | G16: 14 | H16: 44876 | I16: Theatrical Film Distribution / WDSMPI
A17: =IF(B17<>"",ROWS($B$6:B17),"") -> 12 | B17: Miauricijus Puikusis | C17: Amazing Maurice | D17: UK, DE, US | E17: 30593.06 | F17: 6051 | G17: 25 | H17: 44925 | I17: VLG film
... A96: =IF(B96<>"",ROWS($B$6:B96),"") -> 91 | B96: Juodasis Adamas | C96: Black Adam | D96: US | E96: 39.92 | F96: 8 | G96: 1 | H96: 44855 | I96: ACME Film / WB
E97: =SUBTOTAL(109,Table3_Gruodis[Pajamos]) -> 2374567.3 | F97: =SUBTOTAL(109,Table3_Gruodis[Žiūrovų skaičius]) -> 370803
