Workbook

Sheet Suvestinė
B1: 2022
B2: Rodiklis | C2: Reikšmė
B3: Premjerų skaičius | C3: 234
B4: Lietuviškų filmų premjerų skaičius | C4: 26
B5: Bendras filmų skaičius | C5: 341
B6: Bendros pajamos | C6: 18099895
B7: Bendras žiūrovų skaičius | C7: 2993612
B9: Filmų dalis rinkoje, %
B10: Kategorija | C10: Pajamos | D10: Žiūrovų skaičius | E10: Pajamos % | F10: Žiūrovų skaičius % | G10: Filmų skaičius
B11: Lietuva | C11: 3680847.2 | D11: 576666 | E11: 20.336 | F11: 19.263 | G11: 35
B12: Europa | C12: 1843392.5 | D12: 353908 | E12: 10.185 | F12: 11.822 | G12: 183
B13: JAV | C13: 12373399 | D13: 2024697 | E13: 68.362 | F13: 67.634 | G13: 110
B14: Kita | C14: 202256.31 | D14: 38341 | E14: 1.117 | F14: 1.281 | G14: 13
B15: Total | C15: =SUBTOTAL(109,Table1[Pajamos]) -> 18099895 | D15: =SUBTOTAL(109,Table1[Žiūrovų skaičius]) -> 2993612 | E15: =SUBTOTAL(109,Table1[Pajamos %]) -> 100 | F15: =SUBTOTAL(109,Table1[Žiūrovų skaičius %]) -> 100 | G15: =SUBTOTAL(109,Table1[Filmų skaičius]) -> 341
B46: Pasiskirstymas pagal platintojus
A47: Eil. nr | B47: Platintojas | C47: Pajamos | D47: Žiūrovų skaičius | E47: Filmų skaičius | F47: Pajamos % | G47: Žiūrovų skaičius %
A48: =IF(B48<>"",ROWS($B$48:B48),"") -> 1 | B48: Theatrical Film Distribution / WDSMPI | C48: 3292731.2 | D48: 500395 | E48: 18 | F48: 18.192 | G48: 16.715
A49: =IF(B49<>"",ROWS($B$48:B49),"") -> 2 | B49: Dukine Film Distribution / Universal Pictures International | C49: 2949286 | D49: 527731 | E49: 22 | F49: 16.294 | G49: 17.629
A50: =IF(B50<>"",ROWS($B$48:B50),"") -> 3 | B50: ACME Film / SONY | C50: 1826829.2 | D50: 283431 | E50: 10 | F50: 10.093 | G50: 9.468
A51: =IF(B51<>"",ROWS($B$48:B51),"") -> 4 | B51: ACME Film / WB | C51: 1753814.5 | D51: 280831 | E51: 15 | F51: 9.69 | G51: 9.381
A52: =IF(B52<>"",ROWS($B$48:B52),"") -> 5 | B52: ACME Film | C52: 1645119.1 | D52: 285462 | E52: 31 | F52: 9.089 | G52: 9.536
A53: =IF(B53<>"",ROWS($B$48:B53),"") -> 6 | B53: Dukine Film Distribution / Paramount Pictures | C53: 1477232.9 | D53: 249514 | E53: 8 | F53: 8.162 | G53: 8.335
A54: =IF(B54<>"",ROWS($B$48:B54),"") -> 7 | B54: Garsų pasaulio įrašai | C54: 1118490 | D54: 204064 | E54: 30 | F54: 6.18 | G54: 6.817
A55: =IF(B55<>"",ROWS($B$48:B55),"") -> 8 | B55: Kino kultas | C55: 988254.99 | D55: 141651 | E55: 1 | F55: 5.46 | G55: 4.732
A56: =IF(B56<>"",ROWS($B$48:B56),"") -> 9 | B56: Dublis LT | C56: 584644 | D56: 82080 | E56: 1 | F56: 3.23 | G56: 2.742
A57: =IF(B57<>"",ROWS($B$48:B57),"") -> 10 | B57: Europos kinas | C57: 315961.02 | D57: 54220 | E57: 37 | F57: 1.746 | G57: 1.811
A58: =IF(B58<>"",ROWS($B$48:B58),"") -> 11 | B58: Munis | C58: 313120.62 | D58: 48658 | E58: 1 | F58: 1.73 | G58: 1.625
A59: =IF(B59<>"",ROWS($B$48:B59),"") -> 12 | B59: A-One Films | C59: 297467.64 | D59: 51660 | E59: 29 | F59: 1.643 | G59: 1.726
... A88: =IF(B88<>"",ROWS($B$48:B88),"") -> 41 | B88: Greta Garbo Films | C88: 250 | D88: 56 | E88: 2 | F88: 0.001 | G88: 0.002
A89: Total | C89: =SUBTOTAL(109,Table18[Pajamos]) -> 18099895 | D89: =SUBTOTAL(109,Table18[Žiūrovų skaičius]) -> 2993612 | E89: =SUBTOTAL(109,Table18[Filmų skaičius]) -> 341 | F89: =SUBTOTAL(109,Table18[Pajamos %]) -> 99.998 | G89: =SUBTOTAL(109,Table18[Žiūrovų skaičius %]) -> 100
A92: LT TOP
A93: Eil. Nr. | B93: Filmo pavadinimas | C93: Pajamos | D93: Žiūrovų skaičius | E93: Premjeros data | F93: Platintojas
A94: 1 | B94: Piktųjų karta | C94: 988254.99 | D94: 141651 | E94: 44848 | F94: Kino kultas
A95: 2 | B95: Vyras už pinigus | C95: 584644 | D95: 82080 | E95: 44561 | F95: Dublis LT
A96: 3 | B96: Ko nežino vyrai | C96: 518312.4 | D96: 75224 | E96: 44820 | F96: ACME Film
A97: 4 | B97: Kartą kaime | C97: 313120.62 | D97: 48658 | E97: 44736 | F97: Munis
A98: 5 | B98: Skyrybos | C98: 204404.83 | D98: 31926 | E98: 44883 | F98: „Lumo“ studija
A99: 6 | B99: Drugelio Širdis | C99: 183119.48 | D99: 45461 | E99: 44659 | F99: ACME Film
A100: 7 | B100: Vesper | C100: 176631.85 | D100: 30082 | E100: 44834 | F100: Europos kinas
A101: 8 | B101: Kernagis | C101: 144814.95 | D101: 24578 | E101: 44610 | F101: Kino pasaka
...

Sheet Platintojų pasiskirstymas
A1: Platintojas | B1: Filmo pavadinimas | C1: Pajamos | D1: Žiūrovų skaičius | E1: Premjeros data
A2: Theatrical Film Distribution / WDSMPI | B2: Įsikūnijimas. Vandens kelias (Avatar: The Way of Water) | C2: 1193119.7 | D2: 161952 | E2: 44911
B3: Daktaras Streindžas beprotybės multivisatoje (Doctor Strange in the Multiverse of Madness) | C3: 424703.92 | D3: 60063 | E3: 44687
B4: Toras. Meilė ir griaustinis (Thor: Love and Thunder) | C4: 371927.39 | D4: 52747 | E4: 44750
B5: Raudonoji panda (Turning Red) | C5: 286967.92 | D5: 57790 | E5: 44631
B6: Juodoji pantera. Wakanda amžiams (Black Panther: Wakanda Forever) | C6: 262403.53 | D6: 36255 | E6: 44876
B7: Keistas pasaulis (Strange World) | C7: 130112.97 | D7: 25110 | E7: 44890
B8: Įsikūnijimas (kartojimas) (Avatar (Re-release)) | C8: 101678.21 | D8: 15571 | E8: 44827
B9: Meniu (Menu) | C9: 98205.43 | D9: 15756 | E9: 44883
B10: Mirtis ant Nilo (Death On The Nile) | C10: 96261 | D10: 15103 | E10: 44603
B11: Šviesmetis (Lightyear) | C11: 80594.55 | D11: 18200 | E11: 44729
B12: Enkanto (Encanto) | C12: 70752.61 | D12: 14122 | E12: 44526
B13: Košmarų skersgatvis (Nightmare Alley) | C13: 67235.61 | D13: 10331 | E13: 44582
B14: King's Man. Pradžia (The King's Man) | C14: 59808.29 | D14: 9010 | E14: 44561
... B19: Paskutinė dvikova (The Last Duel) | C19: 145 | D19: 29 | E19: 44484
A20: Theatrical Film Distribution / WDSMPI Total | B20: =COUNTA(B2:B19) -> 18 | C20: 3292731.2 | D20: 500395
A21: Dukine Film Distribution / Universal Pictures International | B21: Pakalikai 2 (Minions: The Rise of Gru) | C21: 1340481.4 | D21: 248873 | E21: 44743
B22: Batuotas katinas Pūkis: paskutinis noras (Puss in Boots: The Last Wish) | C22: 311123.28 | D22: 59594 | E22: 44916
B23: Blogiukai (Bad Guys) | C23: 207212.15 | D23: 42102 | E23: 44638
B24: Dainuok 2 (Sing 2) | C24: 198792.05 | D24: 39466 | E24: 44552
B25: Jūros periodo pasaulis. Viešpatavimas (Jurassic World: Dominion) | C25: 194741.09 | D25: 30379 | E25: 44722
B26: Bilietas į rojų (Ticket To Paradise) | C26: 119805.53 | D26: 18919 | E26: 44820
B27: Gucci mados namai (House of Gucci) | C27: 115166.4 | D27: 17294 | E27: 44526
B28: Atsitiktinis jaunikis (Marry Me) | C28: 112034 | D28: 15745 | E28: 44603
B29: Juodas telefonas (The Black Phone) | C29: 90039.98 | D29: 13670 | E29: 44736
B30: Vikingas (The Northman) | C30: 69600.17 | D30: 10706 | E30: 44666
B31: Ne (Nope) | C31: 46524.38 | D31: 7263 | E31: 44785
B32: Helovinas baigiasi (Halloween Ends) | C32: 35538.55 | D32: 5976 | E32: 44848
B33: Greitoji pagalba (Ambulance) | C33: 22738 | D33: 3537 | E33: 44638
... B42: Pradink (Get Out) | C42: 467 | D42: 94 | E42: 42832
A43: Dukine Film Distribution / Universal Pictures International Total | B43: =COUNTA(B21:B42) -> 22 | C43: 2949286 | D43: 527731
A44: ACME Film / SONY | B44: Ten, kur gieda vėžiai (Where the Crawdads Sing) | C44: 645373.32 | D44: 99270 | E44: 44792
B45: Žmogus voras: nėra kelio atgal (Spiderman No Way Home) | C45: 298115.59 | D45: 43896 | E45: 44547
B46: Neatrastas (Uncharted) | C46: 250092.83 | D46: 36559 | E46: 44610
B47: Lilas, Lilas, Krokodilas (Lyle Lyle Crocodile) | C47: 184243.05 | D47: 36237 | E47: 44869
B48: Kulkų ekspresas (Bullet Train) | C48: 177262.4 | D48: 26406 | E48: 44778
B49: Morbijus (Morbius) | C49: 99477.75 | D49: 13963 | E49: 44652
B50: Aš noriu šokti. Whitney Houston filmas (I wanna dance with somebody) | C50: 90730.6 | D50: 14247 | E50: 44916
B51: Kraujo kvietimas (Invitation) | C51: 46452.04 | D51: 7392 | E51: 44799
B52: Dragon Ball Super: Super Hero (Dragon Ball Super: Super Hero) | C52: 34441.66 | D52: 5201 | E52: 44799
...

Sheet 2022
A1: 2022
A2: Lietuvos kino teatruose rodytų filmų TOP
A5: Eil. Nr. | B5: Filmo pavadinimas | C5: Filmo pavadinimas originalo kalba | D5: Kilmės šalis | E5: Pajamos | F5: Žiūrovų skaičius | G5: Kopijų skaičius | H5: Premjeros data | I5: Platintojas
A6: =IF(B6<>"",ROWS($B$6:B6),"") -> 1 | B6: Pakalikai 2 | C6: Minions: The Rise of Gru | D6: US | E6: 1340481.4 | F6: 248873 | G6: 32 | H6: 44743 | I6: Dukine Film Distribution / Universal Pictures
A7: =IF(B7<>"",ROWS($B$6:B7),"") -> 2 | B7: Įsikūnijimas. Vandens kelias | C7: Avatar: The Way of Water | D7: US | E7: 1193119.7 | F7: 161952 | G7: 33 | H7: 44911 | I7: Theatrical Film Distribution / WDSMPI
A8: =IF(B8<>"",ROWS($B$6:B8),"") -> 3 | B8: Piktųjų karta | C8: Piktųjų karta | D8: LT | E8: 988254.99 | F8: 141651 | G8: 16 | H8: 44848 | I8: Kino kultas
A9: =IF(B9<>"",ROWS($B$6:B9),"") -> 4 | B9: Ten, kur gieda vėžiai | C9: Where the Crawdads Sing | D9: US | E9: 645373.32 | F9: 99270 | G9: 19 | H9: 44792 | I9: ACME Film / SONY
A10: =IF(B10<>"",ROWS($B$6:B10),"") -> 5 | B10: Vyras už pinigus | C10: Vyras už pinigus | D10: LT | E10: 584644 | F10: 82080 | G10: 19 | H10: 44561 | I10: Dublis LT
A11: =IF(B11<>"",ROWS($B$6:B11),"") -> 6 | B11: Ko nežino vyrai | C11: Ko nežino vyrai | D11: LT | E11: 518312.4 | F11: 75224 | G11: 19 | H11: 44820 | I11: ACME Film
A12: =IF(B12<>"",ROWS($B$6:B12),"") -> 7 | B12: Daktaras Streindžas beprotybės multivisatoje | C12: Doctor Strange in the Multiverse of Madness | D12: US | E12: 424703.92 | F12: 60063 | G12: 29 | H12: 44687 | I12: Theatrical Film Distribution / WDSMPI
A13: =IF(B13<>"",ROWS($B$6:B13),"") -> 8 | B13: Ežiukas Sonic 2 | C13: Sonic The Hedgehog 2 | D13: US, CA, JP | E13: 423160.67 | F13: 83186 | G13: 19 | H13: 44652 | I13: Dukine Film Distribution / Paramount Pictures
A14: =IF(B14<>"",ROWS($B$6:B14),"") -> 9 | B14: Toras. Meilė ir griaustinis | C14: Thor: Love and Thunder | D14: US | E14: 371927.39 | F14: 52747 | G14: 29 | H14: 44750 | I14: Theatrical Film Distribution / WDSMPI
A15: =IF(B15<>"",ROWS($B$6:B15),"") -> 10 | B15: Betmenas | C15: The Batman | D15: US | E15: 369596.98 | F15: 52890 | G15: 19 | H15: 44624 | I15: ACME Film / WB
A16: =IF(B16<>"",ROWS($B$6:B16),"") -> 11 | B16: Asas Maverikas | C16: Top Gun Maverick | D16: US | E16: 363003.32 | F16: 54439 | G16: 19 | H16: 44708 | I16: Dukine Film Distribution / Paramount Pictures
A17: =IF(B17<>"",ROWS($B$6:B17),"") -> 12 | B17: DC Superaugintinių lyga | C17: DC League of Super-Pets | D17: US | E17: 320809.1 | F17: 68352 | G17: 17 | H17: 44771 | I17: ACME Film / WB
... A346: =IF(B346<>"",ROWS($B$6:B346),"") -> 341 | B346: Metai prieš karą | C346: Gads pirms kara | D346: LV, CZ, LT | E346: 4 | F346: 1 | G346: 1 | H346: 44547 | I346: Garsų pasaulio įrašai
A347: Total | B347: =SUBTOTAL(103,_2022[Filmo pavadinimas]) -> 341 | E347: =SUBTOTAL(109,_2022[Pajamos]) -> 18099895 | F347: =SUBTOTAL(109,_2022[Žiūrovų skaičius]) -> 2993612
D349: Mėnuo | E349: Pajamos | F349: Žiūrovų skaičius
D350: Sausis | E350: =Sausis[[#Totals],[Pajamos]] -> 1738351.6 | F350: =Sausis[[#Totals],[Žiūrovų skaičius]] -> 278719
D351: Vasaris | E351: =Table3_Vasaris[[#Totals],[Pajamos]] -> 1207375.2 | F351: =Table3_Vasaris[[#Totals],[Žiūrovų skaičius]] -> 199273
D352: Kovas | E352: =Kovas[[#Totals],[Pajamos]] -> 1047727.1 | F352: =Kovas[[#Totals],[Žiūrovų skaičius]] -> 177135
D353: Balandis | E353: =Table3_Balandis[[#Totals],[Pajamos]] -> 1511852.6 | F353: =Table3_Balandis[[#Totals],[Žiūrovų skaičius]] -> 257001
D354: Gegužė | E354: =Table3_Gegužė[[#Totals],[Pajamos]] -> 1064324.8 | F354: =Table3_Gegužė[[#Totals],[Žiūrovų skaičius]] -> 179418
D355: Birželis | E355: =Table3_Birželis[[#Totals],[Pajamos]] -> 911897.59 | F355: =Table3_Birželis[[#Totals],[Žiūrovų skaičius]] -> 169747
D356: Liepa | E356: =Table3_Liepa[[#Totals],[Pajamos]] -> 2086899.8 | F356: =Table3_Liepa[[#Totals],[Žiūrovų skaičius]] -> 352813
D357: Rugpjūtis | E357: =Table3_Rugpjūtis[[#Totals],[Pajamos]] -> 1220663.3 | F357: =Table3_Rugpjūtis[[#Totals],[Žiūrovų skaičius]] -> 213097
D358: Rugsėjis | E358: =Table3_Rugsėjis[[#Totals],[Pajamos]] -> 1369162.8 | F358: =Table3_Rugsėjis[[#Totals],[Žiūrovų skaičius]] -> 225311
D359: Spalis | E359: =Table3_Spalis[[#Totals],[Pajamos]] -> 1827775.9 | F359: =Table3_Spalis[[#Totals],[Žiūrovų skaičius]] -> 293682
D360: Lapkritis | E360: =Table3_Lapkritis[[#Totals],[Pajamos]] -> 1739297.4 | F360: =Table3_Lapkritis[[#Totals],[Žiūrovų skaičius]] -> 276613
D361: Gruodis | E361: =Table3_Gruodis[[#Totals],[Pajamos]] -> 2374567.3 | F361: =Table3_Gruodis[[#Totals],[Žiūrovų skaičius]] -> 370803
D362: Iš viso | E362: =SUM(E350:E361) -> 18099895 | F362: =SUM(F350:F361) -> 2993612

Sheet Sausis
A1: ='2022'!A1 -> 2022
A2: ='2022'!A2 -> Lietuvos kino teatruose rodytų filmų TOP
A3: Sausis
A5: Eil. Nr. | B5: Filmo pavadinimas | C5: Filmo pavadinimas originalo kalba | D5: Kilmės šalis | E5: Pajamos | F5: Žiūrovų skaičius | G5: Kopijų skaičius | H5: Premjeros data | I5: Platintojas
A6: =IF(B6<>"",ROWS($B$6:B6),"") -> 1 | B6: Vyras už pinigus | C6: Vyras už pinigus | D6: LT | E6: 511393.79 | F6: 71219 | G6: 19 | H6: 44561 | I6: Dublis LT
A7: =IF(B7<>"",ROWS($B$6:B7),"") -> 2 | B7: Žmogus voras: nėra kelio atgal | C7: Spiderman No Way Home | D7: US | E7: 259787.38 | F7: 37871 | G7: 13 | H7: 44547 | I7: ACME Film / SONY
A8: =IF(B8<>"",ROWS($B$6:B8),"") -> 3 | B8: Dainuok 2 | C8: Sing 2 | D8: US | E8: 169278.26 | F8: 33359 | G8: 19 | H8: 44552 | I8: Dukine Film Distribution / Universal Pictures
A9: =IF(B9<>"",ROWS($B$6:B9),"") -> 4 | B9: Dičkis šuo Klifordas | C9: Clifford The Big Red Dog | D9: US, UK, CA | E9: 140631.2 | F9: 27474 | G9: 18 | H9: 44568 | I9: Dukine Film Distribution / Paramount Pictures
A10: =IF(B10<>"",ROWS($B$6:B10),"") -> 5 | B10: Gucci mados namai | C10: House of Gucci | D10: US | E10: 98246.64 | F10: 14716 | G10: 12 | H10: 44526 | I10: Dukine Film Distribution / Universal Pictures
A11: =IF(B11<>"",ROWS($B$6:B11),"") -> 6 | B11: Klyksmas 5 | C11: Scream 5 | D11: US | E11: 62804.88 | F11: 8888 | G11: 15 | H11: 44575 | I11: Dukine Film Distribution / Paramount Pictures
A12: =IF(B12<>"",ROWS($B$6:B12),"") -> 7 | B12: Matrica. Prisikėlimas | C12: Matrix Resurrecations | D12: US | E12: 58296.94 | F12: 8815 | G12: 14 | H12: 44554 | I12: ACME Film / WB
A13: =IF(B13<>"",ROWS($B$6:B13),"") -> 8 | B13: AINBO | C13: AINBO: Spirit of the Amazon | D13: PE, NL | E13: 57620 | F13: 11860 | G13: 15 | H13: 44561 | I13: Best Film
A14: =IF(B14<>"",ROWS($B$6:B14),"") -> 9 | B14: King's Man. Pradžia | C14: The King's Man | D14: US, UK | E14: 57243.04 | F14: 8650 | G14: 16 | H14: 44561 | I14: Theatrical Film Distribution / WDSMPI
A15: =IF(B15<>"",ROWS($B$6:B15),"") -> 10 | B15: Rusiški svingeriai | C15: Swingers | D15: RU | E15: 41116.81 | F15: 5931 | G15: 9 | H15: 44568 | I15: Theatrical Film Distribution
A16: =IF(B16<>"",ROWS($B$6:B16),"") -> 11 | B16: Mr. Landsbergis. Sugriauti blogio imperiją | C16: Mr. Landsbergis. Sugriauti blogio imperiją | D16: LT, UA | E16: 37890 | F16: 6366 | G16: 17 | H16: 44574 | I16: Garsų pasaulio įrašai
A17: =IF(B17<>"",ROWS($B$6:B17),"") -> 12 | B17: Košmarų skersgatvis | C17: Nightmare Alley | D17: US | E17: 33988.14 | F17: 5280 | G17: 18 | H17: 44582 | I17: Theatrical Film Distribution / WDSMPI
A18: =IF(B18<>"",ROWS($B$6:B18),"") -> 13 | B18: Trys riešutėliai pelenei | C18: Three Wishes for Cinderella | D18: NO | E18: 27718 | F18: 5084 | G18: 15 | H18: 44582 | I18: Travolta
A19: =IF(B19<>"",ROWS($B$6:B19),"") -> 14 | B19: Enkanto | C19: Encanto | D19: US | E19: 24014.71 | F19: 4835 | G19: 10 | H19: 44526 | I19: Theatrical Film Distribution / WDSMPI
A20: =IF(B20<>"",ROWS($B$6:B20),"") -> 15 | B20: Užburta arka | C20: Magic Arch | D20: DE | E20: 22733 | F20: 4809 | G20: 17 | H20: 44575 | I20: Garsų pasaulio įrašai
A21: =IF(B21<>"",ROWS($B$6:B21),"") -> 16 | B21: Eglutės 8 | C21: Ёлки 8 | D21: RU | E21: 14146 | F21: 2148 | G21: 6 | H21: 44547 | I21: Garsų pasaulio įrašai
A22: =IF(B22<>"",ROWS($B$6:B22),"") -> 17 | B22: Agentės 355 | C22: The 355 | D22: US | E22: 13562.6 | F22: 2100 | G22: 13 | H22: 44575 | I22: ACME Film
A23: =IF(B23<>"",ROWS($B$6:B23),"") -> 18 | B23: Mano vilkas | C23: Mystere | D23: FR | E23: 13531.49 | F23: 2506 | G23: 19 | H23: 44589 | I23: Theatrical Film Distribution
A24: =IF(B24<>"",ROWS($B$6:B24),"") -> 19 | B24: Misija "Meškučiai" | C24: Teddy Boom | D24: RU | E24: 12229.43 | F24: 2498 | G24: 16 | H24: 44582 | I24: ACME Film
A25: =IF(B25<>"",ROWS($B$6:B25),"") -> 20 | B25: Auksas | C25: Gold | D25: AU | E25: 9596.4 | F25: 1217 | G25: 16 | H25: 44589 | I25: Theatrical Film Distribution
A26: =IF(B26<>"",ROWS($B$6:B26),"") -> 21 | B26: Šuolis | C26: Šuolis | D26: LT | E26: 9139.4 | F26: 1635 | G26: 4 | H26: 44456 | I26: Moonmakers
A27: =IF(B27<>"",ROWS($B$6:B27),"") -> 22 | B27: Planeta Dvynė | C27: Project 'Gemini' | D27: RU | E27: 8492 | F27: 1464 | G27: 5 | H27: 44568 | I27: Top Film Baltic
A28: =IF(B28<>"",ROWS($B$6:B28),"") -> 23 | B28: Meilė kaip bestseleris | C28: Book of Love | D28: UK, US, MX | E28: 8081 | F28: 1236 | G28: 17 | H28: 44583 | I28: VLG film
A29: =IF(B29<>"",ROWS($B$6:B29),"") -> 24 | B29: Drąsiau drąsiau | C29: C'mon C'mon | D29: US | E29: 8006 | F29: 1270 | G29: 14 | H29: 44589 | I29: A-One Films
A30: =IF(B30<>"",ROWS($B$6:B30),"") -> 25 | B30: Pasaulio čempionas | C30: Чемпион мира | D30: RU | E30: 7492 | F30: 1168 | G30: 5 | H30: 44582 | I30: Garsų pasaulio įrašai
A31: =IF(B31<>"",ROWS($B$6:B31),"") -> 26 | B31: Prancūzijos kronikos iš Liberčio, Kanzaso vakaro saulės | C31: The French Dispatch of the Liberty, Kansas Evening Sun | D31: US, DE | E31: 5941 | F31: 1183 | G31: 5 | H31: 44512 | I31: Theatrical Film Distribution
A32: =IF(B32<>"",ROWS($B$6:B32),"") -> 27 | B32: Paryžius. 13-as rajonas | C32: Les Olympiades, Paris 13e | D32: FR | E32: 4115 | F32: 760 | G32: 5 | H32: 44561 | I32: A-One Films
A33: =IF(B33<>"",ROWS($B$6:B33),"") -> 28 | B33: Margarita - Šiaurės karalienė | C33: Margrete – Queen of the North | D33: DK, NO, SE, PL, CZ | E33: 3369 | F33: 682 | G33: 6 | H33: 44568 | I33: Estinfilm
A34: =IF(B34<>"",ROWS($B$6:B34),"") -> 29 | B34: Didžioji laisvė | C34: Great freedom | D34: DE | E34: 2772 | F34: 558 | G34: 5 | H34: 44568 | I34: A-One Films
A35: =IF(B35<>"",ROWS($B$6:B35),"") -> 30 | B35: Drive My Car | C35: Drive My Car | D35: JP | E35: 2599.92 | F35: 546 | G35: 4 | H35: 44533 | I35: A-One Films
A36: =IF(B36<>"",ROWS($B$6:B36),"") -> 31 | B36: Aplink pasaulį per 80 dienų | C36: Around The World in 80 days | D36: FR, BE | E36: 1749 | F36: 431 | G36: 4 | H36: 44540 | I36: VLG film
A37: =IF(B37<>"",ROWS($B$6:B37),"") -> 32 | B37: Eifelis | C37: Eiffel | D37: FR | E37: 1670.68 | F37: 293 | G37: 4 | H37: 44533 | I37: VLG film
A38: =IF(B38<>"",ROWS($B$6:B38),"") -> 33 | B38: Bėgikė | C38: Bėgikė | D38: LT | E38: 1294.38 | F38: 225 | G38: 3 | H38: 44519 | I38: M-Films
A39: =IF(B39<>"",ROWS($B$6:B39),"") -> 34 | B39: Meilužiai | C39: Lovers | D39: FR | E39: 1177 | F39: 202 | G39: 3 | H39: 44568 | I39: Best Film
A40: =IF(B40<>"",ROWS($B$6:B40),"") -> 35 | B40: Švelnūs kariai | C40: Švelnūs kariai | D40: LT | E40: 1101 | F40: 227 | G40: 1 | H40: 44526 | I40: Moonmakers
A41: =IF(B41<>"",ROWS($B$6:B41),"") -> 36 | B41: Mirtis palauks | C41: No Time To Die | D41: UK, US | E41: 1011.81 | F41: 191 | G41: 2 | H41: 44470 | I41: Dukine Film Distribution / Universal Pictures
...

Sheet Vasaris
A1: ='2022'!A1 -> 2022
A2: ='2022'!A2 -> Lietuvos kino teatruose rodytų filmų TOP
A3: Vasaris
A5: Eil. Nr. | B5: Filmo pavadinimas | C5: Filmo pavadinimas originalo kalba | D5: Kilmės šalis | E5: Pajamos | F5: Žiūrovų skaičius | G5: Kopijų skaičius | H5: Premjeros data | I5: Platintojas
A6: =IF(B6<>"",ROWS($B$6:B6),"") -> 1 | B6: Moonfall: Mėnulio kritimas | C6: Moonfall | D6: US, CN, UK | E6: 141898.29 | F6: 19742 | G6: 15 | H6: 44596 | I6: ACME Film
A7: =IF(B7<>"",ROWS($B$6:B7),"") -> 2 | B7: Neatrastas | C7: Uncharted | D7: US | E7: 138542.86 | F7: 18876 | G7: 15 | H7: 44610 | I7: ACME Film / SONY
A8: =IF(B8<>"",ROWS($B$6:B8),"") -> 3 | B8: Atsitiktinis jaunikis | C8: Marry Me | D8: US | E8: 105808.36 | F8: 14720 | G8: 18 | H8: 44603 | I8: Dukine Film Distribution / Universal Pictures
A9: =IF(B9<>"",ROWS($B$6:B9),"") -> 4 | B9: Liepsnojanti širdis | C9: Fireheart | D9: FR, CA | E9: 91195.06 | F9: 18710 | G9: 18 | H9: 44603 | I9: ACME Film
A10: =IF(B10<>"",ROWS($B$6:B10),"") -> 5 | B10: Mirtis ant Nilo | C10: Death On The Nile | D10: US | E10: 81998.85 | F10: 12723 | G10: 18 | H10: 44603 | I10: Theatrical Film Distribution / WDSMPI
A11: =IF(B11<>"",ROWS($B$6:B11),"") -> 6 | B11: Kernagis | C11: Kernagis | D11: LT | E11: 77882.01 | F11: 13144 | G11: 21 | H11: 44610 | I11: Kino pasaka
A12: =IF(B12<>"",ROWS($B$6:B12),"") -> 7 | B12: Vyras už pinigus | C12: Vyras už pinigus | D12: LT | E12: 65291.75 | F12: 9591 | G12: 12 | H12: 44561 | I12: Dublis LT
A13: =IF(B13<>"",ROWS($B$6:B13),"") -> 8 | B13: Lobis | C13: Lobis | D13: LT | E13: 43402 | F13: 8743 | G13: 20 | H13: 44596 | I13: Garsų pasaulio įrašai
A14: =IF(B14<>"",ROWS($B$6:B14),"") -> 9 | B14: Viškis piškis ir tamsos žiurkėnas | C14: Chickenhare and The Hamster of Darkness | D14: BE, FR | E14: 43032.2 | F14: 8871 | G14: 23 | H14: 44610 | I14: VLG film
A15: =IF(B15<>"",ROWS($B$6:B15),"") -> 10 | B15: Žmogus voras: nėra kelio atgal | C15: Spiderman No Way Home | D15: US | E15: 37045.86 | F15: 5807 | G15: 9 | H15: 44547 | I15: ACME Film / SONY
A16: =IF(B16<>"",ROWS($B$6:B16),"") -> 11 | B16: Dičkis šuo Klifordas | C16: Clifford The Big Red Dog | D16: US, UK, CA | E16: 36603.5 | F16: 7231 | G16: 14 | H16: 44568 | I16: Dukine Film Distribution / Paramount Pictures
A17: =IF(B17<>"",ROWS($B$6:B17),"") -> 12 | B17: Košmarų skersgatvis | C17: Nightmare Alley | D17: US | E17: 32645.57 | F17: 4952 | G17: 16 | H17: 44582 | I17: Theatrical Film Distribution / WDSMPI
A18: =IF(B18<>"",ROWS($B$6:B18),"") -> 13 | B18: Dainuok 2 | C18: Sing 2 | D18: US | E18: 27998.73 | F18: 5603 | G18: 12 | H18: 44552 | I18: Dukine Film Distribution / Universal Pictures
A19: =IF(B19<>"",ROWS($B$6:B19),"") -> 14 | B19: Ogliai | C19: The Ogglies | D19: DE, BE | E19: 25885.75 | F19: 5032 | G19: 9 | H19: 44596 | I19: Unlimited Media
A20: =IF(B20<>"",ROWS($B$6:B20),"") -> 15 | B20: Enkanto | C20: Encanto | D20: US | E20: 25547.57 | F20: 4908 | G20: 6 | H20: 44526 | I20: Theatrical Film Distribution / WDSMPI
A21: =IF(B21<>"",ROWS($B$6:B21),"") -> 16 | B21: Mano vilkas | C21: Mystere | D21: FR | E21: 22034.74 | F21: 4344 | G21: 19 | H21: 44589 | I21: Theatrical Film Distribution
A22: =IF(B22<>"",ROWS($B$6:B22),"") -> 17 | B22: Trys riešutėliai pelenei | C22: Three Wishes for Cinderella | D22: NO | E22: 19660.28 | F22: 3843 | G22: 11 | H22: 44582 | I22: Travolta
A23: =IF(B23<>"",ROWS($B$6:B23),"") -> 18 | B23: Monstrų šeimynėlė 2 | C23: Happy Family 2 | D23: DE, UK | E23: 19264 | F23: 3885 | G23: 19 | H23: 44617 | I23: Garsų pasaulio įrašai
A24: =IF(B24<>"",ROWS($B$6:B24),"") -> 19 | B24: Drąsiau drąsiau | C24: C'mon C'mon | D24: US | E24: 16670.78 | F24: 2835 | G24: 6 | H24: 44589 | I24: A-One Films
A25: =IF(B25<>"",ROWS($B$6:B25),"") -> 20 | B25: Gucci mados namai | C25: House of Gucci | D25: US | E25: 16434.66 | F25: 2475 | G25: 8 | H25: 44526 | I25: Dukine Film Distribution / Universal Pictures
A26: =IF(B26<>"",ROWS($B$6:B26),"") -> 21 | B26: Fantazijos tik suaugusiems | C26: Fantasies | D26: FR | E26: 15595 | F26: 2523 | G26: 17 | H26: 44603 | I26: Garsų pasaulio įrašai
A27: =IF(B27<>"",ROWS($B$6:B27),"") -> 22 | B27: Nepaklusnusis | C27: Непослушник | D27: RU | E27: 15277.2 | F27: 2229 | G27: 7 | H27: 44603 | I27: Theatrical Film Distribution
A28: =IF(B28<>"",ROWS($B$6:B28),"") -> 23 | B28: Mr. Landsbergis. Sugriauti blogio imperiją | C28: Mr. Landsbergis. Sugriauti blogio imperiją | D28: LT, UA | E28: 12230 | F28: 2491 | G28: 10 | H28: 44574 | I28: Garsų pasaulio įrašai
A29: =IF(B29<>"",ROWS($B$6:B29),"") -> 24 | B29: Jackass amžinai | C29: Jackass Forever | D29: US | E29: 12159.6 | F29: 1792 | G29: 11 | H29: 44610 | I29: Dukine Film Distribution / Paramount Pictures
A30: =IF(B30<>"",ROWS($B$6:B30),"") -> 25 | B30: Klyksmas 5 | C30: Scream 5 | D30: US | E30: 9878.45 | F30: 1434 | G30: 9 | H30: 44575 | I30: Dukine Film Distribution / Paramount Pictures
A31: =IF(B31<>"",ROWS($B$6:B31),"") -> 26 | B31: Williams metodas | C31: King Richard | D31: US | E31: 9211.72 | F31: 1437 | G31: 18 | H31: 44617 | I31: ACME Film / WB
A32: =IF(B32<>"",ROWS($B$6:B32),"") -> 27 | B32: Auksas | C32: Gold | D32: AU | E32: 6682.27 | F32: 1006 | G32: 17 | H32: 44589 | I32: Theatrical Film Distribution
A33: =IF(B33<>"",ROWS($B$6:B33),"") -> 28 | B33: Šuolis | C33: Šuolis | D33: LT | E33: 6270.86 | F33: 1160 | G33: 4 | H33: 44456 | I33: Moonmakers
A34: =IF(B34<>"",ROWS($B$6:B34),"") -> 29 | B34: Šešėlių žaidimas | C34: Blacklight | D34: US, AU, CN | E34: 5727.1 | F34: 867 | G34: 15 | H34: 44617 | I34: Theatrical Film Distribution
A35: =IF(B35<>"",ROWS($B$6:B35),"") -> 30 | B35: Saldymedžio pica | C35: Licorice Pizza | D35: US | E35: 4083.35 | F35: 719 | G35: 17 | H35: 44617 | I35: Dukine Film Distribution / Universal Pictures
A36: =IF(B36<>"",ROWS($B$6:B36),"") -> 31 | B36: Esminis instinktas (1992) | C36: Basic Instinct (1992) | D36: UK, FR, US | E36: 3784.8 | F36: 554 | G36: 5 | H36: 44603 | I36: A-One Films
A37: =IF(B37<>"",ROWS($B$6:B37),"") -> 32 | B37: Rusiški svingeriai | C37: Swingers | D37: RU | E37: 3745.45 | F37: 551 | G37: 7 | H37: 44568 | I37: Theatrical Film Distribution
A38: =IF(B38<>"",ROWS($B$6:B38),"") -> 33 | B38: Užburta arka | C38: Magic Arch | D38: DE | E38: 3303 | F38: 764 | G38: 5 | H38: 44575 | I38: Garsų pasaulio įrašai
A39: =IF(B39<>"",ROWS($B$6:B39),"") -> 34 | B39: Misija "Meškučiai" | C39: Teddy Boom | D39: RU | E39: 3047.63 | F39: 628 | G39: 14 | H39: 44582 | I39: ACME Film
A40: =IF(B40<>"",ROWS($B$6:B40),"") -> 35 | B40: King's Man. Pradžia | C40: The King's Man | D40: US, UK | E40: 2565.25 | F40: 360 | G40: 3 | H40: 44561 | I40: Theatrical Film Distribution / WDSMPI
A41: =IF(B41<>"",ROWS($B$6:B41),"") -> 36 | B41: Meilė. seksas ir pandemija | C41: Love. Sex and Pandemic | D41: PL | E41: 2295.2 | F41: 324 | G41: 6 | H41: 44603 | I41: Kinostar Filmverleih
...

Sheet Kovas
A1: ='2022'!A1 -> 2022
A2: ='2022'!A2 -> Lietuvos kino teatruose rodytų filmų TOP
A3: Kovas
A5: Eil. Nr. | B5: Filmo pavadinimas | C5: Filmo pavadinimas originalo kalba | D5: Kilmės šalis | E5: Pajamos | F5: Žiūrovų skaičius | G5: Kopijų skaičius | H5: Premjeros data | I5: Platintojas
A6: =IF(B6<>"",ROWS($B$6:B6),"") -> 1 | B6: Betmenas | C6: The Batman | D6: US | E6: 324293.96 | F6: 45728 | G6: 19 | H6: 44624 | I6: ACME Film / WB
A7: =IF(B7<>"",ROWS($B$6:B7),"") -> 2 | B7: Raudonoji panda | C7: Turning Red | D7: US | E7: 140736.41 | F7: 28265 | G7: 21 | H7: 44631 | I7: Theatrical Film Distribution / WDSMPI
A8: =IF(B8<>"",ROWS($B$6:B8),"") -> 3 | B8: Neatrastas | C8: Uncharted | D8: US | E8: 90161.15 | F8: 14258 | G8: 9 | H8: 44610 | I8: ACME Film / SONY
A9: =IF(B9<>"",ROWS($B$6:B9),"") -> 4 | B9: Blogiukai | C9: Bad Guys | D9: US | E9: 72908.57 | F9: 14498 | G9: 19 | H9: 44638 | I9: Dukine Film Distribution / Universal Pictures
A10: =IF(B10<>"",ROWS($B$6:B10),"") -> 5 | B10: Kernagis | C10: Kernagis | D10: LT | E10: 56804.14 | F10: 9439 | G10: 21 | H10: 44610 | I10: Kino pasaka
A11: =IF(B11<>"",ROWS($B$6:B11),"") -> 6 | B11: Mėlyna kaip apelsinas žemė | C11: The Earth is Blue as an Orange | D11: LT, UA | E11: 41450.82 | F11: 7665 | G11: 13 | H11: 44617 | I11: Moonmakers
A12: =IF(B12<>"",ROWS($B$6:B12),"") -> 7 | B12: Šuo | C12: Dog | D12: US | E12: 39323.43 | F12: 6276 | G12: 15 | H12: 44638 | I12: ACME Film
A13: =IF(B13<>"",ROWS($B$6:B13),"") -> 8 | B13: Monstrų šeimynėlė 2 | C13: Happy Family 2 | D13: DE, UK | E13: 30334 | F13: 6104 | G13: 19 | H13: 44617 | I13: Garsų pasaulio įrašai
A14: =IF(B14<>"",ROWS($B$6:B14),"") -> 9 | B14: Spencer | C14: Spencer | D14: UK, DE, US | E14: 29700.43 | F14: 4828 | G14: 18 | H14: 44631 | I14: ACME Film
A15: =IF(B15<>"",ROWS($B$6:B15),"") -> 10 | B15: Ruonių komanda | C15: Seal Team | D15: US | E15: 24752 | F15: 5116 | G15: 17 | H15: 44624 | I15: Best Film
A16: =IF(B16<>"",ROWS($B$6:B16),"") -> 11 | B16: Williams metodas | C16: King Richard | D16: US | E16: 20931.65 | F16: 3322 | G16: 18 | H16: 44617 | I16: ACME Film / WB
A17: =IF(B17<>"",ROWS($B$6:B17),"") -> 12 | B17: Greitoji pagalba | C17: Ambulance | D17: US | E17: 20378.1 | F17: 3149 | G17: 17 | H17: 44638 | I17: Dukine Film Distribution / Universal Pictures
... A33: =IF(B33<>"",ROWS($B$6:B33),"") -> 28 | B33: Jackass amžinai | C33: Jackass Forever | D33: US | E33: 3438.15 | F33: 585 | G33: 5 | H33: 44610 | I33: Dukine Film Distribution / Paramount Pictures
A34: =IF(B34<>"",ROWS($B$6:B34),"") -> 29 | B34: Anapus laiko ir šviesos | C34: Anapus laiko ir šviesos | D34: LT | E34: 3088 | F34: 551 | G34: 12 | H34: 44631 | I34: Broom Films
A35: =IF(B35<>"",ROWS($B$6:B35),"") -> 30 | B35: Lobis | C35: Lobis | D35: LT | E35: 2814 | F35: 634 | G35: 8 | H35: 44596 | I35: Garsų pasaulio įrašai
A36: =IF(B36<>"",ROWS($B$6:B36),"") -> 31 | B36: Drąsiau drąsiau | C36: C'mon C'mon | D36: US | E36: 2097 | F36: 445 | G36: 2 | H36: 44589 | I36: A-One Films
A37: =IF(B37<>"",ROWS($B$6:B37),"") -> 32 | B37: Krikštatėvis (Trilogijos maratonas) | C37: The Godfather (Trilogy Marathon) | D37: US | E37: 2059 | F37: 122 | G37: 3 | H37: 44633 | I37: Dukine Film Distribution / Paramount Pictures
A38: =IF(B38<>"",ROWS($B$6:B38),"") -> 33 | B38: Mr. Landsbergis. Sugriauti blogio imperiją | C38: Mr. Landsbergis. Sugriauti blogio imperiją | D38: LT, UA | E38: 2019 | F38: 376 | G38: 2 | H38: 44574 | I38: Garsų pasaulio įrašai
A39: =IF(B39<>"",ROWS($B$6:B39),"") -> 34 | B39: Alkio skonis | C39: A Taste of Hunger | D39: DK | E39: 1362.5 | F39: 306 | G39: 2 | H39: 44554 | I39: Best Film
A40: =IF(B40<>"",ROWS($B$6:B40),"") -> 35 | B40: Fantazijos tik suaugusiems | C40: Fantasies | D40: FR | E40: 1344 | F40: 226 | G40: 3 | H40: 44603 | I40: Garsų pasaulio įrašai
A41: =IF(B41<>"",ROWS($B$6:B41),"") -> 36 | B41: Žmogus voras: nėra kelio atgal | C41: Spiderman No Way Home | D41: US | E41: 1282.35 | F41: 218 | G41: 5 | H41: 44547 | I41: ACME Film / SONY
A42: =IF(B42<>"",ROWS($B$6:B42),"") -> 37 | B42: Švelnūs kariai | C42: Švelnūs kariai | D42: LT | E42: 1101 | F42: 227 | G42: 2 | H42: 44526 | I42: Moonmakers
A43: =IF(B43<>"",ROWS($B$6:B43),"") -> 38 | B43: Apgaulė | C43: Tromperie | D43: FR | E43: 1101 | F43: 171 | G43: 1 | H43: 44624 | I43: Estinfilm
A44: =IF(B44<>"",ROWS($B$6:B44),"") -> 39 | B44: Drive My Car | C44: Drive My Car | D44: JP | E44: 1012 | F44: 164 | G44: 2 | H44: 44533 | I44: A-One Films
A45: =IF(B45<>"",ROWS($B$6:B45),"") -> 40 | B45: Trys šeimos | C45: Tre piani | D45: IT, FR | E45: 918 | F45: 214 | G45: 2 | H45: 44617 | I45: A-One Films
A46: =IF(B46<>"",ROWS($B$6:B46),"") -> 41 | B46: Meilė yra arti | C46: Miłość jest Blisko | D46: PL | E46: 861.9 | F46: 127 | G46: 4 | H46: 44624 | I46: Kinostar Filmverleih
A47: =IF(B47<>"",ROWS($B$6:B47),"") -> 42 | B47: Gauja | C47: Smecka | D47: CZ, SK, LV | E47: 770 | F47: 166 | G47: 1 | H47: 44330 | I47: Skalvijos kino centras
A48: =IF(B48<>"",ROWS($B$6:B48),"") -> 43 | B48: Bintė | C48: Binti | D48: BE | E48: 691 | F48: 173 | G48: 1 | H48: 44080 | I48: Skalvijos kino centras
A49: =IF(B49<>"",ROWS($B$6:B49),"") -> 44 | B49: Košmarų skersgatvis | C49: Nightmare Alley | D49: US | E49: 601.9 | F49: 99 | G49: 5 | H49: 44582 | I49: Theatrical Film Distribution / WDSMPI
A50: =IF(B50<>"",ROWS($B$6:B50),"") -> 45 | B50: Mano mama gorila | C50: Apstjärnan | D50: SE, DK, FI | E50: 584 | F50: 270 | G50: 1 | H50: 44493 | I50: Skalvijos kino centras
A51: =IF(B51<>"",ROWS($B$6:B51),"") -> 46 | B51: Dainuok 2 | C51: Sing 2 | D51: US | E51: 575.56 | F51: 118 | G51: 4 | H51: 44552 | I51: Dukine Film Distribution / Universal Pictures
A52: =IF(B52<>"",ROWS($B$6:B52),"") -> 47 | B52: Paryžius. 13-as rajonas | C52: Les Olympiades, Paris 13e | D52: FR | E52: 552 | F52: 89 | G52: 2 | H52: 44561 | I52: A-One Films
A53: =IF(B53<>"",ROWS($B$6:B53),"") -> 48 | B53: Siuzana Andler | C53: Suzanna Andler | D53: FR | E53: 459 | F53: 79 | G53: 2 | H53: 44596 | I53: Best Film
A54: =IF(B54<>"",ROWS($B$6:B54),"") -> 49 | B54: Aš niekada neverkiu | C54: Jak Najdalej Stad | D54: PL, IE | E54: 390 | F54: 78 | G54: 1 | H54: 44431 | I54: Skalvijos kino centras
A55: =IF(B55<>"",ROWS($B$6:B55),"") -> 50 | B55: Mano vilkas | C55: Mystere | D55: FR | E55: 346.54 | F55: 66 | G55: 4 | H55: 44589 | I55: Theatrical Film Distribution
A56: =IF(B56<>"",ROWS($B$6:B56),"") -> 51 | B56: Eifelis | C56: Eiffel | D56: FR | E56: 317 | F56: 66 | G56: 1 | H56: 44533 | I56: VLG film
...

Sheet Balandis
A1: ='2022'!A1 -> 2022
A2: ='2022'!A2 -> Lietuvos kino teatruose rodytų filmų TOP
A3: Balandis
A5: Eil. Nr. | B5: Filmo pavadinimas | C5: Filmo pavadinimas originalo kalba | D5: Kilmės šalis | E5: Pajamos | F5: Žiūrovų skaičius | G5: Kopijų skaičius | H5: Premjeros data | I5: Platintojas
A6: =IF(B6<>"",ROWS($B$6:B6),"") -> 1 | B6: Ežiukas Sonic 2 | C6: Sonic The Hedgehog 2 | D6: US, CA, JP | E6: 290792.75 | F6: 56443 | G6: 19 | H6: 44652 | I6: Dukine Film Distribution / Paramount Pictures
A7: =IF(B7<>"",ROWS($B$6:B7),"") -> 2 | B7: Fantastiniai gyvūnai: Dumbldoro paslaptys | C7: Fantastic Beasts: The Secrets of Dumbledore | D7: US, UK | E7: 246914.94 | F7: 33695 | G7: 16 | H7: 44666 | I7: ACME Film / WB
A8: =IF(B8<>"",ROWS($B$6:B8),"") -> 3 | B8: Prarastas miestas | C8: The Lost City | D8: US | E8: 140429.31 | F8: 20144 | G8: 16 | H8: 44659 | I8: Dukine Film Distribution / Paramount Pictures
A9: =IF(B9<>"",ROWS($B$6:B9),"") -> 4 | B9: Drugelio Širdis | C9: Drugelio Širdis | D9: LT | E9: 105001.49 | F9: 24592 | G9: 20 | H9: 44659 | I9: ACME Film
A10: =IF(B10<>"",ROWS($B$6:B10),"") -> 5 | B10: Raudonoji panda | C10: Turning Red | D10: US | E10: 96550.16 | F10: 19406 | G10: 9 | H10: 44631 | I10: Theatrical Film Distribution / WDSMPI
A11: =IF(B11<>"",ROWS($B$6:B11),"") -> 6 | B11: Morbijus | C11: Morbius | D11: US | E11: 94785.39 | F11: 13299 | G11: 14 | H11: 44652 | I11: ACME Film / SONY
A12: =IF(B12<>"",ROWS($B$6:B12),"") -> 7 | B12: Blogiukai | C12: Bad Guys | D12: US | E12: 74068.16 | F12: 14819 | G12: 8 | H12: 44638 | I12: Dukine Film Distribution / Universal Pictures
A13: =IF(B13<>"",ROWS($B$6:B13),"") -> 8 | B13: Vikingas | C13: The Northman | D13: US | E13: 55874.24 | F13: 8569 | G13: 16 | H13: 44666 | I13: Dukine Film Distribution / Universal Pictures
A14: =IF(B14<>"",ROWS($B$6:B14),"") -> 9 | B14: Betmenas | C14: The Batman | D14: US | E14: 44632.88 | F14: 7025 | G14: 7 | H14: 44624 | I14: ACME Film / WB
A15: =IF(B15<>"",ROWS($B$6:B15),"") -> 10 | B15: Eskortės | C15: Girls To Buy | D15: PL | E15: 44369 | F15: 4468 | G15: 11 | H15: 44673 | I15: Garsų pasaulio įrašai
A16: =IF(B16<>"",ROWS($B$6:B16),"") -> 11 | B16: Bunkerio žaidimas | C16: The Bunker game | D16: IT, FR | E16: 43718 | F16: 6524 | G16: 13 | H16: 44666 | I16: Garsų pasaulio įrašai
A17: =IF(B17<>"",ROWS($B$6:B17),"") -> 12 | B17: Blogiausias žmogus pasaulyje | C17: Verdens verste menneske | D17: NO, FR, SE, DK | E17: 28837.94 | F17: 4534 | G17: 17 | H17: 44655 | I17: Europos kinas
... A21: =IF(B21<>"",ROWS($B$6:B21),"") -> 16 | B21: Neatrastas | C21: Uncharted | D21: US | E21: 21038.49 | F21: 3362 | G21: 5 | H21: 44610 | I21: ACME Film / SONY
A22: =IF(B22<>"",ROWS($B$6:B22),"") -> 17 | B22: Gerasis bosas | C22: El Buen Patrón | D22: ES | E22: 16131.02 | F22: 2507 | G22: 15 | H22: 44655 | I22: Europos kinas
A23: =IF(B23<>"",ROWS($B$6:B23),"") -> 18 | B23: Ups! Nuotykiai tęsiasi | C23: Ooops! The adventure continues | D23: DE, LU, IE | E23: 12317 | F23: 2427 | G23: 17 | H23: 44680 | I23: Garsų pasaulio įrašai
A24: =IF(B24<>"",ROWS($B$6:B24),"") -> 19 | B24: Išgyvenęs | C24: The Survivor | D24: US, CA, HU | E24: 10759 | F24: 1645 | G24: 13 | H24: 44652 | I24: Theatrical Film Distribution
A25: =IF(B25<>"",ROWS($B$6:B25),"") -> 20 | B25: Šuo | C25: Dog | D25: US | E25: 10333.35 | F25: 1640 | G25: 6 | H25: 44638 | I25: ACME Film
A26: =IF(B26<>"",ROWS($B$6:B26),"") -> 21 | B26: Dauntono Abatija 2: nauja era | C26: Downton Abbey: A New Era | D26: UK, US | E26: 9667 | F26: 1367 | G26: 16 | H26: 44680 | I26: Dukine Film Distribution / Universal Pictures
A27: =IF(B27<>"",ROWS($B$6:B27),"") -> 22 | B27: Aš esu Zlatanas | C27: Jag är Zlatan | D27: SE | E27: 8903.21 | F27: 1829 | G27: 6 | H27: 44673 | I27: Estinfilm
A28: =IF(B28<>"",ROWS($B$6:B28),"") -> 23 | B28: Viskas iškart ir visur | C28: Everything Everywhere All at Once | D28: US | E28: 6767 | F28: 1079 | G28: 17 | H28: 44680 | I28: VLG film
A29: =IF(B29<>"",ROWS($B$6:B29),"") -> 24 | B29: Kernagis | C29: Kernagis | D29: LT | E29: 5563.85 | F29: 965 | G29: 5 | H29: 44610 | I29: Kino pasaka
A30: =IF(B30<>"",ROWS($B$6:B30),"") -> 25 | B30: Mano mažasis karalius | C30: King | D30: FR, BE | E30: 5546.63 | F30: 1159 | G30: 11 | H30: 44645 | I30: ACME Film
A31: =IF(B31<>"",ROWS($B$6:B31),"") -> 26 | B31: Anetė | C31: Annette | D31: FR, DE, BE, JP, MX | E31: 5145.83 | F31: 909 | G31: 13 | H31: 44655 | I31: Europos kinas
A32: =IF(B32<>"",ROWS($B$6:B32),"") -> 27 | B32: Mėlyna kaip apelsinas žemė | C32: The Earth is Blue as an Orange | D32: LT, UA | E32: 3773.4 | F32: 674 | G32: 6 | H32: 44617 | I32: Moonmakers
A33: =IF(B33<>"",ROWS($B$6:B33),"") -> 28 | B33: Saulėlydis | C33: Sundown | D33: MX, FR, SE | E33: 3657.08 | F33: 601 | G33: 8 | H33: 44655 | I33: Europos kinas
A34: =IF(B34<>"",ROWS($B$6:B34),"") -> 29 | B34: Enkanto | C34: Encanto | D34: US | E34: 3286.11 | F34: 678 | G34: 4 | H34: 44526 | I34: Theatrical Film Distribution / WDSMPI
A35: =IF(B35<>"",ROWS($B$6:B35),"") -> 30 | B35: Laukiniai vyrai | C35: Wild men | D35: DK | E35: 2658 | F35: 533 | G35: 2 | H35: 44673 | I35: A-One Films
A36: =IF(B36<>"",ROWS($B$6:B36),"") -> 31 | B36: Herojus | C36: Ghahreman | D36: IR, FR | E36: 2590.62 | F36: 451 | G36: 9 | H36: 44655 | I36: Europos kinas
A37: =IF(B37<>"",ROWS($B$6:B37),"") -> 32 | B37: Greitoji pagalba | C37: Ambulance | D37: US | E37: 2359.9 | F37: 388 | G37: 4 | H37: 44638 | I37: Dukine Film Distribution / Universal Pictures
A38: =IF(B38<>"",ROWS($B$6:B38),"") -> 33 | B38: Fantastiniai gyvūnai ir kur juos rasti | C38: Fantastic Beasts: And Where To Find Them | D38: US, UK | E38: 2314.5 | F38: 412 | G38: 5 | H38: 42692 | I38: ACME Film / WB
A39: =IF(B39<>"",ROWS($B$6:B39),"") -> 34 | B39: Fantastiniai gyvūnai:Grindelvaldo piktadartystės | C39: Fantastic Beasts: Crimes of Grindelwald | D39: US, UK | E39: 2314.5 | F39: 412 | G39: 5 | H39: 43420 | I39: ACME Film / WB
... A46: =IF(B46<>"",ROWS($B$6:B46),"") -> 41 | B46: Drakonas ir strazdanotoji gražuolė | C46: Ryû to sobakasu no hime | D46: JP | E46: 1268.49 | F46: 248 | G46: 6 | H46: 44655 | I46: Europos kinas
A47: =IF(B47<>"",ROWS($B$6:B47),"") -> 42 | B47: Alkarasas | C47: Alcarràs | D47: ES, IT | E47: 1254.55 | F47: 237 | G47: 8 | H47: 44655 | I47: Europos kinas
A48: =IF(B48<>"",ROWS($B$6:B48),"") -> 43 | B48: Švelnūs kariai | C48: Švelnūs kariai | D48: LT | E48: 1101 | F48: 228 | G48: 2 | H48: 44526 | I48: Moonmakers
A49: =IF(B49<>"",ROWS($B$6:B49),"") -> 44 | B49: Vyras už pinigus | C49: Vyras už pinigus | D49: LT | E49: 1008.1 | F49: 143 | G49: 4 | H49: 44561 | I49: Dublis LT
A50: =IF(B50<>"",ROWS($B$6:B50),"") -> 45 | B50: Mirtis ant Nilo | C50: Death On The Nile | D50: US | E50: 971.3 | F50: 169 | G50: 4 | H50: 44603 | I50: Theatrical Film Distribution / WDSMPI
...

Sheet Gegužė
A1: ='2022'!A1 -> 2022
A2: ='2022'!A2 -> Lietuvos kino teatruose rodytų filmų TOP
A3: Gegužė
A5: Eil. Nr. | B5: Filmo pavadinimas | C5: Filmo pavadinimas originalo kalba | D5: Kilmės šalis | E5: Pajamos | F5: Žiūrovų skaičius | G5: Kopijų skaičius | H5: Premjeros data | I5: Platintojas
A6: =IF(B6<>"",ROWS($B$6:B6),"") -> 1 | B6: Daktaras Streindžas beprotybės multivisatoje | C6: Doctor Strange in the Multiverse of Madness | D6: US | E6: 369845.33 | F6: 51071 | G6: 29 | H6: 44687 | I6: Theatrical Film Distribution / WDSMPI
A7: =IF(B7<>"",ROWS($B$6:B7),"") -> 2 | B7: Asas Maverikas | C7: Top Gun Maverick | D7: US | E7: 88574.22 | F7: 11900 | G7: 19 | H7: 44708 | I7: Dukine Film Distribution / Paramount Pictures
A8: =IF(B8<>"",ROWS($B$6:B8),"") -> 3 | B8: Ežiukas Sonic 2 | C8: Sonic The Hedgehog 2 | D8: US, CA, JP | E8: 86380.98 | F8: 16571 | G8: 13 | H8: 44652 | I8: Dukine Film Distribution / Paramount Pictures
A9: =IF(B9<>"",ROWS($B$6:B9),"") -> 4 | B9: Eskortės | C9: Girls To Buy | D9: PL | E9: 60084 | F9: 11057 | G9: 11 | H9: 44673 | I9: Garsų pasaulio įrašai
A10: =IF(B10<>"",ROWS($B$6:B10),"") -> 5 | B10: Fantastiniai gyvūnai: Dumbldoro paslaptys | C10: Fantastic Beasts: The Secrets of Dumbledore | D10: US, UK | E10: 58789.45 | F10: 9250 | G10: 12 | H10: 44666 | I10: ACME Film / WB
A11: =IF(B11<>"",ROWS($B$6:B11),"") -> 6 | B11: Drugelio Širdis | C11: Drugelio Širdis | D11: LT | E11: 51383.37 | F11: 13135 | G11: 14 | H11: 44659 | I11: ACME Film
A12: =IF(B12<>"",ROWS($B$6:B12),"") -> 7 | B12: Prarastas miestas | C12: The Lost City | D12: US | E12: 40820.69 | F12: 6547 | G12: 8 | H12: 44659 | I12: Dukine Film Distribution / Paramount Pictures
A13: =IF(B13<>"",ROWS($B$6:B13),"") -> 8 | B13: Bitė Maja. Auksinis kiaušinis | C13: Maya the Bee 3: The Golden Orb | D13: DE, AT | E13: 37645 | F13: 7937 | G13: 14 | H13: 44694 | I13: Garsų pasaulio įrašai
A14: =IF(B14<>"",ROWS($B$6:B14),"") -> 9 | B14: Blogiukai | C14: Bad Guys | D14: US | E14: 34843.32 | F14: 7001 | G14: 7 | H14: 44638 | I14: Dukine Film Distribution / Universal Pictures
A15: =IF(B15<>"",ROWS($B$6:B15),"") -> 10 | B15: Raudonoji panda | C15: Turning Red | D15: US | E15: 33807.47 | F15: 6564 | G15: 10 | H15: 44631 | I15: Theatrical Film Distribution / WDSMPI
A16: =IF(B16<>"",ROWS($B$6:B16),"") -> 11 | B16: Kambarys 203 | C16: Room 203 | D16: US | E16: 30651 | F16: 5342 | G16: 15 | H16: 44701 | I16: Garsų pasaulio įrašai
A17: =IF(B17<>"",ROWS($B$6:B17),"") -> 12 | B17: Ups! Nuotykiai tęsiasi | C17: Ooops! The adventure continues | D17: DE, LU, IE | E17: 26268 | F17: 5632 | G17: 17 | H17: 44680 | I17: Garsų pasaulio įrašai
... A29: =IF(B29<>"",ROWS($B$6:B29),"") -> 24 | B29: Blogiausias žmogus pasaulyje | C29: Verdens verste menneske | D29: NO, FR, SE, DK | E29: 3702.57 | F29: 687 | G29: 5 | H29: 44655 | I29: Europos kinas
A30: =IF(B30<>"",ROWS($B$6:B30),"") -> 25 | B30: Aš esu Zlatanas | C30: Jag är Zlatan | D30: SE | E30: 3300 | F30: 658 | G30: 4 | H30: 44673 | I30: Estinfilm
A31: =IF(B31<>"",ROWS($B$6:B31),"") -> 26 | B31: Knygynas Paryžiuje | C31: A Bookshop in Paris | D31: FR, IT | E31: 3080.9 | F31: 471 | G31: 14 | H31: 44708 | I31: Best Film
A32: =IF(B32<>"",ROWS($B$6:B32),"") -> 27 | B32: Laukiniai vyrai | C32: Wild men | D32: DK | E32: 2672.5 | F32: 498 | G32: 2 | H32: 44673 | I32: A-One Films
A33: =IF(B33<>"",ROWS($B$6:B33),"") -> 28 | B33: Piligrimai | C33: Piligrimai | D33: LT | E33: 2535.25 | F33: 495 | G33: 7 | H33: 44659 | I33: Europos kinas
A34: =IF(B34<>"",ROWS($B$6:B34),"") -> 29 | B34: Murena | C34: Murina | D34: HR | E34: 2497 | F34: 502 | G34: 5 | H34: 44694 | I34: A-One Films
A35: =IF(B35<>"",ROWS($B$6:B35),"") -> 30 | B35: Tarp dviejų pasaulių | C35: Between Two Words | D35: FR | E35: 2188.14 | F35: 401 | G35: 12 | H35: 44701 | I35: Best Film
A36: =IF(B36<>"",ROWS($B$6:B36),"") -> 31 | B36: Post Mortem | C36: Post Mortem | D36: HU | E36: 2101.53 | F36: 356 | G36: 16 | H36: 44680 | I36: Theatrical Film Distribution
A37: =IF(B37<>"",ROWS($B$6:B37),"") -> 32 | B37: Šuolis | C37: Šuolis | D37: LT | E37: 1946.5 | F37: 420 | G37: 1 | H37: 44456 | I37: Moonmakers
A38: =IF(B38<>"",ROWS($B$6:B38),"") -> 33 | B38: Gerasis bosas | C38: El Buen Patrón | D38: ES | E38: 1869.95 | F38: 303 | G38: 5 | H38: 44655 | I38: Europos kinas
A39: =IF(B39<>"",ROWS($B$6:B39),"") -> 34 | B39: Kernagis | C39: Kernagis | D39: LT | E39: 1461.95 | F39: 281 | G39: 2 | H39: 44610 | I39: Kino pasaka
A40: =IF(B40<>"",ROWS($B$6:B40),"") -> 35 | B40: Menki juokai | C40: Ingenting Å Le Av | D40: NO, LT | E40: 1401.21 | F40: 260 | G40: 9 | H40: 44694 | I40: Ahil
A41: =IF(B41<>"",ROWS($B$6:B41),"") -> 36 | B41: Charlotte apie Jane | C41: Jane par Charlotte | D41: FR | E41: 1281 | F41: 264 | G41: 4 | H41: 44680 | I41: A-One Films
A42: =IF(B42<>"",ROWS($B$6:B42),"") -> 37 | B42: Nenormali | C42: Psychobitch | D42: NO | E42: 1144 | F42: 449 | G42: 1 | H42: 44680 | I42: KC Garsas
A43: =IF(B43<>"",ROWS($B$6:B43),"") -> 38 | B43: Drąsiau drąsiau | C43: C'mon C'mon | D43: US | E43: 1027.5 | F43: 320 | G43: 14 | H43: 44589 | I43: A-One Films
A44: =IF(B44<>"",ROWS($B$6:B44),"") -> 39 | B44: Mažytė mama | C44: Petite maman | D44: FR | E44: 826.5 | F44: 173 | G44: 2 | H44: 44655 | I44: Europos kinas
A45: =IF(B45<>"",ROWS($B$6:B45),"") -> 40 | B45: Ypatingieji | C45: The Specials | D45: FR | E45: 800 | F45: 160 | G45: 1 | H45: 43868 | I45: Theatrical Film Distribution
A46: =IF(B46<>"",ROWS($B$6:B46),"") -> 41 | B46: Aš niekada neverkiu | C46: Jak Najdalej Stad | D46: PL, IE | E46: 795 | F46: 159 | G46: 1 | H46: 44431 | I46: Skalvijos kino centras
A47: =IF(B47<>"",ROWS($B$6:B47),"") -> 42 | B47: Drive My Car | C47: Drive My Car | D47: JP | E47: 718.5 | F47: 136 | G47: 2 | H47: 44533 | I47: A-One Films
A48: =IF(B48<>"",ROWS($B$6:B48),"") -> 43 | B48: Pilė | C48: Les aventures de pil (Pil's Adventures) | D48: FR | E48: 686.57 | F48: 146 | G48: 1 | H48: 44533 | I48: ACME Film
A49: =IF(B49<>"",ROWS($B$6:B49),"") -> 44 | B49: Mano žmonos istorija | C49: A Feleségem Története. | D49: HU, DE, FR, IT | E49: 679.91 | F49: 141 | G49: 8 | H49: 44694 | I49: Kino Aljansas
A50: =IF(B50<>"",ROWS($B$6:B50),"") -> 45 | B50: Betmenas | C50: The Batman | D50: US | E50: 670.14 | F50: 137 | G50: 2 | H50: 44624 | I50: ACME Film / WB
A51: =IF(B51<>"",ROWS($B$6:B51),"") -> 46 | B51: Gauja | C51: Smecka | D51: CZ, SK, LV | E51: 665 | F51: 133 | G51: 1 | H51: 44330 | I51: Skalvijos kino centras
A52: =IF(B52<>"",ROWS($B$6:B52),"") -> 47 | B52: Aš esu Greta | C52: I Am Greta | D52: SE | E52: 625.5 | F52: 139 | G52: 1 | H52: 44316 | I52: Europos kinas
...

Sheet Birželis
A1: ='2022'!A1 -> 2022
A2: ='2022'!A2 -> Lietuvos kino teatruose rodytų filmų TOP
A3: Birželis
A5: Eil. Nr. | B5: Filmo pavadinimas | C5: Filmo pavadinimas originalo kalba | D5: Kilmės šalis | E5: Pajamos | F5: Žiūrovų skaičius | G5: Kopijų skaičius | H5: Premjeros data | I5: Platintojas
A6: =IF(B6<>"",ROWS($B$6:B6),"") -> 1 | B6: Jūros periodo pasaulis. Viešpatavimas | C6: Jurassic World: Dominion | D6: US | E6: 155357.74 | F6: 23948 | G6: 28 | H6: 44722 | I6: Dukine Film Distribution / Universal Pictures
A7: =IF(B7<>"",ROWS($B$6:B7),"") -> 2 | B7: Asas Maverikas | C7: Top Gun Maverick | D7: US | E7: 150772.27 | F7: 23751 | G7: 18 | H7: 44708 | I7: Dukine Film Distribution / Paramount Pictures
A8: =IF(B8<>"",ROWS($B$6:B8),"") -> 3 | B8: Kartą kaime | C8: Kartą kaime | D8: LT | E8: 82437.69 | F8: 14012 | G8: 13 | H8: 44736 | I8: Munis
A9: =IF(B9<>"",ROWS($B$6:B9),"") -> 4 | B9: Marmadukas | C9: Marmaduke | D9: US | E9: 66929.48 | F9: 15733 | G9: 16 | H9: 44715 | I9: ACME Film
A10: =IF(B10<>"",ROWS($B$6:B10),"") -> 5 | B10: Elvis | C10: Elvis | D10: US | E10: 65457.15 | F10: 9525 | G10: 17 | H10: 44736 | I10: ACME Film / WB
A11: =IF(B11<>"",ROWS($B$6:B11),"") -> 6 | B11: Šviesmetis | C11: Lightyear | D11: US | E11: 61081.2 | F11: 13904 | G11: 21 | H11: 44729 | I11: Theatrical Film Distribution / WDSMPI
A12: =IF(B12<>"",ROWS($B$6:B12),"") -> 7 | B12: Daktaras Streindžas beprotybės multivisatoje | C12: Doctor Strange in the Multiverse of Madness | D12: US | E12: 51227.3 | F12: 8455 | G12: 19 | H12: 44687 | I12: Theatrical Film Distribution / WDSMPI
A13: =IF(B13<>"",ROWS($B$6:B13),"") -> 8 | B13: Ežiukas Sonic 2 | C13: Sonic The Hedgehog 2 | D13: US, CA, JP | E13: 38075.41 | F13: 8338 | G13: 11 | H13: 44652 | I13: Dukine Film Distribution / Paramount Pictures
A14: =IF(B14<>"",ROWS($B$6:B14),"") -> 9 | B14: Blogiukai | C14: Bad Guys | D14: US | E14: 24158.29 | F14: 5506 | G14: 6 | H14: 44638 | I14: Dukine Film Distribution / Universal Pictures
A15: =IF(B15<>"",ROWS($B$6:B15),"") -> 10 | B15: Drugelio Širdis | C15: Drugelio Širdis | D15: LT | E15: 23320.64 | F15: 6743 | G15: 19 | H15: 44659 | I15: ACME Film
A16: =IF(B16<>"",ROWS($B$6:B16),"") -> 11 | B16: Juodas telefonas | C16: The Black Phone | D16: US | E16: 20808.26 | F16: 3314 | G16: 15 | H16: 44736 | I16: Dukine Film Distribution / Universal Pictures
A17: =IF(B17<>"",ROWS($B$6:B17),"") -> 12 | B17: Koatis - džiunglių drąsuolis | C17: Koati | D17: MX, US | E17: 18485.47 | F17: 4945 | G17: 19 | H17: 44708 | I17: VLG film
A18: =IF(B18<>"",ROWS($B$6:B18),"") -> 13 | B18: Pakalikai 2 | C18: Minions: The Rise of Gru | D18: US | E18: 17658.41 | F18: 3276 | G18: 12 | H18: 44743 | I18: Dukine Film Distribution / Universal Pictures
A19: =IF(B19<>"",ROWS($B$6:B19),"") -> 14 | B19: Raudonoji panda | C19: Turning Red | D19: US | E19: 15700.28 | F19: 3522 | G19: 8 | H19: 44631 | I19: Theatrical Film Distribution / WDSMPI
A20: =IF(B20<>"",ROWS($B$6:B20),"") -> 15 | B20: Kambarys 203 | C20: Room 203 | D20: US | E20: 14588 | F20: 2246 | G20: 13 | H20: 44701 | I20: Garsų pasaulio įrašai
A21: =IF(B21<>"",ROWS($B$6:B21),"") -> 16 | B21: Eskortės | C21: Girls To Buy | D21: PL | E21: 14473 | F21: 2113 | G21: 9 | H21: 44673 | I21: Garsų pasaulio įrašai
A22: =IF(B22<>"",ROWS($B$6:B22),"") -> 17 | B22: Vyrai | C22: Men | D22: UK | E22: 14061.35 | F22: 2564 | G22: 18 | H22: 44729 | I22: VLG film
A23: =IF(B23<>"",ROWS($B$6:B23),"") -> 18 | B23: Fantastiniai gyvūnai: Dumbldoro paslaptys | C23: Fantastic Beasts: The Secrets of Dumbledore | D23: US, UK | E23: 8369.54 | F23: 1381 | G23: 6 | H23: 44666 | I23: ACME Film / WB
A24: =IF(B24<>"",ROWS($B$6:B24),"") -> 19 | B24: Prarastas miestas | C24: The Lost City | D24: US | E24: 7779.38 | F24: 1269 | G24: 5 | H24: 44659 | I24: Dukine Film Distribution / Paramount Pictures
A25: =IF(B25<>"",ROWS($B$6:B25),"") -> 20 | B25: Klonas | C25: Dual | D25: US, FI | E25: 6559.87 | F25: 1225 | G25: 10 | H25: 44729 | I25: Best Film
A26: =IF(B26<>"",ROWS($B$6:B26),"") -> 21 | B26: Knygynas Paryžiuje | C26: A Bookshop in Paris | D26: FR, IT | E26: 5777.85 | F26: 1041 | G26: 15 | H26: 44708 | I26: Best Film
A27: =IF(B27<>"",ROWS($B$6:B27),"") -> 22 | B27: Bitė Maja. Auksinis kiaušinis | C27: Maya the Bee 3: The Golden Orb | D27: DE, AT | E27: 5516 | F27: 1296 | G27: 11 | H27: 44694 | I27: Garsų pasaulio įrašai
A28: =IF(B28<>"",ROWS($B$6:B28),"") -> 23 | B28: Viskas iškart ir visur | C28: Everything Everywhere All at Once | D28: US | E28: 4575.9 | F28: 800 | G28: 3 | H28: 44680 | I28: VLG film
A29: =IF(B29<>"",ROWS($B$6:B29),"") -> 24 | B29: Gerasis bosas | C29: El Buen Patrón | D29: ES | E29: 4251.52 | F29: 715 | G29: 3 | H29: 44655 | I29: Europos kinas
A30: =IF(B30<>"",ROWS($B$6:B30),"") -> 25 | B30: Vilkas ir liūtas | C30: The Wolf and The Lion | D30: FR | E30: 2864 | F30: 968 | G30: 1 | H30: 44512 | I30: Garsų pasaulio įrašai
A31: =IF(B31<>"",ROWS($B$6:B31),"") -> 26 | B31: Ką matome žiūrėdami į dangų | C31: Ras vkhedavt, rodesac cas vukurebt? | D31: GE, DE | E31: 2311.5 | F31: 480 | G31: 6 | H31: 44729 | I31: A-One Films
A32: =IF(B32<>"",ROWS($B$6:B32),"") -> 27 | B32: Ups! Nuotykiai tęsiasi | C32: Ooops! The adventure continues | D32: DE, LU, IE | E32: 2246 | F32: 526 | G32: 7 | H32: 44680 | I32: Garsų pasaulio įrašai
A33: =IF(B33<>"",ROWS($B$6:B33),"") -> 28 | B33: Blogiausias žmogus pasaulyje | C33: Verdens verste menneske | D33: NO, FR, SE, DK | E33: 2180.5 | F33: 412 | G33: 4 | H33: 44655 | I33: Europos kinas
A34: =IF(B34<>"",ROWS($B$6:B34),"") -> 29 | B34: Visos mūsų baimės | C34: Wszystkie nasze strachy | D34: PL | E34: 1497 | F34: 371 | G34: 6 | H34: 44719 | I34: A-One Films
A35: =IF(B35<>"",ROWS($B$6:B35),"") -> 30 | B35: Žaidimų aikštelė | C35: Un monde | D35: BE | E35: 1470 | F35: 521 | G35: 1 | H35: 44707 | I35: KC Garsas
A36: =IF(B36<>"",ROWS($B$6:B36),"") -> 31 | B36: Piligrimai | C36: Piligrimai | D36: LT | E36: 1277 | F36: 269 | G36: 4 | H36: 44659 | I36: Europos kinas
A37: =IF(B37<>"",ROWS($B$6:B37),"") -> 32 | B37: Į mėnulį | C37: Moonbound | D37: DE, AT | E37: 1187.76 | F37: 504 | G37: 3 | H37: 44470 | I37: ACME Film
A38: =IF(B38<>"",ROWS($B$6:B38),"") -> 33 | B38: Nenormali | C38: Psychobitch | D38: NO | E38: 1145 | F38: 450 | G38: 1 | H38: 44680 | I38: KC Garsas
A39: =IF(B39<>"",ROWS($B$6:B39),"") -> 34 | B39: Muminuko nuotykiai | C39: The Exploits of Moominpappa | D39: FI, PL | E39: 1091 | F39: 278 | G39: 5 | H39: 44715 | I39: Estinfilm
A40: =IF(B40<>"",ROWS($B$6:B40),"") -> 35 | B40: Vikingas | C40: The Northman | D40: US | E40: 980.6 | F40: 153 | G40: 2 | H40: 44666 | I40: Dukine Film Distribution / Universal Pictures
A41: =IF(B41<>"",ROWS($B$6:B41),"") -> 36 | B41: Operacija "Mincemeat" | C41: Operation Mincemeat | D41: UK, US | E41: 948.54 | F41: 146 | G41: 4 | H41: 44694 | I41: ACME Film
...

Sheet Liepa
A1: ='2022'!A1 -> 2022
A2: ='2022'!A2 -> Lietuvos kino teatruose rodytų filmų TOP
A3: Liepa
A5: Eil. Nr. | B5: Filmo pavadinimas | C5: Filmo pavadinimas originalo kalba | D5: Kilmės šalis | E5: Pajamos | F5: Žiūrovų skaičius | G5: Kopijų skaičius | H5: Premjeros data | I5: Platintojas
A6: =IF(B6<>"",ROWS($B$6:B6),"") -> 1 | B6: Pakalikai 2 | C6: Minions: The Rise of Gru | D6: US | E6: 1040620.1 | F6: 190218 | G6: 32 | H6: 44743 | I6: Dukine Film Distribution / Universal Pictures
A7: =IF(B7<>"",ROWS($B$6:B7),"") -> 2 | B7: Toras. Meilė ir griaustinis | C7: Thor: Love and Thunder | D7: US | E7: 328338.55 | F7: 45591 | G7: 29 | H7: 44750 | I7: Theatrical Film Distribution / WDSMPI
A8: =IF(B8<>"",ROWS($B$6:B8),"") -> 3 | B8: Kartą kaime | C8: Kartą kaime | D8: LT | E8: 197284.96 | F8: 29403 | G8: 13 | H8: 44736 | I8: Munis
A9: =IF(B9<>"",ROWS($B$6:B9),"") -> 4 | B9: Elvis | C9: Elvis | D9: US | E9: 146183.16 | F9: 22721 | G9: 15 | H9: 44736 | I9: ACME Film / WB
A10: =IF(B10<>"",ROWS($B$6:B10),"") -> 5 | B10: Asas Maverikas | C10: Top Gun Maverick | D10: US | E10: 83133.37 | F10: 12328 | G10: 12 | H10: 44708 | I10: Dukine Film Distribution / Paramount Pictures
A11: =IF(B11<>"",ROWS($B$6:B11),"") -> 6 | B11: Juodas telefonas | C11: The Black Phone | D11: US | E11: 64996.29 | F11: 9628 | G11: 15 | H11: 44736 | I11: Dukine Film Distribution / Universal Pictures
A12: =IF(B12<>"",ROWS($B$6:B12),"") -> 7 | B12: DC Superaugintinių lyga | C12: DC League of Super-Pets | D12: US | E12: 40058.65 | F12: 8606 | G12: 17 | H12: 44771 | I12: ACME Film / WB
A13: =IF(B13<>"",ROWS($B$6:B13),"") -> 8 | B13: Jūros periodo pasaulis. Viešpatavimas | C13: Jurassic World: Dominion | D13: US | E13: 38253.24 | F13: 6201 | G13: 12 | H13: 44722 | I13: Dukine Film Distribution / Universal Pictures
A14: =IF(B14<>"",ROWS($B$6:B14),"") -> 9 | B14: Kaip patenkinti moterį | C14: How To Please A Woman | D14: AU | E14: 35600 | F14: 5464 | G14: 15 | H14: 44750 | I14: Garsų pasaulio įrašai
A15: =IF(B15<>"",ROWS($B$6:B15),"") -> 10 | B15: Našlaitė: Pirmoji auka | C15: Orphan First Kill | D15: US | E15: 21915.78 | F15: 3114 | G15: 12 | H15: 44771 | I15: ACME Film
A16: =IF(B16<>"",ROWS($B$6:B16),"") -> 11 | B16: Šviesmetis | C16: Lightyear | D16: US | E16: 18996.79 | F16: 4151 | G16: 12 | H16: 44729 | I16: Theatrical Film Distribution / WDSMPI
A17: =IF(B17<>"",ROWS($B$6:B17),"") -> 12 | B17: Savas, svetimas, mylimas | C17: Savas, svetimas, mylimas | D17: LT | E17: 15733.76 | F17: 2468 | G17: 16 | H17: 44771 | I17: Singing fish
A18: =IF(B18<>"",ROWS($B$6:B18),"") -> 13 | B18: Ežiukas Sonic 2 | C18: Sonic The Hedgehog 2 | D18: US, CA, JP | E18: 7638.02 | F18: 1772 | G18: 5 | H18: 44652 | I18: Dukine Film Distribution / Paramount Pictures
A19: =IF(B19<>"",ROWS($B$6:B19),"") -> 14 | B19: Atostogos prancūziškai | C19: Joyeuse Retraite! 2 | D19: FR | E19: 7603 | F19: 1334 | G19: 16 | H19: 44764 | I19: Garsų pasaulio įrašai
A20: =IF(B20<>"",ROWS($B$6:B20),"") -> 15 | B20: Marmadukas | C20: Marmaduke | D20: US | E20: 6944.9 | F20: 1454 | G20: 5 | H20: 44715 | I20: ACME Film
A21: =IF(B21<>"",ROWS($B$6:B21),"") -> 16 | B21: Koatis - džiunglių drąsuolis | C21: Koati | D21: MX, US | E21: 3959.06 | F21: 1394 | G21: 2 | H21: 44708 | I21: VLG film
A22: =IF(B22<>"",ROWS($B$6:B22),"") -> 17 | B22: Ratai, taurės ir La Manča | C22: In The Bottle | D22: FR | E22: 3848.79 | F22: 633 | G22: 9 | H22: 44771 | I22: VLG film
A23: =IF(B23<>"",ROWS($B$6:B23),"") -> 18 | B23: Daktaras Streindžas beprotybės multivisatoje | C23: Doctor Strange in the Multiverse of Madness | D23: US | E23: 3531.29 | F23: 517 | G23: 4 | H23: 44687 | I23: Theatrical Film Distribution / WDSMPI
A24: =IF(B24<>"",ROWS($B$6:B24),"") -> 19 | B24: Įsimylėję gyvenimą | C24: Une vie démente | D24: BE | E24: 1832.8 | F24: 361 | G24: 4 | H24: 44757 | I24: A-One Films
A25: =IF(B25<>"",ROWS($B$6:B25),"") -> 20 | B25: Blogiausias žmogus pasaulyje | C25: Verdens verste menneske | D25: NO, FR, SE, DK | E25: 1641.2 | F25: 349 | G25: 4 | H25: 44655 | I25: Europos kinas
A26: =IF(B26<>"",ROWS($B$6:B26),"") -> 21 | B26: Blogiukai | C26: Bad Guys | D26: US | E26: 1233.81 | F26: 278 | G26: 3 | H26: 44638 | I26: Dukine Film Distribution / Universal Pictures
A27: =IF(B27<>"",ROWS($B$6:B27),"") -> 22 | B27: Viskas iškart ir visur | C27: Everything Everywhere All at Once | D27: US | E27: 1154.6 | F27: 240 | G27: 2 | H27: 44680 | I27: VLG film
A28: =IF(B28<>"",ROWS($B$6:B28),"") -> 23 | B28: Gerasis bosas | C28: El Buen Patrón | D28: ES | E28: 1037.5 | F28: 178 | G28: 2 | H28: 44655 | I28: Europos kinas
A29: =IF(B29<>"",ROWS($B$6:B29),"") -> 24 | B29: Urvas | C29: Il buco | D29: IT, FR, DE | E29: 1023.63 | F29: 251 | G29: 4 | H29: 44771 | I29: A-One Films
A30: =IF(B30<>"",ROWS($B$6:B30),"") -> 25 | B30: Drąsiau drąsiau | C30: C'mon C'mon | D30: US | E30: 912.5 | F30: 164 | G30: 1 | H30: 44589 | I30: A-One Films
A31: =IF(B31<>"",ROWS($B$6:B31),"") -> 26 | B31: Ką matome žiūrėdami į dangų | C31: Ras vkhedavt, rodesac cas vukurebt? | D31: GE, DE | E31: 852.5 | F31: 168 | G31: 1 | H31: 44729 | I31: A-One Films
A32: =IF(B32<>"",ROWS($B$6:B32),"") -> 27 | B32: Dičkis šuo Klifordas | C32: Clifford The Big Red Dog | D32: US, UK, CA | E32: 851.5 | F32: 360 | G32: 2 | H32: 44568 | I32: Dukine Film Distribution / Paramount Pictures
A33: =IF(B33<>"",ROWS($B$6:B33),"") -> 28 | B33: Tiktai žvėrys | C33: Seules les bêtes | D33: FR | E33: 810 | F33: 190 | G33: 1 | H33: 44393 | I33: A-One Films
A34: =IF(B34<>"",ROWS($B$6:B34),"") -> 29 | B34: Svajoklis Budis 2 | C34: Rock Dog 2 | D34: US | E34: 765.5 | F34: 361 | G34: 1 | H34: 44414 | I34: ACME Film
A35: =IF(B35<>"",ROWS($B$6:B35),"") -> 30 | B35: Omerta 6/12 | C35: Omerta 6/12 | D35: FI | E35: 733 | F35: 128 | G35: 4 | H35: 44757 | I35: Estinfilm
A36: =IF(B36<>"",ROWS($B$6:B36),"") -> 31 | B36: Piligrimai | C36: Piligrimai | D36: LT | E36: 725.3 | F36: 144 | G36: 3 | H36: 44659 | I36: Europos kinas
A37: =IF(B37<>"",ROWS($B$6:B37),"") -> 32 | B37: Viskas praėjo gerai | C37: Tout s'est bien passé | D37: FR | E37: 725 | F37: 142 | G37: 1 | H37: 44519 | I37: A-one Films
A38: =IF(B38<>"",ROWS($B$6:B38),"") -> 33 | B38: Dainuok 2 | C38: Sing 2 | D38: US | E38: 615 | F38: 255 | G38: 2 | H38: 44552 | I38: Dukine Film Distribution / Universal Pictures
A39: =IF(B39<>"",ROWS($B$6:B39),"") -> 34 | B39: Laukiniai vyrai | C39: Wild men | D39: DK | E39: 600 | F39: 150 | G39: 1 | H39: 44673 | I39: A-One Films
A40: =IF(B40<>"",ROWS($B$6:B40),"") -> 35 | B40: Į mėnulį | C40: Moonbound | D40: DE, AT | E40: 570.59 | F40: 215 | G40: 1 | H40: 44470 | I40: ACME Film
A41: =IF(B41<>"",ROWS($B$6:B41),"") -> 36 | B41: Mano vilkas | C41: Mystere | D41: FR | E41: 563 | F41: 225 | G41: 3 | H41: 44589 | I41: Theatrical Film Distribution
...

Sheet Rugpjūtis
A1: ='2022'!A1 -> 2022
A2: ='2022'!A2 -> Lietuvos kino teatruose rodytų filmų TOP
A3: Rugpjūtis
A5: Eil. Nr. | B5: Filmo pavadinimas | C5: Filmo pavadinimas originalo kalba | D5: Kilmės šalis | E5: Pajamos | F5: Žiūrovų skaičius | G5: Kopijų skaičius | H5: Premjeros data | I5: Platintojas
A6: =IF(B6<>"",ROWS($B$6:B6),"") -> 1 | B6: Ten, kur gieda vėžiai | C6: Where the Crawdads Sing | D6: US | E6: 286802.45 | F6: 43185 | G6: 19 | H6: 44792 | I6: ACME Film / SONY
